BEGIN:VCALENDAR
VERSION:2.0
PRODID:-//A Punto - ECPv6.15.18//NONSGML v1.0//EN
CALSCALE:GREGORIAN
METHOD:PUBLISH
X-ORIGINAL-URL:https://apuntococina.com
X-WR-CALDESC:Eventos para A Punto
REFRESH-INTERVAL;VALUE=DURATION:PT1H
X-Robots-Tag:noindex
X-PUBLISHED-TTL:PT1H
BEGIN:VTIMEZONE
TZID:Europe/Paris
BEGIN:DAYLIGHT
TZOFFSETFROM:+0100
TZOFFSETTO:+0200
TZNAME:CEST
DTSTART:20290325T010000
END:DAYLIGHT
BEGIN:STANDARD
TZOFFSETFROM:+0200
TZOFFSETTO:+0100
TZNAME:CET
DTSTART:20291028T010000
END:STANDARD
BEGIN:DAYLIGHT
TZOFFSETFROM:+0100
TZOFFSETTO:+0200
TZNAME:CEST
DTSTART:20300331T010000
END:DAYLIGHT
BEGIN:STANDARD
TZOFFSETFROM:+0200
TZOFFSETTO:+0100
TZNAME:CET
DTSTART:20301027T010000
END:STANDARD
BEGIN:DAYLIGHT
TZOFFSETFROM:+0100
TZOFFSETTO:+0200
TZNAME:CEST
DTSTART:20310330T010000
END:DAYLIGHT
BEGIN:STANDARD
TZOFFSETFROM:+0200
TZOFFSETTO:+0100
TZNAME:CET
DTSTART:20311026T010000
END:STANDARD
END:VTIMEZONE
BEGIN:VEVENT
DTSTART;TZID=Europe/Paris:20300616T080000
DTEND;TZID=Europe/Paris:20300616T080000
DTSTAMP:20260425T122105
CREATED:20230616T145957Z
LAST-MODIFIED:20260219T164546Z
UID:102661-1907827200-1907827200@apuntococina.com
SUMMARY:Curso online cocina mexicana
DESCRIPTION:Curso online cocina mexicana\nUn curso completo sobre la cocina tradicional mexicana impartido por la chef y comunicadora\, Rita Sánchez. \n \nEste curso es 100% on line y en él encontrarás: \n\nTema 1. El Guacamole\nIntroducción a la historia de la receta del guacamole\nCómo comprar buenos aguacates\nIngredientes básicos\nEl guacamole tradicional y su versión de modernidad\nEl guacamole de Michoacán\nTema 2. Tipos de Chiles\nBreve introducción a los chiles mexicanos\nTema 3. Salsas\nIntroducción a las salsas\nEl comal\nLa salsa para bocoles\nLa salsa Milpero\nSalsa de tomatillo\nSalsa con xoconostle\nTema 4. Tortillas\nTortillas mexicanas\nTortillas ceremoniales\nTema 5. Quesadillas\nCocinar\, conservar y las salsas para quesadillas\nQuesadilla de Champiñón\nQuesadilla de huitlacoche\nTema 6. Guachile de Chihuahua\nTema 7. Los antojitos\nTema 8. Pescado de talla\nTema 9. El Mole poblano\nTema 10. Cochinita pibil\nTema 11. Tinga Poblana\nTema 12. Enchiladas\nTema 13. Chile en nogada\n\n\n\n\n\n\n\n\n\n\n\nSi te ha gustado el curso online de cocina mexicana y quieres saber más sobre la escuela online de A PUNTO\, pincha sobre este enlace y comienza a formar parte.
URL:https://apuntococina.com/cursodecocina/curso-online-cocina-mexicana/
LOCATION:CURSO ONLINE
CATEGORIES:Cursos cocina del mundo,Cursos de cocina online,Cursos intensivos
ATTACH;FMTTYPE=image/jpeg:https://apuntococina.com/wp-content/uploads/2022/04/Sin-titulo_1.66.1.jpg
END:VEVENT
END:VCALENDAR