BEGIN:VCALENDAR
VERSION:2.0
PRODID:-//A Punto - ECPv6.15.18//NONSGML v1.0//EN
CALSCALE:GREGORIAN
METHOD:PUBLISH
X-ORIGINAL-URL:https://apuntococina.com
X-WR-CALDESC:Eventos para A Punto
REFRESH-INTERVAL;VALUE=DURATION:PT1H
X-Robots-Tag:noindex
X-PUBLISHED-TTL:PT1H
BEGIN:VTIMEZONE
TZID:Europe/Paris
BEGIN:DAYLIGHT
TZOFFSETFROM:+0100
TZOFFSETTO:+0200
TZNAME:CEST
DTSTART:20250330T010000
END:DAYLIGHT
BEGIN:STANDARD
TZOFFSETFROM:+0200
TZOFFSETTO:+0100
TZNAME:CET
DTSTART:20251026T010000
END:STANDARD
BEGIN:DAYLIGHT
TZOFFSETFROM:+0100
TZOFFSETTO:+0200
TZNAME:CEST
DTSTART:20260329T010000
END:DAYLIGHT
BEGIN:STANDARD
TZOFFSETFROM:+0200
TZOFFSETTO:+0100
TZNAME:CET
DTSTART:20261025T010000
END:STANDARD
BEGIN:DAYLIGHT
TZOFFSETFROM:+0100
TZOFFSETTO:+0200
TZNAME:CEST
DTSTART:20270328T010000
END:DAYLIGHT
BEGIN:STANDARD
TZOFFSETFROM:+0200
TZOFFSETTO:+0100
TZNAME:CET
DTSTART:20271031T010000
END:STANDARD
END:VTIMEZONE
BEGIN:VEVENT
DTSTART;TZID=Europe/Paris:20260905T113000
DTEND;TZID=Europe/Paris:20260905T140000
DTSTAMP:20260423T122728
CREATED:20220421T153056Z
LAST-MODIFIED:20260406T153849Z
UID:93428-1788607800-1788616800@apuntococina.com
SUMMARY:Curso de  sushi 5/9/26
DESCRIPTION:En este curso de sushi vamos a aprender sobre la fusión entre la cultura gastronómica  japonesa. \n\n  \n¿QUÉ PREPARAREMOS? \nLavado\, aliño y Cocción del arroz para sushi\nCorte de pescados : atún\, salmón\, pez mantequilla ( según disponibilidad del mercado)\nMakis\, uramakis: los rolls con su alga por dentro o por fuera\nGunkan de tartar de atún especiado\nNiguiris: el pescado en su máxima esencia\nNori maki tempurizado de langostinos con aguacate\n  \nLa influencia de la cocina japonesa en los platos tradicionales de Perú tiene raíces en los principios del 1900 con la llegada de inmigrantes japoneses a las costas de Perú y ha dado pie a una mezcla de tradiciones de lo más original. \nEn este curso de sushi  aprenderemos a preparar la base de arroz de sushi con su aliño pero iremos mucho más allá. \nUtilizaremos ajíes\, salsa típicas peruanas como la huancaína\, haremos tempura de un maki ya preparado para darle una textura más crujiente\, aprenderemos a combinar un típico ceviche con los aliños de arroz japonés \nNo te pierdas nuestro canal de youtube con curiosidades sobre las cocinas del mundo  \nNo olvides que todos nuestros cursos presenciales son totalmente participativos y podrás aprender de manera práctica todas las recetas. \nTambién puedes regalar cursos de cocina aquí  \nCurso de Cocina en Madrid: Aprende a Preparar Deliciosos Platos de Cocina sushi \nSi estás buscando un curso de cocina en Madrid que te permita aprender las técnicas culinarias más innovadoras y deliciosas\, un curso de cocina sushi en Madrid es la opción ideal para ti. La cocina de sushi\, una fusión de la tradición culinaria japonesa con la riqueza de los sabores peruanos\, ha ganado popularidad en los últimos años debido a su creatividad y sabor único. A lo largo de este curso\, aprenderás a preparar una serie de platos emblemáticos que combinan lo mejor de ambas culturas\, como el sushi\, los niguiris\, los makis y mucho más. \nEn este artículo te contaremos sobre algunos de los platos que aprenderás a preparar en un curso de cocina sushi en Madrid\, además de explicarte con detalle cómo se elaboran algunos de los ingredientes clave\, como el arroz de sushi\, y cómo darle ese toque especial que caracteriza a la cocina sushi. No importa si eres principiante o un cocinero experimentado\, este curso de cocina te ofrece la oportunidad de dominar técnicas que mejorarán tu habilidad en la cocina y te permitirán sorprender a tus invitados con platos llenos de sabor y creatividad. \n  \n1. Elaboración de Arroz de Sushi: Lavado\, Cocción\, Enfriado y Aliño\nEl arroz de sushi es uno de los pilares de la cocina japonesa y\, por lo tanto\, es esencial aprender a prepararlo correctamente. Durante el curso\, aprenderás cómo lavar el arroz de sushi para eliminar el exceso de almidón\, lo cual es clave para obtener una textura perfecta. El arroz se debe cocer a fuego lento y\, una vez cocido\, se debe enfriar de manera adecuada para evitar que se vuelva pegajoso. \nEl aliño del arroz es lo que le da ese sabor característico y ligeramente ácido que lo hace perfecto para acompañar sushi\, niguiris y makis. El aliño se prepara con vinagre de arroz\, azúcar y sal\, y se mezcla con el arroz enfriado en un proceso que requiere paciencia y cuidado para lograr el equilibrio perfecto entre los ingredientes. \n  \nConclusión\nSi estás interesado en aprender los secretos de la cocina sushi\, un curso de cocina en Madrid es la mejor opción para empezar. Con la ayuda de chefs experimentados\, podrás dominar las técnicas de preparación de platos \nNo importa si eres un amante de la cocina japonesa\, peruana o simplemente quieres explorar nuevas fusiones gastronómicas\, este curso te brindará las herramientas necesarias para sorprender a tus amigos y familiares con platos deliciosos y creativos. ¡No dudes en inscribirte en un curso de cocina sushi en Madrid y empieza tu aventura culinaria hoy mismo!
URL:https://apuntococina.com/cursodecocina/curso-sushi-nikkei/
LOCATION:A Punto CHUECA\, Calle Farmacia 6\, Madrid\, 28004
CATEGORIES:Cursos cocina del mundo,Cursos de cocina asiatica
ATTACH;FMTTYPE=image/jpeg:https://apuntococina.com/wp-content/uploads/2020/01/PERUANA-TIRADITO.jpg
END:VEVENT
BEGIN:VEVENT
DTSTART;TZID=Europe/Paris:20260912T113000
DTEND;TZID=Europe/Paris:20260912T140000
DTSTAMP:20260423T122728
CREATED:20190612T120341Z
LAST-MODIFIED:20260406T111653Z
UID:87612-1789212600-1789221600@apuntococina.com
SUMMARY:Curso de arroces de días de fiesta 12/09/26
DESCRIPTION:Curso de arroces en A Punto. Estamos en el centro de Madrid. \n¿Qué prepararemos? \nArroz de chipirones y sobrasada\nRisotto de peras\, queso azúl y jamón\nArroz en paella de presa ibérica con costillas de cerdo\nali oli tradicional\n \nEl alioli es una salsa tan mediterránea como el mar\, y se utiliza en la cocina de nuestro país desde\, nada más y nada menos\, que el siglo X. Con una paella\, un arroz negro\, arroz a banda o fideuá no puede faltar. Aunque combina perfectamente también con el pollo\, el conejo o el cordero\, y pescados como la sepia o el calamar. Con verduras asadas\, patatas… o en vinagreta para una ensalada. \nEn Francia al alioli lo llaman  le grand aöli y en Italia\, aglio oglio\, y es una de las salsas más antiguas que existen. De hecho\, era muy popular a lo largo y ancho del Imperio Romano. Por ello\, en nuestro curso de arroces ocupa un papel fundamental.  \nEn A Punto\, todos nuestros cursos son totalmente prácticos\, y para todos los niveles. Además los grupos son reducidos para que te puedan atender de la forma más personal posible. Y ese día\, recuerda que tienes un 5% de descuento en nuestra tienda. \n 
URL:https://apuntococina.com/cursodecocina/curso-de-arroces-2/
LOCATION:A Punto CHUECA\, Calle Farmacia 6\, Madrid\, 28004
CATEGORIES:Cursos de arroces
ATTACH;FMTTYPE=image/jpeg:https://apuntococina.com/wp-content/uploads/2019/06/50-tapas-245-scaled.jpg
END:VEVENT
BEGIN:VEVENT
DTSTART;TZID=Europe/Paris:20260913T113000
DTEND;TZID=Europe/Paris:20260913T140000
DTSTAMP:20260423T122728
CREATED:20190525T140643Z
LAST-MODIFIED:20260308T141303Z
UID:59716-1789299000-1789308000@apuntococina.com
SUMMARY:Curso de panadería 13/9/26
DESCRIPTION:Curso de panadería en Madrid centro \nEn todos nuestros cursos de panadería solemos trabajar con masas que ya han fermentado y empezamos con los alumnos nuevas masas. De esta manera nos da tiempo en las 2.30 horas de duración del curso\, a ver todos los pasos de preparación de los panes \n¿Qué prepararemos? \n  \nPanecillos sin amasado con autólisis\nPan en cazuela\nBagels\nMasa madre desde cero y podrás llevarte a casa nuestra masa madre que solo tendrás que alimentar\n  \nEl milagro diario de hornear una masa elaborada a base harina de cereales\, sal y agua con levaduras para que fermente y le conceda esponjosidad y ternura ¿Existe algo más básico y esencial y al mismo tiempo más sencillo y cotidiano que el pan? \nTrigo\, centeno\, cebada\, maíz\, arroz\, pero también especias\, frutas\, pasas\, verduras\, semillas\, y huevos y azúcar y aceite y mantequilla. El milagro del pan elaborado con nuestras propias manos en nuestra propia cocina. \nEste curso básico de pan\, se destina a los que quieran comenzar a hacer panes en casa. Aquí descubrirán los primeros secretos para trabajar con la masa y conseguir resultados óptimos\, explicaremos cómo hacer masa madre en casa y saldrán con un buen pan directo a casa. Porque desde la simple hogaza hasta el Sandwich mixto\, el pan es esencial. \nDisfruta del curso de panadería en Madrid centro en nuestra escuela de cocina\, A Punto. \n\n\n \nSi queréis visitar algunas de las mejores panaderías de España\, esta guía está recién salida del horno.
URL:https://apuntococina.com/cursodecocina/curso-de-panaderia-en-madrid-centro/
LOCATION:A Punto Madrid Centro\, Calle farmacia 6\, Madrid\, 28004\, España
CATEGORIES:Cursos de pan
ATTACH;FMTTYPE=image/jpeg:https://apuntococina.com/wp-content/uploads/2019/04/PAN-CAZUELA.jpg
END:VEVENT
BEGIN:VEVENT
DTSTART;TZID=Europe/Paris:20260918T193000
DTEND;TZID=Europe/Paris:20260918T220000
DTSTAMP:20260423T122728
CREATED:20190416T110226Z
LAST-MODIFIED:20260313T180209Z
UID:58232-1789759800-1789768800@apuntococina.com
SUMMARY:Curso de cocina molecular  18/9/26
DESCRIPTION:¿Qué técnicas usaremos en este curso de cocina molecular? \n  \nSalmorejo. Globo de tomate relleno de espuma de salmorejo y jamón con tierra de almendras y mini verduras. Nitrógeno\, espumas y deshidratados \nVacío a baja temperatura con espuma de puré de patata y caviar de pimientos del piquillo \nBizcocho y Rocas de tarta de queso idiazabal con aire de frutos rojos. \nGelatina de vermú con esferas de aceituna \n  \nLa cuchara colador\, el gran cambio. Así comenzó la era de las esferificaciones. Aprenderemos técnica\, elaboración y aplicación en la cocina de esferificación directa e inversa. Podrás adquirir en nuestra tienda productos como el alginato \nEl sifón. La introducción del sifón en las cocinas profesionales fue toda una revolución. Sacamos el máximo provecho de este ‘ya’ cotidiano de nuestras cocinas y lo aplicamos en la cocina salada. \nGelatinas \nArenas  \n  \n \nSe trata de un curso muy completo de iniciación a la cocina molecular que está tan de moda en los restaurantes con estrella Michelin. Muchos nos preguntamos por qué razón este tipo de restaurantes son tan caros: en este curso verás lo que se tarda en conseguir la esferificación perfecta\, el cuidado que hay que tener a la hora de mezclar ingredientes y la importancia de los emplatados. \nNo dudes en preguntarnos por libros que te puedan interesar sobre estos temas\, no hay una literatura muy extensa pero podemos recomendarte Recetas de cocina molecular \nSi quieres empezar a practicar\, aquí la receta de nuestro mojito molecular     porque el mundo de la coctelería contemporanea está empezando también a usar estas nuevas técnicas. \nNo te asustes: la cocina molecular es un juego de cantidadas y sabores que te servirá mucho para sorprender a tus invitados y para añadir sabor a platos tradicionales. \nQuién es el padre de la cuchara perforada para esferificaciones? En la alta cocina se le atribuye a Ferràn Adría el merito de crear esta nueva manera de disfrutar de la cocina: cambiar las texturas sin alterar los sabores\, ese es el gran reto de la cocina molecular \n  \n 
URL:https://apuntococina.com/cursodecocina/curso-de-cocina-molecular/
LOCATION:A Punto CHUECA\, Calle Farmacia 6\, Madrid\, 28004
CATEGORIES:Cursos de nuevas técnicas
ATTACH;FMTTYPE=image/jpeg:https://apuntococina.com/wp-content/uploads/2019/03/COCTELERIA-MOLECULAR-MIGUEL-ANGEL-MATEOS-158.jpg
END:VEVENT
BEGIN:VEVENT
DTSTART;TZID=Europe/Paris:20260920T110000
DTEND;TZID=Europe/Paris:20260920T140000
DTSTAMP:20260423T122728
CREATED:20241219T175331Z
LAST-MODIFIED:20260413T133209Z
UID:115775-1789902000-1789912800@apuntococina.com
SUMMARY:Curso de cocina coreana 20/9/26
DESCRIPTION:La cocina coreana es un viaje de sabores intensos\, texturas complejas y una tradición gastronómica rica que ha cautivado a paladares de todo el mundo. Entre sus platos más representativos se encuentran el Bibimbap\, la sopa de dumplings de cerdo\, el tartar de atún con pasta de soja picante gochujang\, las alitas de pollo en tempura coreana y el helado de sésamo negro. Cada uno de estos platos ofrece una experiencia única que refleja la fusión de lo moderno y lo tradicional\, una característica distintiva de la gastronomía de Corea del Sur. \n  \nPrepararemos \nBulgogi\nSopa de dumplings de cerdo\nTartar de atún con pasta de soja picante gochujang\nAlitas de pollo en tempura coreana\n  \nHelado de sésamo negro\n  \n  \nBibimbap: un festín de colores y sabores\nEl Bibimbap es uno de los platos más emblemáticos de la cocina coreana\, conocido por su presentación vibrante y su equilibrio de sabores. Su nombre proviene de la palabra «bibim»\, que significa mezclar\, y «bap»\, que se refiere al arroz. Este plato es un verdadero festín visual y gustativo\, ya que combina arroz blanco cocido con una variedad de ingredientes frescos y salteados\, como vegetales\, carne (generalmente carne de res o pollo)\, un huevo frito y\, por supuesto\, la icónica pasta de chile picante llamada gochujang. \nEl Bibimbap puede presentarse de diferentes formas\, dependiendo de la región o la ocasión. La versión más tradicional se sirve en un tazón de piedra caliente\, conocido como «dolsot bibimbap». Este recipiente no solo añade un toque rústico al plato\, sino que permite que el arroz se dore en el fondo\, creando una capa crujiente que es muy apreciada por los comensales. Los ingredientes del Bibimbap varían\, pero los más comunes son zanahorias\, espinacas\, brotes de soja\, pepino y setas\, que se saltean con aceite de sésamo para aportar un sabor profundo y umami. \nSopa de dumplings de cerdo: un abrazo reconfortante\nLa sopa de dumplings de cerdo es otro clásico de la cocina coreana que se sirve tradicionalmente en días fríos o cuando se necesita algo reconfortante. Los dumplings\, conocidos como «mandu»\, son pequeños paquetes de masa rellenos de una mezcla sabrosa de carne de cerdo\, repollo\, cebollín\, ajo y otros condimentos. Estos dumplings se cocinan en un caldo claro y sabroso\, que a menudo está enriquecido con caldo de hueso de cerdo o pollo\, y se sazona con sal\, salsa de soja y pimienta blanca. \nLa sopa de dumplings es un plato que refleja la calidez y el cuidado de la cocina casera coreana. Los dumplings\, con su envoltura tierna y su relleno jugoso\, son un contraste perfecto con el caldo cálido y reconfortante. Los trozos de cerdo en el caldo se deshacen en la boca\, y cada bocado de los dumplings es una explosión de sabor. Este plato es perfecto para disfrutar en familia\, ya que\, al igual que muchas sopas coreanas\, tiene la capacidad de reunir a las personas alrededor de la mesa. Se sirve típicamente con arroz blanco y\, a veces\, con kimchi\, el famoso encurtido de vegetales fermentados que añade un toque ácido y picante al plato. \nLa sopa de dumplings es más que una simple comida; es un recordatorio de la importancia de las comidas compartidas en la cultura coreana. Además\, como muchas sopas coreanas\, se adapta a los gustos de cada comensal\, con la posibilidad de ajustar el nivel de sal o añadir más salsa de soja o gochugaru (copos de chile rojo) para intensificar el sabor. \nTartar de atún con pasta de soja picante gochujang: la frescura del mar con un toque picante\nEl tartar de atún con pasta de soja picante gochujang es un plato moderno y fresco que fusiona ingredientes tradicionales coreanos con técnicas culinarias internacionales. El atún crudo\, cortado en pequeños cubos\, es la base del tartar\, que se adereza con una mezcla de gochujang\, salsa de soja\, aceite de sésamo y un toque de azúcar. Esta mezcla crea una salsa picante y salada que resalta el sabor natural y fresco del pescado crudo. \nEl tartar se sirve generalmente sobre una cama de arroz blanco o con hojas de lechuga fresca\, que aportan una textura crujiente y un contraste refrescante al picante de la salsa. A menudo\, se adorna con cebollín picado\, semillas de sésamo y un toque de aceite de sésamo para añadir profundidad al sabor. Este plato es ideal como aperitivo o entrante en una comida\, ya que su sabor fresco y vibrante abre el apetito. \nEl uso del gochujang en este tartar le da una dimensión única al plato. La pasta de chile\, con su dulzura y picante moderado\, combina perfectamente con la suavidad del atún\, creando una experiencia de sabor equilibrada y emocionante. Es un excelente ejemplo de cómo la cocina coreana puede adaptarse a los gustos modernos sin perder su identidad. \nAlitas de pollo en tempura coreana: crujientes y jugosas a la vez\nLas alitas de pollo en tempura coreana son un platillo que ha ganado popularidad en muchas partes del mundo\, debido a su combinación irresistible de crujiente y jugoso. Las alitas de pollo se rebozan en una masa ligera de tempura y se fríen hasta obtener un dorado perfecto y una textura crujiente. Sin embargo\, lo que distingue a las alitas coreanas es la salsa en la que se bañan después de ser fritas. \nLa salsa\, generalmente a base de gochujang\, miel\, vinagre y ajo\, es dulce\, picante y ligeramente ácida. Esta combinación de sabores es lo que convierte a las alitas coreanas en una experiencia única. La capa exterior crujiente se impregna con la salsa\, lo que les da una capa jugosa y pegajosa que contrasta maravillosamente con la textura crujiente del rebozado. Las alitas se sirven calientes\, a menudo espolvoreadas con semillas de sésamo tostadas y cebollín picado. \nEl plato es perfecto para compartir\, y su sabor audaz hace que sea un excelente acompañante de cervezas o soju\, la bebida alcohólica tradicional coreana. Las alitas de pollo en tempura coreana son un ejemplo claro de cómo los ingredientes tradicionales pueden ser reinterpretados para crear algo completamente nuevo y sabroso. \nHelado de sésamo negro: un postre único y sofisticado\nEl helado de sésamo negro es un postre único que se ha hecho cada vez más popular fuera de Corea. Este helado tiene un sabor profundo y tostado\, gracias al uso de sésamo negro molido\, un ingrediente que se utiliza comúnmente en la repostería coreana. El sésamo negro tiene un sabor más robusto y terroso en comparación con el sésamo blanco\, y su incorporación en un helado crea una textura cremosa con un toque de amargor. \nEl helado de sésamo negro no es demasiado dulce\, lo que lo convierte en un postre ideal para aquellos que prefieren sabores menos empalagosos. Su color oscuro y su sabor complejo hacen de este helado una experiencia sensorial única. A menudo se sirve con un toque de miel o un pequeño adorno de sésamo tostado para añadir un toque crujiente. \nEste postre refleja la habilidad de la cocina coreana para crear sabores complejos que no solo son agradables al paladar\, sino también visualmente impresionantes. El helado de sésamo negro es la manera perfecta de cerrar una comida coreana\, ofreciendo un contraste refrescante y suave después de los sabores intensos de los platos principales. \n 
URL:https://apuntococina.com/cursodecocina/curso-de-cocina-coreana-23-1-25/
LOCATION:A Punto CHUECA\, Calle Farmacia 6\, Madrid\, 28004
CATEGORIES:Cursos cocina del mundo,Cursos de cocina asiatica
ATTACH;FMTTYPE=image/jpeg:https://apuntococina.com/wp-content/uploads/2020/01/coreamesa-scaled.jpg
END:VEVENT
BEGIN:VEVENT
DTSTART;TZID=Europe/Paris:20260925T193000
DTEND;TZID=Europe/Paris:20260925T220000
DTSTAMP:20260423T122728
CREATED:20200129T100144Z
LAST-MODIFIED:20260314T125229Z
UID:66902-1790364600-1790373600@apuntococina.com
SUMMARY:Curso de cocina vegetariana del mundo 25/9/26
DESCRIPTION:Curso de cocina vegetariana del mundo en Madrid centro para aprender a trabajar con verduras\, legumbres\, frutos secos y más alimentos del todo vegetarianos sin renunciar a las especias\, los picantes y fermentados que nos ofrecen las cocinas de todo el mundo \n  \nPrepararemos en el curso de cocina vegetariana del mundo \nHamburguesa de quinoa con salsa tzaziki \nRaiz de loto estofada al curry rojo ( haremos la pasta de curry desde cero) con arroz al microondas\nTacos al pastor de jackfruit\nCanelon de aguacate relleno de tartar de tomate\,  gel de lima y aceitunas deshidratadas\nEl libro más completo sobre el tema de fermentados si te apasiona el kimchi\, lo podrás encontrar aquí  \nQuieres saber más sobre el mundo vegetal? Aquí uno de nuestros videos \nLa soja texturizada se suele usar como trampantojo de la carne picada ya que tiene exactamente la misma textura y apariencia. El mundo de la cocina vegetariana ya está cada vez más adaptado a los gustos y\, con la ayuda de especias y productos como tofu\, seitan\, soja los aportes de proteína son casi los mismos que si hubiera proteína animal en tu dieta. \n  \n 
URL:https://apuntococina.com/cursodecocina/curso-cocina-vegetariana-mundo/
LOCATION:A Punto CHUECA\, Calle Farmacia 6\, Madrid\, 28004
CATEGORIES:Cursos de cocina vegetariana y vegana
ATTACH;FMTTYPE=image/jpeg:https://apuntococina.com/wp-content/uploads/2020/01/curso-de-cocina-vegetariana-en-madrid-centro.jpg
END:VEVENT
BEGIN:VEVENT
DTSTART;TZID=Europe/Paris:20260926T113000
DTEND;TZID=Europe/Paris:20260926T140000
DTSTAMP:20260423T122728
CREATED:20190412T093039Z
LAST-MODIFIED:20260421T115420Z
UID:57830-1790422200-1790431200@apuntococina.com
SUMMARY:Curso de cocina india con especias 26/9/26
DESCRIPTION:Curso de cocina india: pasión por las especias\nEntre otras cosas\, aprenderás sobre el vindaloo: un curry muy típico de la zona de Goa\, de origen portugués. En principio era a base de vino y ajo\, pero al llegar al resto de la India\, se le fueron añadiendo chiles y especias. De eso y más\, vas a conocer en este curso de cocina india con especias. \n¿Qué vamos a preparar?\n\n\nPakora de verduras\nSalsa Raita\nPollo Tikka Masala\nMalai Chingri (langostinos al curry con leche de coco)\nPan Naan\nArroz Basmati\n\n\nConoce a Anamika\, la chef de cocina india en A Punto\n\nSi no puedes venir a nuestros cursos presenciales\,  echa un vistazo a los  curso de cocina online
URL:https://apuntococina.com/cursodecocina/curso-de-cocina-con-especias-pasion-por-los-chiles/
LOCATION:A Punto CHUECA\, Calle Farmacia 6\, Madrid\, 28004
CATEGORIES:Cursos cocina del mundo,Cursos de cocina asiatica
ATTACH;FMTTYPE=image/png:https://apuntococina.com/wp-content/uploads/2019/04/Curso-de-cocina-con-especias-pasión-por-el-chile.png
END:VEVENT
BEGIN:VEVENT
DTSTART;TZID=Europe/Paris:20260926T160000
DTEND;TZID=Europe/Paris:20260926T183000
DTSTAMP:20260423T122728
CREATED:20190502T070311Z
LAST-MODIFIED:20260413T125659Z
UID:57794-1790438400-1790447400@apuntococina.com
SUMMARY:Curso de bollería hojaldrada 26/9/26
DESCRIPTION:Curso de bollería hojaldrada en A Punto. Estamos en el centro de Madrid\, en pleno corazón de Chueca. Todos nuestros cursos son totalmente prácticos\, para que todos aprendáis a cocinar como debe hacerse: cocinando. \n¿QUÉ PREPAREMOS? \nPrimero aprenderemos a hacer la MASA DE BOLLERÍA HOJALDRADA  y después haremos: \nCROISSANT  rellenos de crema \nNAPOLITANAS de chocolate \nCREMA pastelera \nGANACHE  de chocolate \nEl hojaldre es una masa crujiente que llegó a Europa gracias a los árabes\, aunque su origen ya se encuentra en Grecia y Roma. \nAunque el término hojaldre se suele utilizar para denominar a la variedad seca y crujiente\, hay muchas masas hojaldradas que se emplean\, por ejemplo\, para elaborar cruasanes\, palmeras u otro tipo de bollería. \nEl cruasán viene del francés «croissant»\, que significa «creciente»\, por su forma de luna en estado creciente. La receta original no es francesa\, sino que procede de Austria\, pero fueron los franceses los que le dieron esa textura hojaldrada que ahora se utiliza en todos lados. En perú\, Chile\, Venezuela y Ecuador se conocen como «cachitos». En Colombia se les llama «croasán» y en Argentina y Uruguay se les conoce como medialunas. Y en otros países de Latinoamérica se les llama «cangrejitos» o «cuernitos».  \nCurso de Bollería Hojaldrada: Descubre el Arte de la Pastelería \nLa bollería hojaldrada es una de las delicias más apreciadas en la pastelería. Su textura crujiente y su sabor irresistible la convierten en un favorito tanto para el desayuno como para la merienda. Si alguna vez has soñado con aprender a hacer croissants\, napolitanas y otros deliciosos pasteles\, un curso de bollería hojaldrada es la oportunidad perfecta para ti. En este artículo\, exploraremos la diferencia entre hojaldre y bollería hojaldrada\, y te presentaremos los deliciosos platos que aprenderás a preparar en este curso. ¿Qué es el Hojaldre? \nEl hojaldre es una masa que se elabora a partir de harina\, agua y mantequilla\, y se caracteriza por su técnica de laminado. Este proceso consiste en alternar capas de masa y mantequilla\, lo que resulta en una textura ligera y crujiente. El hojaldre se utiliza en una variedad de preparaciones\, desde tartas hasta empanadas\, y es la base de muchos postres y platos salados. \nProceso de Elaboración del Hojaldre \nEl proceso de hacer hojaldre es laborioso y requiere paciencia. Primero\, se prepara una masa básica que se deja reposar. Luego\, se incorpora la mantequilla en una técnica conocida como «tourage»\, donde se pliega y se extiende la masa varias veces para crear capas. Este proceso puede llevar tiempo\, pero el resultado final vale la pena: una masa que se infla y se vuelve crujiente al hornearse. \n¿Qué es la Bollería Hojaldrada? \nLa bollería hojaldrada\, por otro lado\, es un término que se refiere a productos de pastelería que utilizan la masa de hojaldre como base\, pero que a menudo incluyen otros ingredientes y técnicas para crear un producto final más dulce y elaborado. La bollería hojaldrada incluye una variedad de productos como croissants\, napolitanas y otros pasteles rellenos. \nDiferencias entre Hojaldre y Bollería Hojaldrada \nLa principal diferencia entre el hojaldre y la bollería hojaldrada radica en su uso y en los ingredientes adicionales que se incorporan. Mientras que el hojaldre se refiere a la masa en sí\, la bollería hojaldrada se refiere a los productos finales que se elaboran con esa masa\, a menudo añadiendo rellenos\, coberturas y otros elementos que aportan sabor y textura. \nCurso de Bollería Hojaldrada: Lo Que Aprenderás \nEn un curso de bollería hojaldrada\, aprenderás a hacer la masa de bollería hojaldrada desde cero\, así como a preparar una variedad de deliciosos productos. A continuación\, te presentamos los platos que aprenderás a hacer en este curso: \n1. Masa de Bollería Hojaldrada que preparamos en el curso de bollería hojaldrada \nEl primer paso en el curso de bollería hojaldrada es aprender a hacer la masa de bollería hojaldrada. Esta masa es la base para todos los productos que prepararás. Aprenderás a mezclar los ingredientes correctamente\, a amasar y a realizar el proceso de laminado para crear las capas que caracterizan a la bollería hojaldrada. La técnica de laminado es crucial\, ya que es lo que le dará a tus productos esa textura ligera y crujiente. \n2. Croissants Rellenos de Crema \nUno de los productos más emblemáticos de la bollería hojaldrada son los croissants. En el curso de bollería hojaldrada \, aprenderás a dar forma a los croissants y a rellenarlos con una deliciosa crema.
URL:https://apuntococina.com/cursodecocina/curso-de-bolleria-hojaldrada/
LOCATION:A Punto CHUECA\, Calle Farmacia 6\, Madrid\, 28004
CATEGORIES:Cursos de repostería
ATTACH;FMTTYPE=image/png:https://apuntococina.com/wp-content/uploads/2019/04/Curso-de-bollería-hojaldrada-A-Punto.png
END:VEVENT
BEGIN:VEVENT
DTSTART;TZID=Europe/Paris:20260927T113000
DTEND;TZID=Europe/Paris:20260927T140000
DTSTAMP:20260423T122728
CREATED:20190411T113925Z
LAST-MODIFIED:20260410T121710Z
UID:57686-1790508600-1790517600@apuntococina.com
SUMMARY:Curso de cocina: arroces con sabor mediterráneo 27/09/26
DESCRIPTION:Curso de cocina: arroces con sabor mediterráneo\nLa paella es\, quizás\, el plato más emblemático de la cocina española. En este curso aprenderás todos los secretos para preparar una paella perfecta\, desde la selección de ingredientes hasta la técnica de cocción. \nTambién te enseñaremos a hacer un buen risotto\, con una combinación perfecta de sabores y texturas. En nuestra versión\, la calabaza aporta un toque dulce y una textura suave al risotto\, mientras que el crujiente de panceta agrega un contraste salado y una textura crujiente. \nY\, claro está\, no podemos pasar por alto el arroz negro\, otro plato clásico de la cocina española\, famoso por su color oscuro y su sabor intenso. El secreto del arroz negro está en el uso de la tinta de sepia\, que le da su color distintivo y un sabor profundo. En este curso\, aprenderás a preparar un fondo de sepia que potenciará el sabor del arroz y a elaborar un alioli casero que complementará perfectamente el plato. \n¿Qué vamos a preparar en el curso de arroces con sabor mediterráneo?\n\n\nRisotto de Calabaza y Crujiente de Panceta\nArroz Negro con Fondo de Sepia y su Alioli\nPaella tradicional de conejo\, pollo y verduras de temporada\n\n\n  \n \n  \n\n 
URL:https://apuntococina.com/cursodecocina/curso-de-cocina-arroces-con-sabor-mediterraneo/
LOCATION:A Punto CHUECA\, Calle Farmacia 6\, Madrid\, 28004
CATEGORIES:Cursos de arroces
ATTACH;FMTTYPE=image/png:https://apuntococina.com/wp-content/uploads/2019/06/Curso-de-arroces-A-Punto-cocina.png
END:VEVENT
END:VCALENDAR