BEGIN:VCALENDAR
VERSION:2.0
PRODID:-//A Punto - ECPv6.15.18//NONSGML v1.0//EN
CALSCALE:GREGORIAN
METHOD:PUBLISH
X-WR-CALNAME:A Punto
X-ORIGINAL-URL:https://apuntococina.com
X-WR-CALDESC:Eventos para A Punto
REFRESH-INTERVAL;VALUE=DURATION:PT1H
X-Robots-Tag:noindex
X-PUBLISHED-TTL:PT1H
BEGIN:VTIMEZONE
TZID:Europe/Paris
BEGIN:DAYLIGHT
TZOFFSETFROM:+0100
TZOFFSETTO:+0200
TZNAME:CEST
DTSTART:20250330T010000
END:DAYLIGHT
BEGIN:STANDARD
TZOFFSETFROM:+0200
TZOFFSETTO:+0100
TZNAME:CET
DTSTART:20251026T010000
END:STANDARD
BEGIN:DAYLIGHT
TZOFFSETFROM:+0100
TZOFFSETTO:+0200
TZNAME:CEST
DTSTART:20260329T010000
END:DAYLIGHT
BEGIN:STANDARD
TZOFFSETFROM:+0200
TZOFFSETTO:+0100
TZNAME:CET
DTSTART:20261025T010000
END:STANDARD
BEGIN:DAYLIGHT
TZOFFSETFROM:+0100
TZOFFSETTO:+0200
TZNAME:CEST
DTSTART:20270328T010000
END:DAYLIGHT
BEGIN:STANDARD
TZOFFSETFROM:+0200
TZOFFSETTO:+0100
TZNAME:CET
DTSTART:20271031T010000
END:STANDARD
END:VTIMEZONE
BEGIN:VEVENT
DTSTART;TZID=Europe/Paris:20260322T160000
DTEND;TZID=Europe/Paris:20260322T183000
DTSTAMP:20260420T155816
CREATED:20200201T120004Z
LAST-MODIFIED:20260320T165801Z
UID:67105-1774195200-1774204200@apuntococina.com
SUMMARY:Curso de reposteria tradicional 22/3/26
DESCRIPTION:Curso de repostería tradicional\nNo te puedes perder este curso de repostería tradicional\, en Madrid centro. Aquí vamos a revivir el aroma de la cocina golosa de la infancia en distintas latitudes: la cultura anglosajona\, la francesa\, la vasca y la más global; con ese bizcocho de toda la vida. Sabrás cómo ponerle un toque diferente y personal\, para que se adapte a la época y a la ocasión en que lo vas a servir. \n¿Qué vamos a preparar?\n\n\nCarrot Cake\nEl bizcocho de la abuela\nTejas\nMousse de chocolate\n\n\n  \n \n  \n¿Qué aprenderás en nuestro curso de repostería tradicional en Madrid?\n\nPreparación de bizcochos esponjosos y jugosos\nElaboración de mousses suaves y cremosas\nTécnicas de decoración y presentación\nUso de ingredientes de calidad para obtener resultados profesionales\n\nVamos a explorarlos un poco más: \nCarrot Cake (Pastel de Zanahoria)\nEl Carrot Cake es uno de los postres más populares y apreciados en todo el mundo. Además\, en nuestro curso aprenderás a hacer una versión perfecta\, húmeda y llena de sabor. Para empezar\, la clave está en la mezcla de zanahorias ralladas finamente\, que aportan humedad y dulzura natural. Asimismo\, si la combinas con especias como canela y nuez moscada\, el resultado será aún más aromático. Por otro lado\, la cobertura de queso crema\, suave y cremosa\, complementa a la perfección este pastel\, haciendo que sea un éxito en cualquier celebración. \nBizcocho de la Abuela\nEste clásico de la repostería tradicional madrileña\, y española en general\, es\, sin duda\, un imprescindible en nuestro curso de repostería tradicional en Madrid. En efecto\, se trata de un bizcocho esponjoso\, con un sabor delicado y una textura que se deshace en la boca. Además\, aprenderás a preparar este bizcocho desde cero\, utilizando ingredientes sencillos y técnicas que garantizan un resultado perfecto. Por ello\, es ideal para desayunos\, meriendas o para acompañar un café. \nTejas\nLas tejas son un dulce típico de la repostería española\, especialmente en Madrid. En este sentido\, destacan por ser finas láminas de masa crujiente\, a menudo rellenas de almendra o decoradas con azúcar glas. Durante el curso\, te enseñaremos a preparar la masa\, estirarla con precisión y hornearla hasta obtener ese acabado dorado y crujiente. Además\, también podrás aprender a personalizarlas con diferentes rellenos y decoraciones\, de modo que puedas sorprender a tus seres queridos. \nMousse de Chocolate\nEl mousse de chocolate es un postre clásico que nunca pasa de moda. De hecho\, en nuestro curso aprenderás a preparar una mousse ligera\, aireada y con un intenso sabor a chocolate. Desde la elección del chocolate hasta la técnica de batido\, te guiaremos paso a paso para lograr un resultado perfecto. En consecuencia\, podrás elaborar un postre elegante y delicioso en cualquier ocasión.
URL:https://apuntococina.com/cursodecocina/curso-cocina-americana/
LOCATION:A Punto Madrid Centro\, Calle farmacia 6\, Madrid\, 28004\, España
CATEGORIES:Cursos de repostería
ATTACH;FMTTYPE=image/jpeg:https://apuntococina.com/wp-content/uploads/2015/07/carrot-cake-tarta-de-zanahoria.jpg
END:VEVENT
BEGIN:VEVENT
DTSTART;TZID=Europe/Paris:20260328T113000
DTEND;TZID=Europe/Paris:20260328T140000
DTSTAMP:20260420T155816
CREATED:20200119T111634Z
LAST-MODIFIED:20260316T141503Z
UID:66621-1774697400-1774706400@apuntococina.com
SUMMARY:Curso de cocina india 28/3/26
DESCRIPTION:Curso de cocina india en Madrid \nSamosas de carne\nChutney verde\nPollo Tandoori\nPollo al curry con leche de coco\nArroz Pulao con frutos secos\nDelicias de zanahoria\n  \nEn nuestro curso de cocina India en Madrid centro podrás aprender a usar las especias típicas de este país asiático de la mejor de las maneras \nLa cocina india surge como resultado de la diversidad de culturas que la han enriquecido a lo largo de siglos de invasiones y colonizaciones. \nCada pueblo y cultura que ha pasado por allí\, ha aportado algo\, y cada religión sigue marcando hoy día las costumbres culinarias de un país rico y variado\, que ha sabido hacer arte de la combinación de especias. \nEn general\, en el norte comen carne (pollo y cordero\, principalmente) y usan los derivado lácteos\, mientras que en el sur la cocina es esencialmente vegetariana con gran uso de del coco y el tamarindo. Al este\, aprovechan los ricos pescados y mariscos del golfo del Bengala. \n  \nLo más habitual en los cursos de cocina india es que no se preparen platos con carne ya que la mayoría de la población india es vegetariana y\, por temas religiosos\, no come carne de vacuno. SIn embargo\, en el norte del país\, se pueden encontrar platos con pollo y cordero principalmente. \nLos acompañamientos suelen ser arroz con varias especias y panes cocinados sin levadura. Hablar de cocina india es como hablar de un continente entero así que lo mejor es leer nuestras sugerencias sobre los platos más representativos del país \nSin duda te harán falta nuestros trucos de cocina para aprender cómo pelar un jengibre para poder preparar tus platos \nconoce a Anamika aquí \n  \n 
URL:https://apuntococina.com/cursodecocina/curso-de-cocina-india/
LOCATION:A Punto Madrid Centro\, Calle farmacia 6\, Madrid\, 28004\, España
CATEGORIES:Cursos cocina del mundo,Cursos de cocina asiatica
ATTACH;FMTTYPE=image/jpeg:https://apuntococina.com/wp-content/uploads/2020/01/curso-cocina-india-madrid.jpg
END:VEVENT
END:VCALENDAR