BEGIN:VCALENDAR
VERSION:2.0
PRODID:-//A Punto - ECPv6.15.18//NONSGML v1.0//EN
CALSCALE:GREGORIAN
METHOD:PUBLISH
X-ORIGINAL-URL:https://apuntococina.com
X-WR-CALDESC:Eventos para A Punto
REFRESH-INTERVAL;VALUE=DURATION:PT1H
X-Robots-Tag:noindex
X-PUBLISHED-TTL:PT1H
BEGIN:VTIMEZONE
TZID:Europe/Paris
BEGIN:DAYLIGHT
TZOFFSETFROM:+0100
TZOFFSETTO:+0200
TZNAME:CEST
DTSTART:20220327T010000
END:DAYLIGHT
BEGIN:STANDARD
TZOFFSETFROM:+0200
TZOFFSETTO:+0100
TZNAME:CET
DTSTART:20221030T010000
END:STANDARD
BEGIN:DAYLIGHT
TZOFFSETFROM:+0100
TZOFFSETTO:+0200
TZNAME:CEST
DTSTART:20230326T010000
END:DAYLIGHT
BEGIN:STANDARD
TZOFFSETFROM:+0200
TZOFFSETTO:+0100
TZNAME:CET
DTSTART:20231029T010000
END:STANDARD
BEGIN:DAYLIGHT
TZOFFSETFROM:+0100
TZOFFSETTO:+0200
TZNAME:CEST
DTSTART:20240331T010000
END:DAYLIGHT
BEGIN:STANDARD
TZOFFSETFROM:+0200
TZOFFSETTO:+0100
TZNAME:CET
DTSTART:20241027T010000
END:STANDARD
END:VTIMEZONE
BEGIN:VEVENT
DTSTART;TZID=Europe/Paris:20231123T193000
DTEND;TZID=Europe/Paris:20231123T220000
DTSTAMP:20260420T111050
CREATED:20200104T180738Z
LAST-MODIFIED:20260312T172743Z
UID:65910-1700767800-1700776800@apuntococina.com
SUMMARY:Curso de cocina con aves de corral
DESCRIPTION:Curso de cocina de aves de corral en A Punto Escuela de Cocina \n¿Qué prepararemos? \nSALSA HOLANDESA PARA UN HUEVO POCHADO\nMEDALLONES DE POLLO EN PEPITORIA\nCANELONES DE PAVO\nCODORNICES EN ESCABECHE\nLa cocina con aves de corral es de las más ricas\, sanas y variadas. \nEn A Punto\, todos nuestros cursos son en grupos reducidos para que podamos atenderte de la mejor manera posible y personalizada. Nuestro equipo de cocina son chefs con una larga experiencia tanto en cocina como impartiendo clase\, y no solo te enseñarán a preparar estos platos\, sino que además te completarán la clase con anécdotas\, trucos de cocina y consejos para aprovechar al máximo todos los ingredientes. \nRecuerda que ese día tienes un 5% de descuento en nuestra tienda\, con lo que puedes aprovechar para hacerte con esos libros de recetas que andabas buscando. Tenemos una gran selección de libros de gastronomía\, tanto española como de muchos rincones del mundo. Cocina mexicana\, peruana\, japonesa\, tailandesa\, vietnamita… Además\, también puedes encontrar los libros de los grandes chefs\, ensayos sobre gastronomía\, y hasta novela gastronómica. Además\, tenemos un buen surtido de utensilios de cocina\, y una selección de vinos de nuestra bodega\, a muy buen precio. \nTe esperamos en el curso de cocina con aves de corral!
URL:https://apuntococina.com/cursodecocina/curso-de-cocina-con-aves-de-corral-2/
LOCATION:A Punto CHUECA\, Calle Farmacia 6\, Madrid\, 28004
CATEGORIES:Cursos de cocina tradicional
ATTACH;FMTTYPE=image/jpeg:https://apuntococina.com/wp-content/uploads/2019/04/codorniz-al-chocolate.jpg
END:VEVENT
BEGIN:VEVENT
DTSTART;TZID=Europe/Paris:20231126T113000
DTEND;TZID=Europe/Paris:20231126T140000
DTSTAMP:20260420T111050
CREATED:20191104T183120Z
LAST-MODIFIED:20231031T152022Z
UID:63634-1700998200-1701007200@apuntococina.com
SUMMARY:Curso de cocina: el cerdo ibérico en toda su expresión
DESCRIPTION:CURSO DE COCINA CON CERDO  IBÉRICO \nSi hay un ingrediente típico de la gastronomía española ése es el Cerdo Ibérico\, que además es una de las carnes más consumidas en el mundo. En nuestro país se ronronea la frase “Del cerdo\, hasta los andares”. \nExisten distintas razas de cerdo\, pero el cerdo ibérico es una de las razas principales de las que proceden las demás razas porcinas. ¿Y a que no sabías cuál es una de las particularidades del cerdo ibérico que lo diferencia de las demás razas? Es nada más y nada menos su capacidad para ‘absorber’ el ácido oleico que contienen las bellotas. \nPues eso\, aquí va un homenaje a este manjar\, del que sacaremos el máximo provecho posible. Comenzaremos con una clase básica de las partes del cerdo\, y seguiremos aprendiendo el uso de determinadas piezas y a trabajar correctamente con ellas\, para preparar deliciosas recetas  de nuestra cocina tradicional. \n¿Qué prepararemos?  \nWELLINGTON DE SOLOMILLO IBÉRICO CON SU GUARNICIÓN DE BONIATO\nPANCETA DE IBÉRICO Y GAMBAS\nCARRILLERAS DE CERDO AL VINO TINTO\nMANITAS DE CERDO EN SALSA\n  \nUno de los libros más completos sobre la cocina de cerdo es Cocinar cerdo. \n  \n¿Cómo funcionan nuestros cursos de cocina? \nNada más llegar te daremos un delantal que después podrás llevarte\, y los platos que preparéis\, os los podréis tomar aquí o llevar a casa. Todos nuestros cursos son participativos y prácticos\, en A Punto todo el mundo cocina. \nEse día\, además\, tienes un 5% de descuento en nuestra tienda\, tanto en nuestros libros de gastronomía como en utensilios de cocina y vinos de nuestra bodega. \n 
URL:https://apuntococina.com/cursodecocina/curso-de-cocina-el-cerdo-iberico-en-toda-su-expresion/
LOCATION:A Punto Madrid Centro\, Calle farmacia 6\, Madrid\, 28004\, España
CATEGORIES:Cursos de cocina tradicional
ATTACH;FMTTYPE=image/jpeg:https://apuntococina.com/wp-content/uploads/2019/11/Curso-de-cerdo.jpg
END:VEVENT
END:VCALENDAR