BEGIN:VCALENDAR
VERSION:2.0
PRODID:-//A Punto - ECPv6.15.18//NONSGML v1.0//EN
CALSCALE:GREGORIAN
METHOD:PUBLISH
X-ORIGINAL-URL:https://apuntococina.com
X-WR-CALDESC:Eventos para A Punto
REFRESH-INTERVAL;VALUE=DURATION:PT1H
X-Robots-Tag:noindex
X-PUBLISHED-TTL:PT1H
BEGIN:VTIMEZONE
TZID:Europe/Paris
BEGIN:DAYLIGHT
TZOFFSETFROM:+0100
TZOFFSETTO:+0200
TZNAME:CEST
DTSTART:20220327T010000
END:DAYLIGHT
BEGIN:STANDARD
TZOFFSETFROM:+0200
TZOFFSETTO:+0100
TZNAME:CET
DTSTART:20221030T010000
END:STANDARD
BEGIN:DAYLIGHT
TZOFFSETFROM:+0100
TZOFFSETTO:+0200
TZNAME:CEST
DTSTART:20230326T010000
END:DAYLIGHT
BEGIN:STANDARD
TZOFFSETFROM:+0200
TZOFFSETTO:+0100
TZNAME:CET
DTSTART:20231029T010000
END:STANDARD
BEGIN:DAYLIGHT
TZOFFSETFROM:+0100
TZOFFSETTO:+0200
TZNAME:CEST
DTSTART:20240331T010000
END:DAYLIGHT
BEGIN:STANDARD
TZOFFSETFROM:+0200
TZOFFSETTO:+0100
TZNAME:CET
DTSTART:20241027T010000
END:STANDARD
END:VTIMEZONE
BEGIN:VEVENT
DTSTART;TZID=Europe/Paris:20230320T193000
DTEND;TZID=Europe/Paris:20230320T220000
DTSTAMP:20260419T141209
CREATED:20190830T092506Z
LAST-MODIFIED:20230316T141241Z
UID:61708-1679340600-1679349600@apuntococina.com
SUMMARY:Curso de cocina: Asturias. El campo en la mesa 20/03/23
DESCRIPTION:Curso de cocina: Asturias. El campo en la mesa. \n¿QUÉ PREPARAREMOS? \nManzanas y cebollitas rellenas de micuit de pato\nAlmejas con falso espagueti de faves o verdinas\nEscalopines a baja temperatura a la espuma de  cabrales\nCanelones de arroz con leche en láminas de frutas y kirch\nLa gastronomía asturiana cuenta con una excelente materia prima gracias al mar Cantábrico que le proporciona el pescado y los mariscos de gran calidad\, y los valles de la cordillera cantábrica\, excelentes pastos para el ganado y la agricultura\, con lo que allí no falta de nada. Fabes con almejas\, cachopo\, pastel de cabracho\, pote asturiano\, chorizo a la sidra\, arroz con leche… y una enorme variedad de quesos absolutamente deliciosa. El paraíso para los que gustan de los placeres de la cocina. \nY en A Punto Escuela de Cocina\, en el curso de cocina: Asturias. El campo en la mesa\, le damos además al recetario tradicional una vuelta de tuerca para que aprendas a preparar platos en casa con un toque de cocina de autor. \nTodos nuestros cursos son en grupos reducidos\, para todos los niveles y completamente prácticos para aprender a cocinar como mejor se hace: cocinando. \nNo te olvides de compartir tus fotos e impresiones sobre nuestros cursos en tus redes sociales con el hashtag #FoodiesApunto. \n 
URL:https://apuntococina.com/cursodecocina/curso-de-cocina-asturias-el-campo-en-la-mesa/
LOCATION:A Punto Madrid Centro\, Calle farmacia 6\, Madrid\, 28004\, España
CATEGORIES:Cursos de cocina tradicional
ATTACH;FMTTYPE=image/png:https://apuntococina.com/wp-content/uploads/2019/08/Curso-de-cocina-Asturias.png
END:VEVENT
END:VCALENDAR