BEGIN:VCALENDAR
VERSION:2.0
PRODID:-//A Punto - ECPv6.15.18//NONSGML v1.0//EN
CALSCALE:GREGORIAN
METHOD:PUBLISH
X-WR-CALNAME:A Punto
X-ORIGINAL-URL:https://apuntococina.com
X-WR-CALDESC:Eventos para A Punto
REFRESH-INTERVAL;VALUE=DURATION:PT1H
X-Robots-Tag:noindex
X-PUBLISHED-TTL:PT1H
BEGIN:VTIMEZONE
TZID:Europe/Paris
BEGIN:DAYLIGHT
TZOFFSETFROM:+0100
TZOFFSETTO:+0200
TZNAME:CEST
DTSTART:20210328T010000
END:DAYLIGHT
BEGIN:STANDARD
TZOFFSETFROM:+0200
TZOFFSETTO:+0100
TZNAME:CET
DTSTART:20211031T010000
END:STANDARD
BEGIN:DAYLIGHT
TZOFFSETFROM:+0100
TZOFFSETTO:+0200
TZNAME:CEST
DTSTART:20220327T010000
END:DAYLIGHT
BEGIN:STANDARD
TZOFFSETFROM:+0200
TZOFFSETTO:+0100
TZNAME:CET
DTSTART:20221030T010000
END:STANDARD
BEGIN:DAYLIGHT
TZOFFSETFROM:+0100
TZOFFSETTO:+0200
TZNAME:CEST
DTSTART:20230326T010000
END:DAYLIGHT
BEGIN:STANDARD
TZOFFSETFROM:+0200
TZOFFSETTO:+0100
TZNAME:CET
DTSTART:20231029T010000
END:STANDARD
END:VTIMEZONE
BEGIN:VEVENT
DTSTART;TZID=Europe/Paris:20220304T200000
DTEND;TZID=Europe/Paris:20220304T230000
DTSTAMP:20260422T205817
CREATED:20200110T125307Z
LAST-MODIFIED:20231108T143644Z
UID:66146-1646424000-1646434800@apuntococina.com
SUMMARY:Cata de Vinos de Mujer + Cena
DESCRIPTION:Cata de Vinos de Mujer + Cena  \nUn homenaje a las mujeres y el vino y a los platos. \nHay vinos elaborados por mujeres pero no pensados para mujeres. \nEllas\, están creando la nueva era del vino\, la tendencia más atractiva y sensitiva de las bodegas españolas. \nEn esta cata hemos diseñado un menú cuyos platos han sido creados\, inventados por mujeres y cuyos vinos son elaborados también por mujeres. \n  \nAperitivo Con cava Vilarnau Reserva (Eva Plazas) \nAlcachofas Diana    Con oloroso.   Gonzalez Byass.  (Marina González) \nTortilla soufflé La Mere Puolard.  Con Rosado  Arrayán. (Maite Sánchez) \nSalmón marinado al Baño Maria.  Con Pazo de Señorans.  (Marisol Bueno) \nSolomillo  a la Montpensier    Viña Mayor o Venus (Almudena o Sara) \nPaulova. Y melocotones Melba     Corona de CVNE blanco semidulce \n  \n  \nEllas son las reinas de copas.  \nEn esta cata viajaremos por todo el país para descubrir los vinos más emblemáticos elaborados por mujeres.  \nLa cata estará dirigida por la subdirectora de la revista Mi Vino y socia fundadora de A PUNTO\, Ana Lorente. En la cocina\, la jefa de los fogones de A PUNTO\, será la responsable de crear los platos que mejor armonicen con cada uno de esos vinos. 
URL:https://apuntococina.com/cursodecocina/cata-vinos-mujer-cena/
LOCATION:A Punto CHUECA\, Calle Farmacia 6\, Madrid\, 28004
CATEGORIES:Catas de vinos y cerveza
ATTACH;FMTTYPE=image/jpeg:https://apuntococina.com/wp-content/uploads/2020/01/mosaico-mujer-vino-roma.jpg
END:VEVENT
END:VCALENDAR