BEGIN:VCALENDAR
VERSION:2.0
PRODID:-//A Punto - ECPv6.15.18//NONSGML v1.0//EN
CALSCALE:GREGORIAN
METHOD:PUBLISH
X-ORIGINAL-URL:https://apuntococina.com
X-WR-CALDESC:Eventos para A Punto
REFRESH-INTERVAL;VALUE=DURATION:PT1H
X-Robots-Tag:noindex
X-PUBLISHED-TTL:PT1H
BEGIN:VTIMEZONE
TZID:Europe/Paris
BEGIN:DAYLIGHT
TZOFFSETFROM:+0100
TZOFFSETTO:+0200
TZNAME:CEST
DTSTART:20200329T010000
END:DAYLIGHT
BEGIN:STANDARD
TZOFFSETFROM:+0200
TZOFFSETTO:+0100
TZNAME:CET
DTSTART:20201025T010000
END:STANDARD
BEGIN:DAYLIGHT
TZOFFSETFROM:+0100
TZOFFSETTO:+0200
TZNAME:CEST
DTSTART:20210328T010000
END:DAYLIGHT
BEGIN:STANDARD
TZOFFSETFROM:+0200
TZOFFSETTO:+0100
TZNAME:CET
DTSTART:20211031T010000
END:STANDARD
BEGIN:DAYLIGHT
TZOFFSETFROM:+0100
TZOFFSETTO:+0200
TZNAME:CEST
DTSTART:20220327T010000
END:DAYLIGHT
BEGIN:STANDARD
TZOFFSETFROM:+0200
TZOFFSETTO:+0100
TZNAME:CET
DTSTART:20221030T010000
END:STANDARD
END:VTIMEZONE
BEGIN:VEVENT
DTSTART;TZID=Europe/Paris:20211113T160000
DTEND;TZID=Europe/Paris:20211113T183000
DTSTAMP:20260423T033946
CREATED:20190411T105701Z
LAST-MODIFIED:20230304T124134Z
UID:57668-1636819200-1636828200@apuntococina.com
SUMMARY:Curso de adobos\, escabeches\, salazones y encurtidos
DESCRIPTION:Curso de adobos\, escabeches\, salazones y encurtidos \nAl hablar de adobos\, escabeches\, salazones y encurtidos\, pensamos directamente en todas esas técnicas\, algunas muy antiguas\, que nos han servido para conservar mejor los alimentos. Envasado\, duración\, efectividad y facilidad son solo beneficios que se han podido comprobar luego de cocinar algunas de estas las recetas. \nActualmente\, el ritmo de vida puede impedirnos cocinar diariamente nuestro menú ideal. Es a veces complicado seguir un método o tener cierta rutina alimenticia. Sin embargo\, cuando conseguimos maneras de comer sano\, sabroso y con preparados en casa\, resulta más fácil permanecer en el buen camino\, o por lo menos\, el más sano. \nLo fundamental para la preparación de todas estas recetas es la calidad del producto. Con una excelente materia prima nada puede fallar y en el curso quedará más que demostrado. \n¿Qué prepararemos? \nSALMÓN AHUMADO CASERO CON PEPINILLOS ENCURTIDOS  \nPâté en croûte\nMEJILLONES fritos de guarda \nCODORNICES EN ESCABECHE \nPEPINILLOS ENCURTIDOS EXPRESS \n  \nSi quieres también probar los mejillones en escabeche pincha Aquí \n  \n \nPuedes disfrutar del curso de adobos\, escabeches\, salazones y encurtidos en la Escuela de cocina A Punto\, en Madrid centro.
URL:https://apuntococina.com/cursodecocina/curso-de-adobos-escabeches-salazones-y-encurtidos/
LOCATION:A Punto Madrid Centro\, Calle farmacia 6\, Madrid\, 28004\, España
CATEGORIES:Cursos de cocina tradicional
ATTACH;FMTTYPE=image/jpeg:https://apuntococina.com/wp-content/uploads/2019/04/escabechados.jpg
END:VEVENT
BEGIN:VEVENT
DTSTART;TZID=Europe/Paris:20211119T200000
DTEND;TZID=Europe/Paris:20211119T223000
DTSTAMP:20260423T033946
CREATED:20200120T140443Z
LAST-MODIFIED:20231108T143721Z
UID:66653-1637352000-1637361000@apuntococina.com
SUMMARY:Cata de vino con cena
DESCRIPTION:Cata de vinos con cena en Madrid centro\nDirigida por nuestra experta en vinos Ana Lorente seleccionamos cinco vinos de nuestra bodega\, algunas de las joyas nacionales e internacionales\, monovarietales y coupage especiales con los que aprenderemos sobre cultura\, elaboración y armonías. \nEn nuestra cata de vinos con cena en Madrid cada vino será acompañado por un plato realizado por el equipo de cocina A PUNTO para conseguir con ello el entender el por qué de la búsqueda de una armonía\, vinos y platos\, perfecta. \nCon este menú se busca introducir a los participantes en el mundo del vino probando y entendiendo varios de los vinos que se producen en las diferentes D.O del mundo. Del cava al dulce frances\, seis experiencias. \n  \nVino de bienvenida\, introducción a la cata… Cava\, brut nature  \nAperitivos… Armonías complejas: airbag de boquerón en vinagre\, mejillones en escabeche con su patata frita y corazón de alcachofa confitada … Vino: Jerez  \nPrimer plato… Cazuelita de bacalao con garbanzos y espinacas… Vino: Garnacha blanca  \nSegundo Plato… cordero a baja temperatura en su pan bao … Vino: Tinto roble de la D.O La Mancha \nPostre… petit fours …. Vino: Dulce de la Ribera del Duero  \nQue no te la den con queso… Vino Sauternes \nSigue nuestro canal de youtube en el que podrás aprenderlo todo sobre el mundo del vino
URL:https://apuntococina.com/cursodecocina/cata-de-vino-cena/
LOCATION:A Punto Madrid Centro\, Calle farmacia 6\, Madrid\, 28004\, España
CATEGORIES:Catas de vinos y cerveza
ATTACH;FMTTYPE=image/jpeg:https://apuntococina.com/wp-content/uploads/2020/01/Cata-y-cena.jpg
END:VEVENT
END:VCALENDAR