BEGIN:VCALENDAR
VERSION:2.0
PRODID:-//A Punto - ECPv6.15.18//NONSGML v1.0//EN
CALSCALE:GREGORIAN
METHOD:PUBLISH
X-WR-CALNAME:A Punto
X-ORIGINAL-URL:https://apuntococina.com
X-WR-CALDESC:Eventos para A Punto
REFRESH-INTERVAL;VALUE=DURATION:PT1H
X-Robots-Tag:noindex
X-PUBLISHED-TTL:PT1H
BEGIN:VTIMEZONE
TZID:Europe/Paris
BEGIN:DAYLIGHT
TZOFFSETFROM:+0100
TZOFFSETTO:+0200
TZNAME:CEST
DTSTART:20240331T010000
END:DAYLIGHT
BEGIN:STANDARD
TZOFFSETFROM:+0200
TZOFFSETTO:+0100
TZNAME:CET
DTSTART:20241027T010000
END:STANDARD
BEGIN:DAYLIGHT
TZOFFSETFROM:+0100
TZOFFSETTO:+0200
TZNAME:CEST
DTSTART:20250330T010000
END:DAYLIGHT
BEGIN:STANDARD
TZOFFSETFROM:+0200
TZOFFSETTO:+0100
TZNAME:CET
DTSTART:20251026T010000
END:STANDARD
BEGIN:DAYLIGHT
TZOFFSETFROM:+0100
TZOFFSETTO:+0200
TZNAME:CEST
DTSTART:20260329T010000
END:DAYLIGHT
BEGIN:STANDARD
TZOFFSETFROM:+0200
TZOFFSETTO:+0100
TZNAME:CET
DTSTART:20261025T010000
END:STANDARD
END:VTIMEZONE
BEGIN:VEVENT
DTSTART;TZID=Europe/Paris:20250705T163000
DTEND;TZID=Europe/Paris:20250705T190000
DTSTAMP:20260423T124811
CREATED:20190410T103558Z
LAST-MODIFIED:20250116T131306Z
UID:57578-1751733000-1751742000@apuntococina.com
SUMMARY:Curso de panes de la India 5/7/25
DESCRIPTION:Curso de panadería de panes de la India \nVamos a profundizar en la cultura de la India con una clase totalmente dedicada al mundo de los panes que se usan mucho como dip para chutneys o para salsas de cualquier tipo. En este curso no nos dedicaremos a la masa madre ni a los panes tradicionales sino a panes del mundo \n¿QUÉ PREPARAREMOS? \n  \nPan Naan\nChapati (Roti) con dos diferentes técnicas\nPan Paratha\nLuchi o Poori  ( panes que se sirven de aperitivo )\nPara acompañar Paneer Bhurji.\nEn A punto todos nuestros cursos son en grupos reducidos para que la atención sea lo más personal posible. Además\, son totalmente prácticos\, así que te tocará amasar y terminarás la clase habiendo preparado tu propio pan. Después\, la comida os la podéis llevar\, si es que sobra\, claro. \nY recuerda que ese día tienes un 5% de descuento en nuestra tienda. En ella encontrarás libros de gastronomía\, desde recetarios de todas las cocinas del mundo\, hasta ensayos o novelas y libros publicados por grandes chefs. Además\, tenemos utensilios de cocina y una selección de vinos de nuestra bodega. \n¿Sabes cómo conseguir la masa madre perfecta? Aquí te lo contamos. \n\n\n\n\nLa masa madre puede ser sólida o líquida\, pero es una masa que ha fermentado durante muchas horas muy lentamente\, que se añade a la masa como otro ingrediente más. \nEsta fermentación nos aporta a la masa cuerpo y fuerza que nos va a dar volumen y esponjosidad en el horno. La masa madre nos dará sabor y aroma\, miga mas húmeda\, corteza sabrosa y crujiente.
URL:https://apuntococina.com/cursodecocina/curso-de-panaderia-avanzado/
LOCATION:A Punto CHUECA\, Calle Farmacia 6\, Madrid\, 28004
CATEGORIES:Cursos de pan
ATTACH;FMTTYPE=image/png:https://apuntococina.com/wp-content/uploads/2019/04/Curso-de-panadería-avanzado.png
END:VEVENT
END:VCALENDAR