BEGIN:VCALENDAR
VERSION:2.0
PRODID:-//A Punto - ECPv6.15.18//NONSGML v1.0//EN
CALSCALE:GREGORIAN
METHOD:PUBLISH
X-ORIGINAL-URL:https://apuntococina.com
X-WR-CALDESC:Eventos para A Punto
REFRESH-INTERVAL;VALUE=DURATION:PT1H
X-Robots-Tag:noindex
X-PUBLISHED-TTL:PT1H
BEGIN:VTIMEZONE
TZID:Europe/Paris
BEGIN:DAYLIGHT
TZOFFSETFROM:+0100
TZOFFSETTO:+0200
TZNAME:CEST
DTSTART:20250330T010000
END:DAYLIGHT
BEGIN:STANDARD
TZOFFSETFROM:+0200
TZOFFSETTO:+0100
TZNAME:CET
DTSTART:20251026T010000
END:STANDARD
BEGIN:DAYLIGHT
TZOFFSETFROM:+0100
TZOFFSETTO:+0200
TZNAME:CEST
DTSTART:20260329T010000
END:DAYLIGHT
BEGIN:STANDARD
TZOFFSETFROM:+0200
TZOFFSETTO:+0100
TZNAME:CET
DTSTART:20261025T010000
END:STANDARD
BEGIN:DAYLIGHT
TZOFFSETFROM:+0100
TZOFFSETTO:+0200
TZNAME:CEST
DTSTART:20270328T010000
END:DAYLIGHT
BEGIN:STANDARD
TZOFFSETFROM:+0200
TZOFFSETTO:+0100
TZNAME:CET
DTSTART:20271031T010000
END:STANDARD
END:VTIMEZONE
BEGIN:VEVENT
DTSTART;TZID=Europe/Paris:20260516T113000
DTEND;TZID=Europe/Paris:20260516T140000
DTSTAMP:20260420T021739
CREATED:20190411T111505Z
LAST-MODIFIED:20250730T172923Z
UID:57675-1778931000-1778940000@apuntococina.com
SUMMARY:Curso de cocina madrileña innovada 16/5/26
DESCRIPTION:Curso de cocina madrileña innovada. \nMadrid es una ciudad donde actualmente podríais comer de todo. Con una amplitud en su gastronomía\, tiene propuestas de las más locales hasta la adaptación de platos de otras zonas geográficas. \nCuando un plato tiene la denominación a la madrileña significa que es típico de las tascas y tabernas de Madrid. Entre callos\, cocido\, huevos estrellados\, rosca\, besugo y caracoles\, Madrid ha impregnado de sabor estas y otras recetas.  Algunas que prepararemos en nuestro curso \n  \nQué prepararemos? \nDel cocido madrileño tradicional… haremos un peculiar CHURRO DE COCIDO con su chocolate de compango ¡riquísimo! \nDe esos boquerones en vinagre que tanto nos gustan como tapa… haremos un AIRBAG DE BOQUERONES EN VINAGRE ¡ole!\nDe esas gallinejas que tanto definen los sabores de Madrid… haremos el BOCADILLO más castizo que nunca hayáis probado\nY esas BRAVAS… ¡qué buenas! Pues le daremos una pequeña vuelta para que exploten en nuestra boca todo el sabor de la tapa madrileña\nHaremos una versión renovada de nuestras torrijas\, con ese toque a violetita que tanto nos gusta\nCompartimos una versión de torrijas para despertar felices y azucarados. \nhttps://www.youtube.com/watch?v=hZP8uGLFqHE \nY si sois más de salado\, una ruta por los lugares con los mejores bocadillos de Madrid (y los más hipsters) no puede faltar. Pincha AQUÍ para conocer más.
URL:https://apuntococina.com/cursodecocina/curso-de-cocina-madrilena-innovada/
LOCATION:A Punto Madrid Centro\, Calle farmacia 6\, Madrid\, 28004\, España
CATEGORIES:Cursos de nuevas técnicas
ATTACH;FMTTYPE=image/jpeg:https://apuntococina.com/wp-content/uploads/2019/04/Curso-de-cocina-madrileña.jpg
END:VEVENT
END:VCALENDAR