BEGIN:VCALENDAR
VERSION:2.0
PRODID:-//A Punto - ECPv6.15.18//NONSGML v1.0//EN
CALSCALE:GREGORIAN
METHOD:PUBLISH
X-WR-CALNAME:A Punto
X-ORIGINAL-URL:https://apuntococina.com
X-WR-CALDESC:Eventos para A Punto
REFRESH-INTERVAL;VALUE=DURATION:PT1H
X-Robots-Tag:noindex
X-PUBLISHED-TTL:PT1H
BEGIN:VTIMEZONE
TZID:Europe/Paris
BEGIN:DAYLIGHT
TZOFFSETFROM:+0100
TZOFFSETTO:+0200
TZNAME:CEST
DTSTART:20250330T010000
END:DAYLIGHT
BEGIN:STANDARD
TZOFFSETFROM:+0200
TZOFFSETTO:+0100
TZNAME:CET
DTSTART:20251026T010000
END:STANDARD
BEGIN:DAYLIGHT
TZOFFSETFROM:+0100
TZOFFSETTO:+0200
TZNAME:CEST
DTSTART:20260329T010000
END:DAYLIGHT
BEGIN:STANDARD
TZOFFSETFROM:+0200
TZOFFSETTO:+0100
TZNAME:CET
DTSTART:20261025T010000
END:STANDARD
BEGIN:DAYLIGHT
TZOFFSETFROM:+0100
TZOFFSETTO:+0200
TZNAME:CEST
DTSTART:20270328T010000
END:DAYLIGHT
BEGIN:STANDARD
TZOFFSETFROM:+0200
TZOFFSETTO:+0100
TZNAME:CET
DTSTART:20271031T010000
END:STANDARD
END:VTIMEZONE
BEGIN:VEVENT
DTSTART;TZID=Europe/Paris:20260219T080000
DTEND;TZID=Europe/Paris:20260219T170000
DTSTAMP:20260420T011345
CREATED:20210407T114940Z
LAST-MODIFIED:20260219T164224Z
UID:83865-1771488000-1771520400@apuntococina.com
SUMMARY:Curso online de cocina molecular
DESCRIPTION:Curso online de cocina molecular\nLlevamos más de 10 años impartiendo cursos presenciales de cocina molecular y había llegado el momento de grabar nuestras sesiones. Sergio Pachón\, jefe de cocina de restaurantes con estrella Michelin\, es el profesor que os guiará en este divertido recorrido por la cocina molecular. Queremos que lo disfrutes\, pues lo puedes hacer a tu ritmo y concentrarte\, desde la comodidad de tu casa. Ponte el delantal\, afina la técnica y ¡a cocinar! \n \n¿Qué aprenderás en el curso online de cocina molecular?\n Esferificaciones y caviares\n\nEsferificación directa e inversa\nConsejos para que tus esferas salgan perfectas\nBaño de alginato\nBaño de cloruro\nCaviar de melón: esferificación directa\nEsferificación de yema: inversa con gluconolactato\nEsferificación de aceituna: inversa con gluconolactato y xantana\n\nEspesantes\, aires\, emulsiones\, gelatinas\, deshidratados\n\nLos tipos de emulsionantes\nGelatinas\nCómo usar las gelatinas\nCola de pescado y agar agar\nGoma Kappa\, Garrofín y Gellán\nAire de menta\nAire de coco\nAire de leche de oveja\nAceite de albahaca texturizado\nEspagueti de queso\n\nSifones y espumas\n\nQué es un sifón\nPartes del sifón\nMaterial necesario\nConsejos de uso del sifón\nCómo conseguir espumas perfectas\nEspuma de patata\nEspuma de mozzarella\nBizcocho de avellana\nEspuma de daiquiri\n\n Vacío y Baja temperatura\n\nIntroducción\nMaterial necesario\nConsejos útiles\nÓsmosis\nHuevo a baja temperatura\nPresa ibérica\n\nNitrógeno\n\nDefinición\nMaterial necesario\nConsejos de uso\n\nEnsalada caprese\n\nEsferas de mozzarella\nAceite de albahaca texturizado\nPerlas de balsámico\nRocas de tomate\nTomates secos\nAire de aceite de oliva\nEsferas de aceituna\nEnsalada caprese: receta completa\nEmplatado ensalada caprese\n\nAjoblanco\n\nAceite de ajo texturizado\nEspuma de ajoblanco\nAjoblanco emplatado\n\nDumplings de pato pekín\n\nMagret de pato al vacío\nSalsa hoisin\nObleas de dumpling\nEmplatado pato pekín\n\nSalmón marinado\n\nSalmón marinado\nEscabeche de zanahoria\nEsferas de aceituna\nEncurtido de pepino\nTexturizado de guindilla\nAire de aceite de oliva\n\nTarta tres leches\n\nHelado de tres leches\nBizcocho de avellana\nTierra de nata\nCremoso de chocolate\nAire de leche de oveja\nPompa de café\n\n\n\n\n\n\n\n\n\n¿Quieres saber más sobre la escuela online de A PUNTO? Pincha sobre este enlace y comienza a formar parte.
URL:https://apuntococina.com/cursodecocina/curso-online-cocina-molecular/
CATEGORIES:Cursos de cocina online,Cursos de nuevas técnicas
ATTACH;FMTTYPE=image/jpeg:https://apuntococina.com/wp-content/uploads/2021/04/CAVIAR.jpg
END:VEVENT
END:VCALENDAR