BEGIN:VCALENDAR
VERSION:2.0
PRODID:-//A Punto - ECPv6.15.18//NONSGML v1.0//EN
CALSCALE:GREGORIAN
METHOD:PUBLISH
X-ORIGINAL-URL:https://apuntococina.com
X-WR-CALDESC:Eventos para A Punto
REFRESH-INTERVAL;VALUE=DURATION:PT1H
X-Robots-Tag:noindex
X-PUBLISHED-TTL:PT1H
BEGIN:VTIMEZONE
TZID:Europe/Paris
BEGIN:DAYLIGHT
TZOFFSETFROM:+0100
TZOFFSETTO:+0200
TZNAME:CEST
DTSTART:20240331T010000
END:DAYLIGHT
BEGIN:STANDARD
TZOFFSETFROM:+0200
TZOFFSETTO:+0100
TZNAME:CET
DTSTART:20241027T010000
END:STANDARD
BEGIN:DAYLIGHT
TZOFFSETFROM:+0100
TZOFFSETTO:+0200
TZNAME:CEST
DTSTART:20250330T010000
END:DAYLIGHT
BEGIN:STANDARD
TZOFFSETFROM:+0200
TZOFFSETTO:+0100
TZNAME:CET
DTSTART:20251026T010000
END:STANDARD
BEGIN:DAYLIGHT
TZOFFSETFROM:+0100
TZOFFSETTO:+0200
TZNAME:CEST
DTSTART:20260329T010000
END:DAYLIGHT
BEGIN:STANDARD
TZOFFSETFROM:+0200
TZOFFSETTO:+0100
TZNAME:CET
DTSTART:20261025T010000
END:STANDARD
END:VTIMEZONE
BEGIN:VEVENT
DTSTART;TZID=Europe/Paris:20250525T113000
DTEND;TZID=Europe/Paris:20250525T140000
DTSTAMP:20260422T233052
CREATED:20190406T172132Z
LAST-MODIFIED:20250518T123551Z
UID:55785-1748172600-1748181600@apuntococina.com
SUMMARY:Cocina sin cocina: la tendencia raw 25/05/25
DESCRIPTION:Cocina sin cocina: la tendencia raw \n¿Qué recetas aprenderemos a preparar? \nSteak Tartar clásico\nBoquerones en vinagre en matrimonio con anchoas\nCeviche de camarón\, zumo de lima y maíz Cancho\nAjoblanco con salmón marinado y ahumado\nEnsalada de Melón con Jamón y Granizado de Melón y Hierbabuena\n  \n¿Qué es la tendencia raw? \nMás allá del vegetarianismo\, la tendencia raw  es un proceso que está tomando fuerza actualmente. ¿De qué se trata? \nNormalmente estamos acostumbrados a una comida basada en carbohidratos y proteínas. Esto\, cuando no es bien llevado con una forma de ser sedentaria\, puede traernos algunos problemas comunes\, como no tener energía para despertar por las mañanas\, o tener digestiones lentas y pesadas. \nTambién se puede ver reflejado en nuestro apetito\, que se incrementa o simplemente se dispara en momentos poco comunes\, fuera del horario normal. \nPara los que han sentido la necesidad de depurar el organismo\, la tendencia raw ha sido muy positiva. Actualmente hay gran cantidad de libros que pueden ayudarnos a ampliar nuestro conocimiento para comer mejor\, y llenarnos de vitalidad. \nMientras tanto\, las recetas de este curso\, llenas de vida y color\, te propondrán maneras divertidas de insertarnos en ese mundo raw. \naya \n \nCocina sin cocina: la tendencia raw puede resultar muy beneficioso y puedes conseguir varios libros que profundicen en el tema\, en nuestra Librería A Punto \n 
URL:https://apuntococina.com/cursodecocina/cocina-sin-cocina-la-tendencia-raw/
LOCATION:A Punto CHUECA\, Calle Farmacia 6\, Madrid\, 28004
CATEGORIES:Cursos de nuevas técnicas
ATTACH;FMTTYPE=image/jpeg:https://apuntococina.com/wp-content/uploads/2019/04/CORTE-Y-CUCHILLOS-3.jpg
END:VEVENT
END:VCALENDAR