BEGIN:VCALENDAR
VERSION:2.0
PRODID:-//A Punto - ECPv6.15.18//NONSGML v1.0//EN
CALSCALE:GREGORIAN
METHOD:PUBLISH
X-ORIGINAL-URL:https://apuntococina.com
X-WR-CALDESC:Eventos para A Punto
REFRESH-INTERVAL;VALUE=DURATION:PT1H
X-Robots-Tag:noindex
X-PUBLISHED-TTL:PT1H
BEGIN:VTIMEZONE
TZID:Europe/Madrid
BEGIN:DAYLIGHT
TZOFFSETFROM:+0100
TZOFFSETTO:+0200
TZNAME:CEST
DTSTART:20250330T010000
END:DAYLIGHT
BEGIN:STANDARD
TZOFFSETFROM:+0200
TZOFFSETTO:+0100
TZNAME:CET
DTSTART:20251026T010000
END:STANDARD
BEGIN:DAYLIGHT
TZOFFSETFROM:+0100
TZOFFSETTO:+0200
TZNAME:CEST
DTSTART:20260329T010000
END:DAYLIGHT
BEGIN:STANDARD
TZOFFSETFROM:+0200
TZOFFSETTO:+0100
TZNAME:CET
DTSTART:20261025T010000
END:STANDARD
BEGIN:DAYLIGHT
TZOFFSETFROM:+0100
TZOFFSETTO:+0200
TZNAME:CEST
DTSTART:20270328T010000
END:DAYLIGHT
BEGIN:STANDARD
TZOFFSETFROM:+0200
TZOFFSETTO:+0100
TZNAME:CET
DTSTART:20271031T010000
END:STANDARD
END:VTIMEZONE
BEGIN:VEVENT
DTSTART;TZID=Europe/Madrid:20260801T113000
DTEND;TZID=Europe/Madrid:20260801T140000
DTSTAMP:20260420T032052
CREATED:20260206T182836Z
LAST-MODIFIED:20260211T175947Z
UID:128790-1785583800-1785592800@apuntococina.com
SUMMARY:Curso de cocina japonesa más allá del sushi 1/8/26
DESCRIPTION:Curso de cocina japonesa\, más allá del sushi\, en A Punto. \n¿Qué prepararemos?  \n¿Qué aprenderemos? \nExplicaremos cómo se hace el arroz y cómo son los cortes. Cocinaremos y aliñaremos el arroz \nTemaki con pescado de temporada\nNiguiris\, gunkan\, california rolls que rellenaremos con atún\, salmón\, gambas\nTORI NO TATSUTA AGE\, pollo frito japonés\n  \n \nAlgunas curiosidades sobre la comida japonesa y su protocolo:\nLa comida japonesa se come con palillos salvo contadas excepciones. Por ello\, los alimentos se sirven cortados en trozos o tiras para que sean fáciles de coger y de comer. En el caso de que te sirvan una pieza de comida más grande y te sea imposible cortarla usando los dos palillos con una sola mano\, entonces no te preocupes\, llévatela a la boca y pégale un mordisco\, devuelvo el resto al plato. \nSi te sirven un cuenco grande con la comida de todos los comensales para repartir\, y éste no lleva cuchara para servir\, has de utilizar tus palillos para servirte\, pero por el lado opuesto\, por donde los agarras\, para que la parte de los palillos que te hayas llevado a la boca no entre en contacto con la comida de los demás. \nDurante una comida japonesa nunca se sirve agua o té. Se come con cerveza\, que es la opción más popular\, sake\, shochu o vino. El shoku es un licor de alta graduación. \nTe esperamos en nuestro curso de cocina japonesa\, más allá del sushi.
URL:https://apuntococina.com/cursodecocina/curso-de-cocina-japonesa-mas-alla-del-sushi-1/
LOCATION:A Punto CHUECA\, Calle Farmacia 6\, Madrid\, 28004
CATEGORIES:Cursos cocina del mundo,Cursos de cocina asiatica
ATTACH;FMTTYPE=image/jpeg:https://apuntococina.com/wp-content/uploads/2019/04/curso-de-cocina-japonesa-sushi-1.jpg
END:VEVENT
END:VCALENDAR