BEGIN:VCALENDAR
VERSION:2.0
PRODID:-//A Punto - ECPv6.15.18//NONSGML v1.0//EN
CALSCALE:GREGORIAN
METHOD:PUBLISH
X-ORIGINAL-URL:https://apuntococina.com
X-WR-CALDESC:Eventos para A Punto
REFRESH-INTERVAL;VALUE=DURATION:PT1H
X-Robots-Tag:noindex
X-PUBLISHED-TTL:PT1H
BEGIN:VTIMEZONE
TZID:Europe/Paris
BEGIN:DAYLIGHT
TZOFFSETFROM:+0100
TZOFFSETTO:+0200
TZNAME:CEST
DTSTART:20250330T010000
END:DAYLIGHT
BEGIN:STANDARD
TZOFFSETFROM:+0200
TZOFFSETTO:+0100
TZNAME:CET
DTSTART:20251026T010000
END:STANDARD
BEGIN:DAYLIGHT
TZOFFSETFROM:+0100
TZOFFSETTO:+0200
TZNAME:CEST
DTSTART:20260329T010000
END:DAYLIGHT
BEGIN:STANDARD
TZOFFSETFROM:+0200
TZOFFSETTO:+0100
TZNAME:CET
DTSTART:20261025T010000
END:STANDARD
BEGIN:DAYLIGHT
TZOFFSETFROM:+0100
TZOFFSETTO:+0200
TZNAME:CEST
DTSTART:20270328T010000
END:DAYLIGHT
BEGIN:STANDARD
TZOFFSETFROM:+0200
TZOFFSETTO:+0100
TZNAME:CET
DTSTART:20271031T010000
END:STANDARD
END:VTIMEZONE
BEGIN:VEVENT
DTSTART;TZID=Europe/Paris:20260606T193000
DTEND;TZID=Europe/Paris:20260606T220000
DTSTAMP:20260419T202125
CREATED:20190410T134723Z
LAST-MODIFIED:20260308T142748Z
UID:57600-1780774200-1780783200@apuntococina.com
SUMMARY:Curso cocina asiática callejera 6/6/26
DESCRIPTION:Curso de cocina asiática callejera. \nQUÉ HAREMOS?  \nAprenderemos a hacer el pan bao para luego elaborar el mítico bocado creado por el chef David Chang: bao de panceta ibérica\nRollitos vegetales al estilo vietnamita con su salsa especiada\nPani Puri: Pan suflado relleno de patatas mojado en agua de tamarindo\nPollo satay\nBanana Roti\n \n\n\n\n\nLa gastronomía oriental o asiática abarca muchas cocinas como la china\, la japonesa\, la india\, la tailandesa\, la vietnamita o la camboyana\, y aunque todas poseen su propia marca\, comparten varias características. \nEs muy difícil intentar “globalizar o generalizar” todo ese crisol gastronómico\, aunque tienen puntos en común. Se distinguen dos tendencias bien marcadas: la “malasia o insular”\, caracterizada por la abundancia de pescado\, frutas y verduras y la “asiática” con fuerte presencia de la carne de cerdo\, currys\, y fideos. Por ejemplo\, Tailandia está influenciada por la cocina china\, india y malaya\, mientras que la vietnamita exclusivamente por la china. \nEste tipo de cocinas destacan en general por la fuerte base vegetal y la poca grasa. Por eso\, en los últimos años\, en Occidente ha tomado auge; se busca comer más sano y aumentar la calidad de vida. \nEn este curso de cocina asiática callejera aprenderemos cuáles son las características generales de estas cocinas. Realizaremos platos reconocidos no solo a nivel nacional. Y haremos así un viaje exótico gastronómico\, que nos acercará más a éstas culturas tan interesantes.
URL:https://apuntococina.com/cursodecocina/curso-cocina-asiatica-callejera/
LOCATION:A Punto CHUECA\, Calle Farmacia 6\, Madrid\, 28004
CATEGORIES:Cursos cocina del mundo,Cursos de cocina asiatica
ATTACH;FMTTYPE=image/jpeg:https://apuntococina.com/wp-content/uploads/2020/01/curso-de-cocina-asiatica-callejera-en-madrid-centro.jpg
END:VEVENT
END:VCALENDAR