BEGIN:VCALENDAR
VERSION:2.0
PRODID:-//A Punto - ECPv6.15.18//NONSGML v1.0//EN
CALSCALE:GREGORIAN
METHOD:PUBLISH
X-WR-CALNAME:A Punto
X-ORIGINAL-URL:https://apuntococina.com
X-WR-CALDESC:Eventos para A Punto
REFRESH-INTERVAL;VALUE=DURATION:PT1H
X-Robots-Tag:noindex
X-PUBLISHED-TTL:PT1H
BEGIN:VTIMEZONE
TZID:Europe/Madrid
BEGIN:DAYLIGHT
TZOFFSETFROM:+0100
TZOFFSETTO:+0200
TZNAME:CEST
DTSTART:20250330T010000
END:DAYLIGHT
BEGIN:STANDARD
TZOFFSETFROM:+0200
TZOFFSETTO:+0100
TZNAME:CET
DTSTART:20251026T010000
END:STANDARD
BEGIN:DAYLIGHT
TZOFFSETFROM:+0100
TZOFFSETTO:+0200
TZNAME:CEST
DTSTART:20260329T010000
END:DAYLIGHT
BEGIN:STANDARD
TZOFFSETFROM:+0200
TZOFFSETTO:+0100
TZNAME:CET
DTSTART:20261025T010000
END:STANDARD
BEGIN:DAYLIGHT
TZOFFSETFROM:+0100
TZOFFSETTO:+0200
TZNAME:CEST
DTSTART:20270328T010000
END:DAYLIGHT
BEGIN:STANDARD
TZOFFSETFROM:+0200
TZOFFSETTO:+0100
TZNAME:CET
DTSTART:20271031T010000
END:STANDARD
END:VTIMEZONE
BEGIN:VEVENT
DTSTART;TZID=Europe/Madrid:20260516T193000
DTEND;TZID=Europe/Madrid:20260516T220000
DTSTAMP:20260420T022649
CREATED:20260206T165813Z
LAST-MODIFIED:20260211T180313Z
UID:128779-1778959800-1778968800@apuntococina.com
SUMMARY:Curso de cocina tailandesa 16/5/26
DESCRIPTION:Curso de cocina tailandesa en A Punto.\n\n¿QUÉ RECETAS APRENDEREMOS A PREPARAR?\n\nPlamuk Pad Pong Garee ( Calamares fritos con curry)\nPad thai tradicional con langostinos y en su versión con carne de cerdo\nTom Kha Gai  ( la famosa sopa de pollo en leche de coco)\nSopa Khao Soi  con sus noodles\nPoh Piah con salsa agridulce casera  ( los rollitos primavera al estilo thai)\n\n\n\n\n“TOM KHA GAI” (Sopa de pollo con leche de coco). Es la sopa más famosa de Tailandia\, fresca\, picante y aromática. Existen múltiples versiones\, la más habitual es la de pollo con leche de coco aromatizada con galanga (una raíz de la familia del jengibre pero de distinto sabor)\, salsa de pescado\, limoncillo o hierba limón y hojas de lima Kaffir\, además del pollo lleva tomate y setas. La sopa tiene el toque ácido de la lima o la salsa de tamarindo y la textura cremosa de la leche de coco.\n\n“POH PIAH” CON SALSA AGRIDULCE CASERA (Rollitos de primavera tailandeses)  Los rollitos de primavera estilo Thai\, es otro de los aperitivos más populares. De influencia vietnamita pero muy típicos en la cocina tailandesa. Las recetas de rollitos son muy comunes en toda Asia\, pero cada país tiene sus versiones diferentes y en Tailandia los preparan de una forma muy característica. Lleva fideos de cristal\, verduras y carne picada. Una vez fritos nos queda una textura crujiente por fuera que contrasta con el interior suave y delicioso del relleno\, acompañado de una salsa de chili dulce y naranja.\n\nTe esperamos en el curso de cocina tailandesa. Ah! Y trae tupper!
URL:https://apuntococina.com/cursodecocina/thaimadrid/
LOCATION:A Punto CHUECA\, Calle Farmacia 6\, Madrid\, 28004
CATEGORIES:Cursos cocina del mundo,Cursos de cocina asiatica
ATTACH;FMTTYPE=image/jpeg:https://apuntococina.com/wp-content/uploads/2019/03/THAILANDIA-Sopa-tom-khakai.jpg
END:VEVENT
END:VCALENDAR