BEGIN:VCALENDAR
VERSION:2.0
PRODID:-//A Punto - ECPv6.15.18//NONSGML v1.0//EN
CALSCALE:GREGORIAN
METHOD:PUBLISH
X-WR-CALNAME:A Punto
X-ORIGINAL-URL:https://apuntococina.com
X-WR-CALDESC:Eventos para A Punto
REFRESH-INTERVAL;VALUE=DURATION:PT1H
X-Robots-Tag:noindex
X-PUBLISHED-TTL:PT1H
BEGIN:VTIMEZONE
TZID:Europe/Paris
BEGIN:DAYLIGHT
TZOFFSETFROM:+0100
TZOFFSETTO:+0200
TZNAME:CEST
DTSTART:20260329T010000
END:DAYLIGHT
BEGIN:STANDARD
TZOFFSETFROM:+0200
TZOFFSETTO:+0100
TZNAME:CET
DTSTART:20261025T010000
END:STANDARD
BEGIN:DAYLIGHT
TZOFFSETFROM:+0100
TZOFFSETTO:+0200
TZNAME:CEST
DTSTART:20270328T010000
END:DAYLIGHT
BEGIN:STANDARD
TZOFFSETFROM:+0200
TZOFFSETTO:+0100
TZNAME:CET
DTSTART:20271031T010000
END:STANDARD
BEGIN:DAYLIGHT
TZOFFSETFROM:+0100
TZOFFSETTO:+0200
TZNAME:CEST
DTSTART:20280326T010000
END:DAYLIGHT
BEGIN:STANDARD
TZOFFSETFROM:+0200
TZOFFSETTO:+0100
TZNAME:CET
DTSTART:20281029T010000
END:STANDARD
END:VTIMEZONE
BEGIN:VEVENT
DTSTART;TZID=Europe/Paris:20270103T153000
DTEND;TZID=Europe/Paris:20270103T183000
DTSTAMP:20260423T153822
CREATED:20190927T153604Z
LAST-MODIFIED:20260105T180240Z
UID:62781-1798990200-1799001000@apuntococina.com
SUMMARY:Curso de Roscón de Reyes 3/1/27
DESCRIPTION:Curso de Roscón de Reyes en A Punto. \nEmpezaremos a preparar la masa desde cero para familiarizarnos con el amasado\nPrepararemos el relleno de crema pasteleria\nAprenderemos a escarchar fruta para decorar\nTrabajaremos con una masa ya fermentada para poder ver todas las fases de preparación\nHornearemos nuestro Roscón para degustarlo todos juntos\nTe llevarás una masa a casa para hornear para tu familia el día de Reyes\nEl roscón de Reyes es el postre más emblemático de la Navidad en nuestro país\, y qué mejor que aprender a prepararlo en casa. \nCuriosamente\, el origen de este postre no está relacionado con la Navidad\, ya que viene de la Antigua Roma\, en el que se consumía durante la Fiesta del Esclavo\, que se celebraba a mediados del mes de diciembre. \nDespués\, en la Edad Media\, vuelve a consumirse pero esta vez en Francia durante la Fiesta de la Haba\, y en su interior se escondía una haba. \nEl que la encontrara sería nombrado rey durante todo ese día. El haba es un símbolo de fertilidad y de buena suerte. \nDicen que el roscón de Reyes llega a España desde Francia gracias a los Borbones. Más concretamente\, fue Felipe V. \nLa sorpresa escondida en el interior del roscón pasó de ser un haba a una moneda\, y con el tiempo ésta se convirtió en una pequeña figura\, aunque hay lugares en los que han escondido dentro hasta un diamante u otros objetos de gran valor. \nEn el curso de roscón de reyes de A Punto aprenderás a prepararlo de una forma muy práctica\, ya que todos nuestros cursos lo son.
URL:https://apuntococina.com/cursodecocina/curso-de-roscon-de-reyes-2/
LOCATION:A Punto Madrid Centro\, Calle farmacia 6\, Madrid\, 28004\, España
CATEGORIES:Cursos de repostería
ATTACH;FMTTYPE=image/png:https://apuntococina.com/wp-content/uploads/2019/09/Curso-de-Roscón-de-Reyes-en-A-Punto.png
END:VEVENT
END:VCALENDAR