BEGIN:VCALENDAR
VERSION:2.0
PRODID:-//A Punto - ECPv6.15.18//NONSGML v1.0//EN
CALSCALE:GREGORIAN
METHOD:PUBLISH
X-ORIGINAL-URL:https://apuntococina.com
X-WR-CALDESC:Eventos para A Punto
REFRESH-INTERVAL;VALUE=DURATION:PT1H
X-Robots-Tag:noindex
X-PUBLISHED-TTL:PT1H
BEGIN:VTIMEZONE
TZID:Europe/Paris
BEGIN:DAYLIGHT
TZOFFSETFROM:+0100
TZOFFSETTO:+0200
TZNAME:CEST
DTSTART:20250330T010000
END:DAYLIGHT
BEGIN:STANDARD
TZOFFSETFROM:+0200
TZOFFSETTO:+0100
TZNAME:CET
DTSTART:20251026T010000
END:STANDARD
BEGIN:DAYLIGHT
TZOFFSETFROM:+0100
TZOFFSETTO:+0200
TZNAME:CEST
DTSTART:20260329T010000
END:DAYLIGHT
BEGIN:STANDARD
TZOFFSETFROM:+0200
TZOFFSETTO:+0100
TZNAME:CET
DTSTART:20261025T010000
END:STANDARD
BEGIN:DAYLIGHT
TZOFFSETFROM:+0100
TZOFFSETTO:+0200
TZNAME:CEST
DTSTART:20270328T010000
END:DAYLIGHT
BEGIN:STANDARD
TZOFFSETFROM:+0200
TZOFFSETTO:+0100
TZNAME:CET
DTSTART:20271031T010000
END:STANDARD
END:VTIMEZONE
BEGIN:VEVENT
DTSTART;TZID=Europe/Paris:20261202T193000
DTEND;TZID=Europe/Paris:20261202T220000
DTSTAMP:20260423T135046
CREATED:20210226T100407Z
LAST-MODIFIED:20260313T181405Z
UID:82909-1796239800-1796248800@apuntococina.com
SUMMARY:Curso de cocina  moderna del Norte de España 2/12/26
DESCRIPTION:En este curso de cocina moderna del Norte de España aprenderemos a dar un giro de modernidad a recetas clásicas españolas. Nos centramos en la zona de Galicia\, País Vasco y zonas costeras del Norte para sacar el máximo provecho a pescados tradicionales \nKokotchas de bacalao  al pil pil de txangurro y su piel crujiente ( aprenderemos a cocinar un centollo\, a preparar un pil pil y a aprovechar la piel del bacalao)\nCroquetas líquidas\nTimbal de chipirones encebollados  al vino blanco con arroz negro y alioli\nEspuma de tortilla de patatas con esferas de pimientos\n\nLa cocina moderna del Norte de España no deja atrás el producto: trabajaremos las kokochas del bacalao que son la parte más noble del pescado\, la parte inferior de la barbilla del pescado que soltará toda su gelatina para permitirnos conseguir una salsa pil pil perfecta. \nLa técnica del pil pil es muy sencilla pero aprenderemos un par de trucos para que no nos falle nunca. \nEn A Punto no somos de tirar nada así que el el curso de cocina moderna del Norte de España aprenderemos a sacarle el máximo provecho hasta a la piel del bacalao creando unas cortezas marinas que nos servirán de presentación para nuestros platos. \nQué sería España sin croquetas? Nuestra versión será la de una croqueta que explota en la boca \nSi quieres aprender más sobre la cocina clásica del Norte de España\, aquí un libro de referencia \nSi quieres preparar un pil pil rápido y fácil\, sigue nuestras sugerencias aquí  \ny aprende en este video
URL:https://apuntococina.com/cursodecocina/curso-cocina-espanola-moderna-norte/
LOCATION:A Punto CHUECA\, Calle Farmacia 6\, Madrid\, 28004
CATEGORIES:Cursos de nuevas técnicas
ATTACH;FMTTYPE=image/jpeg:https://apuntococina.com/wp-content/uploads/2021/02/curso-norte-de-espana.jpg
END:VEVENT
END:VCALENDAR