BEGIN:VCALENDAR
VERSION:2.0
PRODID:-//A Punto - ECPv6.15.18//NONSGML v1.0//EN
CALSCALE:GREGORIAN
METHOD:PUBLISH
X-ORIGINAL-URL:https://apuntococina.com
X-WR-CALDESC:Eventos para A Punto
REFRESH-INTERVAL;VALUE=DURATION:PT1H
X-Robots-Tag:noindex
X-PUBLISHED-TTL:PT1H
BEGIN:VTIMEZONE
TZID:Europe/Paris
BEGIN:DAYLIGHT
TZOFFSETFROM:+0100
TZOFFSETTO:+0200
TZNAME:CEST
DTSTART:20250330T010000
END:DAYLIGHT
BEGIN:STANDARD
TZOFFSETFROM:+0200
TZOFFSETTO:+0100
TZNAME:CET
DTSTART:20251026T010000
END:STANDARD
BEGIN:DAYLIGHT
TZOFFSETFROM:+0100
TZOFFSETTO:+0200
TZNAME:CEST
DTSTART:20260329T010000
END:DAYLIGHT
BEGIN:STANDARD
TZOFFSETFROM:+0200
TZOFFSETTO:+0100
TZNAME:CET
DTSTART:20261025T010000
END:STANDARD
BEGIN:DAYLIGHT
TZOFFSETFROM:+0100
TZOFFSETTO:+0200
TZNAME:CEST
DTSTART:20270328T010000
END:DAYLIGHT
BEGIN:STANDARD
TZOFFSETFROM:+0200
TZOFFSETTO:+0100
TZNAME:CET
DTSTART:20271031T010000
END:STANDARD
END:VTIMEZONE
BEGIN:VEVENT
DTSTART;TZID=Europe/Paris:20261124T193000
DTEND;TZID=Europe/Paris:20261124T220000
DTSTAMP:20260423T135207
CREATED:20191224T133311Z
LAST-MODIFIED:20260316T162013Z
UID:65476-1795548600-1795557600@apuntococina.com
SUMMARY:Curso de cocina: la vuelta al mundo en 80 especias 24/11/26
DESCRIPTION:Curso de cocina la vuelta al mundo en 80 especias \nViajamos desde Marruecos\, hacemos una parada en la India  y nos enrumbamos a China. Sin olvidar que nuestro destino siempre es el arroz\, pero especiado\, como tanto os gusta. \nEn este curso de cocina con especias\, en Madrid centro\, podrás aprender de la mano de Spicy Yuli\,   propietaria de la tienda de tés y especias Spicy Yuli\,  sobre cómo usar las especias en tu cocina para potenciar sabores. \nDesde aprender a distinguir entre los picantes más intensos\, entre las pimientas y las bayas\, entre una hierba aromática y una especia\, lo que apunta este curso es aprovechar la gran diversidad de aromas y sabores de las especias para preparar una salsa casera o potenciar el sabor de los platos. \n¿QUÉ PREPAREMOS? \nEn este Curso de cocina la vuelta al mundo en 80 especias\, aprenderás a preparar las siguientes recetas: \nCurry thai de piña y langostinos\nBrochetas de pollo con Jerk jaimacano y mango verde\nArroz con jengibre y pimienta de Timut\nPan de remolacha y alcaravea\nA continuación\, cómo preparar pollo cajún\, con Spicy Yuli\, una receta muy especiada: \n \n  \nPuedes aprender mucho más en nuestro blog con consejos para apreciar los platos más especiados de la India  
URL:https://apuntococina.com/cursodecocina/curso-de-cocina-la-vuelta-al-mundo-en-80-especias-2/
LOCATION:A Punto CHUECA\, Calle Farmacia 6\, Madrid\, 28004
CATEGORIES:Cursos cocina del mundo
ATTACH;FMTTYPE=image/jpeg:https://apuntococina.com/wp-content/uploads/2019/12/Curso-de-cocina-con-especias.jpg
END:VEVENT
END:VCALENDAR