BEGIN:VCALENDAR
VERSION:2.0
PRODID:-//A Punto - ECPv6.15.18//NONSGML v1.0//EN
CALSCALE:GREGORIAN
METHOD:PUBLISH
X-WR-CALNAME:A Punto
X-ORIGINAL-URL:https://apuntococina.com
X-WR-CALDESC:Eventos para A Punto
REFRESH-INTERVAL;VALUE=DURATION:PT1H
X-Robots-Tag:noindex
X-PUBLISHED-TTL:PT1H
BEGIN:VTIMEZONE
TZID:Europe/Paris
BEGIN:DAYLIGHT
TZOFFSETFROM:+0100
TZOFFSETTO:+0200
TZNAME:CEST
DTSTART:20250330T010000
END:DAYLIGHT
BEGIN:STANDARD
TZOFFSETFROM:+0200
TZOFFSETTO:+0100
TZNAME:CET
DTSTART:20251026T010000
END:STANDARD
BEGIN:DAYLIGHT
TZOFFSETFROM:+0100
TZOFFSETTO:+0200
TZNAME:CEST
DTSTART:20260329T010000
END:DAYLIGHT
BEGIN:STANDARD
TZOFFSETFROM:+0200
TZOFFSETTO:+0100
TZNAME:CET
DTSTART:20261025T010000
END:STANDARD
BEGIN:DAYLIGHT
TZOFFSETFROM:+0100
TZOFFSETTO:+0200
TZNAME:CEST
DTSTART:20270328T010000
END:DAYLIGHT
BEGIN:STANDARD
TZOFFSETFROM:+0200
TZOFFSETTO:+0100
TZNAME:CET
DTSTART:20271031T010000
END:STANDARD
END:VTIMEZONE
BEGIN:VEVENT
DTSTART;TZID=Europe/Paris:20261121T113000
DTEND;TZID=Europe/Paris:20261121T140000
DTSTAMP:20260423T133941
CREATED:20190807T144723Z
LAST-MODIFIED:20260313T164538Z
UID:61511-1795260600-1795269600@apuntococina.com
SUMMARY:Curso de cocina: la alcachofa 21/11/26
DESCRIPTION:Curso de cocina: la alcachofa \n¿Qué prepararemos? \n– Alcachofas a baja temperatura con su tortilla a la manera de los mares mediterráneos \n– Arroz en paella de presa ibérica y alcachofas \n– Tempura\, chips con su salsa romescu y ali oli  \n– Ensalada de alcachofa\, hinojo y harissa \n  \nCurso de cocina: la alcachofa: \nSin duda es una de las ‘flores’ comestibles más apreciadas y valoradas en las cocinas de todo el mundo. En este curso aprenderemos con el maestro\, Miguel de la Fuente\, chef del Hotel Intercontinental de Madrid\, cómo trabjar con ellas y cómo aplicar técnicas modernas para sacar el máximo provecho de ellas.   \n¿Sabes cómo limpiar una alcachofa? Sigue nuestros consejos y verás que fácil es preparar esta deliciosa verdura. Aprovecha que ahora está de temporada y la encontrarás a buen precio y de muy buena calidad: \n\nLa alcachofa\, además de ser un manjar\, tiene un montón de propiedades beneficiosas para nuestra salud. Para empezar\, es depurativa y por lo tanto buenísima para combatir la retención de líquidos. Reduce el colesterol y los triglicéridos\, es buena para la digestión\, para el hígado… y se pueden hacer de mil maneras distintas: a la plancha\, al horno\, cocidas\, fritas\, en tempera… pero esto ya se lo dejamos a Miguel de la Fuente\, nuestro chef\, para el día de la clase.
URL:https://apuntococina.com/cursodecocina/curso-de-cocina-la-alcachofa/
LOCATION:A Punto CHUECA\, Calle Farmacia 6\, Madrid\, 28004
CATEGORIES:Cursos de grandes chefs
ATTACH;FMTTYPE=image/jpeg:https://apuntococina.com/wp-content/uploads/2019/08/curso-de-cocina-con-alcachofa-en-madrid-centro.jpg
END:VEVENT
BEGIN:VEVENT
DTSTART;TZID=Europe/Paris:20261121T160000
DTEND;TZID=Europe/Paris:20261121T183000
DTSTAMP:20260423T133941
CREATED:20200130T120317Z
LAST-MODIFIED:20260225T141702Z
UID:66989-1795276800-1795285800@apuntococina.com
SUMMARY:Curso de repostería fácil   21/11/26
DESCRIPTION:En el curso de repostería en Madrid centro prepararemos \nRecetas: \nBocaditos de nata de sabores\nTarta tatin de fruta\, un clásico francés de tarta al revés\nParfait de turrón\nTorrija brioche con crema tostada ( haremos la masa del brioche pero hornearemos una masa que tendremos ya fermentada)\n  \nCurso de Repostería en Madrid: Bocaditos de Nata de Sabores\, Tarta Tatin\, Parfait de Turrón y Torrija Brioche \nSi eres un apasionado de la repostería y estás buscando un curso de repostería en Madrid que te enseñe técnicas innovadoras\, recetas clásicas y deliciosas\, has llegado al lugar correcto. En este curso\, aprenderás a preparar una serie de postres excepcionales\, desde los tradicionales bocaditos de nata hasta la sofisticada tarta tatin de fruta\, pasando por un parfait de turrón que evocará los sabores más auténticos de la Navidad\, y una torrija brioche con crema tostada que te hará sentirte como en una pastelería de alta gama. Además\, nos adentraremos en el arte de los petit fours\, esos pequeños bocados dulces que siempre sorprenden y conquistan a quienes los prueban. \nBocaditos de Nata de Sabores\nLos bocaditos de nata son uno de esos postres que nunca pasan de moda. Son pequeños y elegantes\, perfectos para eventos o para disfrutar en cualquier ocasión. En nuestro curso de repostería en Madrid\, aprenderás a preparar estos bocaditos\, dándoles un toque único al incorporar diferentes sabores a la nata. ¿Te imaginas un bocadito de nata con un suave toque de vainilla\, chocolate\, fresa o incluso café? Las posibilidades son infinitas\, y la técnica para conseguir una nata perfecta es fundamental. \nDurante la clase\, te enseñaremos a montar la nata hasta el punto adecuado\, sin que pierda su textura suave y esponjosa. Además\, aprenderás cómo infusionar la nata con distintos sabores para conseguir que cada bocadito tenga un perfil de sabor único. La clave está en equilibrar la cantidad de sabor sin que sobrepasen la suavidad y delicadeza de la nata. También descubrirás cómo utilizar moldes especiales para darle a cada bocadito una forma perfecta y presentar tus creaciones de manera profesional. Esta receta es ideal para quienes buscan un toque dulce y elegante en su repostería. \nTarta Tatin de Fruta: Un Clásico Francés de Tarta al Revés\nLa tarta tatin es uno de los postres más emblemáticos de la cocina francesa. Esta tarta\, que se hornea «al revés»\, consiste en una capa de frutas caramelizadas\, cubiertas con una masa crujiente que\, al invertirse después del horneado\, crea una combinación irresistible de texturas. En nuestro curso de repostería en Madrid\, te enseñaremos cómo preparar una tarta tatin perfecta\, utilizando frutas de temporada\, como manzanas\, peras o incluso ciruelas. \nLa técnica de la tarta tatin es un verdadero arte. Comenzarás caramelizando las frutas en una sartén\, lo que le dará ese toque dulce y ligeramente amargo que caracteriza este postre. Después\, aprenderás a preparar una masa quebrada o hojaldrada que cubra las frutas caramelizadas y que\, al hornearse\, adquiera una textura crujiente por fuera\, pero suave y mantecosa por dentro. Tras el horneado\, lo más emocionante es el momento en que inviertes la tarta\, revelando esa capa dorada y perfecta de frutas caramelizadas\, que contrasta con la masa ligera y crujiente. \nEn este curso\, descubrirás trucos y consejos para evitar que el caramelo se queme\, cómo seleccionar las frutas más adecuadas y cómo lograr una cocción perfecta. La tarta tatin es un postre que\, a pesar de su sencillez\, tiene un gran impacto visual y gustativo. Es un clásico que nunca pasa de moda y que podrás preparar en cualquier momento para sorprender a tus amigos y familiares. \nParfait de Turrón: La Magia de los Sabores Navideños\nEl parfait de turrón es un postre que nos transporta directamente a las celebraciones navideñas. En nuestro curso de repostería en Madrid\, aprenderás a hacer esta deliciosa creación con una base de turrón\, uno de los dulces más representativos de la Navidad en España. El parfait es una especie de mousse o semifrío que se caracteriza por su textura suave y cremosa. La combinación del turrón con una base de crema de mascarpone y nata le da un sabor increíblemente delicado y un toque festivo que sorprenderá a todos tus invitados. \nDurante la clase\, te enseñaremos a preparar un parfait de turrón de manera sencilla\, pero con técnicas que aseguran un resultado de alta pastelería. Aprenderás a montar la nata y la crema de manera perfecta para obtener una textura suave y aireada. Además\, descubrirás cómo incorporar el turrón de forma que se mantenga bien distribuido a lo largo del parfait\, creando una experiencia de sabor equilibrada y deliciosa en cada bocado. \nEl parfait de turrón es un postre ideal para las fiestas navideñas\, pero su versatilidad permite disfrutarlo durante todo el año\, siempre que tengas ganas de un toque de dulzura y sofisticación. Podrás presentarlo en copas individuales o en un formato más grande\, dependiendo de la ocasión. Lo mejor de todo es que es muy fácil de hacer\, pero su sabor y presentación te harán parecer todo un profesional de la repostería. \nTorrija Brioche con Crema Tostada: Un Giro a la Tradición\nLa torrija es un postre tradicional español que no puede faltar en la Semana Santa. Sin embargo\, en este curso de repostería en Madrid\, aprenderemos a darle un giro moderno con la receta de torrija brioche con crema tostada. La diferencia fundamental es que\, en lugar de usar pan convencional\, utilizaremos brioche\, una masa rica y suave que le dará a la torrija una textura mucho más esponjosa y un sabor más sofisticado. \nDurante la clase\, te enseñaremos cómo hacer la masa de brioche desde cero\, aunque usaremos una masa que ya haya fermentado previamente para optimizar el tiempo de preparación. El proceso de elaboración de la masa de brioche es fundamental\, ya que la textura es lo que marcará la diferencia en el resultado final. Aprenderás a mezclar los ingredientes correctamente\, amasar la masa y darle tiempo suficiente para que fermente adecuadamente. Una vez tengamos la masa lista\, cortaremos las rebanadas de brioche y las empaparemos en una mezcla de leche\, huevo y azúcar antes de freírlas en aceite caliente. \nEl toque especial de esta receta será la crema tostada\, que se prepara a base de nata y azúcar\, caramelizada hasta obtener una textura crujiente y dorada. Al combinar las torrijas con la crema tostada\, conseguimos una mezcla de sabores y texturas que harán que este postre sea el centro de atención en cualquier mesa. La torrija brioche con crema tostada es una forma moderna de disfrutar de un clásico de la repostería española\, con un toque de lujo y elegancia. \nPetit Fours: Los Pequeños Bocados que Sorprenden\nUno de los aspectos más emocionantes del curso de repostería en Madrid es la posibilidad de aprender a preparar petit fours\, esos pequeños bocados dulces que son perfectos para acompañar una taza de té o para servir en celebraciones elegantes. Los petit fours son pequeños\, pero llenos de sabor y creatividad. En esta clase\, aprenderás a crear diferentes tipos de petit fours\, desde los más sencillos hasta los más elaborados\, siempre con la idea de que cada bocado debe ser una explosión de sabor y elegancia. \nLos petit fours pueden ser desde galletas finas\, pasteles miniatura\, hasta pequeños trozos de tarta o mousse\, siempre decorados con esmero y creatividad. Aprenderás a trabajar con diferentes técnicas de decoración\, como el glaseado\, el uso de frutas confitadas\, la creación de pequeñas flores de azúcar y el uso de ganache o cremas aromatizadas. Lo más importante es que\, aunque son pequeños\, estos bocados deben ser deliciosos y refinados\, con una presentación que refleje la calidad de la repostería que has aprendido a hacer. \nCurso de Repostería en Madrid: Una Experiencia Única\nEste curso de repostería en Madrid es la oportunidad perfecta para adentrarse en el fascinante mundo de la repostería de alta gama\, aprender técnicas profesionales y sorprender a tus amigos y familiares con tus habilidades culinarias. Con recetas como los bocaditos de nata de sabores\, la tarta tatin de fruta\, el parfait de turrón y la torrija brioche con crema tostada\, este curso te ofrece una experiencia completa que cubre tanto lo clásico como lo moderno en la repostería. \nAl final del curso\, no solo habrás dominado técnicas fundamentales de repostería\, sino que también habrás aprendido a crear petit fours\, esos pequeños detalles que marcan la diferencia en cualquier celebración. Si estás buscando un curso de repostería en Madrid que te ofrezca tanto conocimiento como diversión\, este es el curso perfecto para ti. ¡Anímate a dar el siguiente paso y conviértete en un experto repostero! \n\nSi buscas mejorar tus habilidades en repostería y aprender a hacer petit fours en un curso de repostería en Madrid\, este es el lugar indicado. En nuestro curso\, no solo aprenderás a hacer deliciosos bocaditos de nata\, tartas y parfaits\, sino que también dominarás el arte de los petit fours\, los pequeños bocados que se han convertido en una referencia en la alta repostería. ¡No te lo pierdas! \nNo te pierdas nuestros trucos de cocina : cómo preparar dulce de leche \nEl mundo de la repostería es perfecto: no improvises y compra tus libros de repostería aquí 
URL:https://apuntococina.com/cursodecocina/curso-de-reposteria-petit-fours/
LOCATION:A Punto Madrid Centro\, Calle farmacia 6\, Madrid\, 28004\, España
CATEGORIES:Cursos de repostería
ATTACH;FMTTYPE=image/jpeg:https://apuntococina.com/wp-content/uploads/2020/01/curso-de-petit-fours.jpg
END:VEVENT
END:VCALENDAR