BEGIN:VCALENDAR
VERSION:2.0
PRODID:-//A Punto - ECPv6.15.18//NONSGML v1.0//EN
CALSCALE:GREGORIAN
METHOD:PUBLISH
X-ORIGINAL-URL:https://apuntococina.com
X-WR-CALDESC:Eventos para A Punto
REFRESH-INTERVAL;VALUE=DURATION:PT1H
X-Robots-Tag:noindex
X-PUBLISHED-TTL:PT1H
BEGIN:VTIMEZONE
TZID:Europe/Paris
BEGIN:DAYLIGHT
TZOFFSETFROM:+0100
TZOFFSETTO:+0200
TZNAME:CEST
DTSTART:20250330T010000
END:DAYLIGHT
BEGIN:STANDARD
TZOFFSETFROM:+0200
TZOFFSETTO:+0100
TZNAME:CET
DTSTART:20251026T010000
END:STANDARD
BEGIN:DAYLIGHT
TZOFFSETFROM:+0100
TZOFFSETTO:+0200
TZNAME:CEST
DTSTART:20260329T010000
END:DAYLIGHT
BEGIN:STANDARD
TZOFFSETFROM:+0200
TZOFFSETTO:+0100
TZNAME:CET
DTSTART:20261025T010000
END:STANDARD
BEGIN:DAYLIGHT
TZOFFSETFROM:+0100
TZOFFSETTO:+0200
TZNAME:CEST
DTSTART:20270328T010000
END:DAYLIGHT
BEGIN:STANDARD
TZOFFSETFROM:+0200
TZOFFSETTO:+0100
TZNAME:CET
DTSTART:20271031T010000
END:STANDARD
END:VTIMEZONE
BEGIN:VEVENT
DTSTART;TZID=Europe/Paris:20261114T160000
DTEND;TZID=Europe/Paris:20261114T183000
DTSTAMP:20260423T135208
CREATED:20190412T095746Z
LAST-MODIFIED:20260225T135258Z
UID:87597-1794672000-1794681000@apuntococina.com
SUMMARY:Curso de repostería: dulces y postres de vaso 14/11/26
DESCRIPTION:Curso de repostería: dulces y postres de vaso \n¿QUÉ PREPAREMOS? \n-Mousse de chocolate con praliné en copa de Martini\n-Brownie con toffee a la sal Maldon\n-Tarta de queso estilo A Punto\n-Tiramisú con gelee de amaretto\nTécnicas: \nPresentación en formato individual \nMini Cakes o Postres de vaso \nEn A Punto todos nuestros cursos son totalmente participativos para que podáis aprender a cocinar cocinando. Aquí amasaréis\, batiréis\, y todo lo que haga falta para preparar esas deliciosas recetas que\, además\, al finalizar la clase os podréis comer o llevar a casa. Por eso\, no te olvides de traerte tu tupper\, para poder luego disfrutar de esos manjares con los tuyos. \nAdemás\, todos nuestros profesores tienen una amplia experiencia tanto en cocina como enseñando\, y además de enseñarte a cocinar esas recetas\, te irán contando trucos de cocina\, técnicas\, y consejos para aprovechar todos los ingredientes\, ya que en la cocina no se tira nada. \nVente preparado para pasarlo genial cocinando\, porque todo lo demás te lo daremos nosotros. Desde el delantal\, que además después te podrás quedar\, hasta la tabla de cortar\, el cuchillo\, y todo lo que necesites. \nAdemás\, durante la clase podréis catar un vino de nuestra bodega que os habrá seleccionado Ana Lorente\, nuestra experta en vino. \nAsí que\, ya sabes\, a disfrutar del curso de repostería: dulces.
URL:https://apuntococina.com/cursodecocina/curso-de-reposteria-dulces-2/
LOCATION:A Punto Madrid Centro\, Calle farmacia 6\, Madrid\, 28004\, España
CATEGORIES:Cursos de repostería
ATTACH;FMTTYPE=image/jpeg:https://apuntococina.com/wp-content/uploads/2019/05/BOLLERIA-CREMA-PASTELERA.jpg
END:VEVENT
END:VCALENDAR