BEGIN:VCALENDAR
VERSION:2.0
PRODID:-//A Punto - ECPv6.15.18//NONSGML v1.0//EN
CALSCALE:GREGORIAN
METHOD:PUBLISH
X-WR-CALNAME:A Punto
X-ORIGINAL-URL:https://apuntococina.com
X-WR-CALDESC:Eventos para A Punto
REFRESH-INTERVAL;VALUE=DURATION:PT1H
X-Robots-Tag:noindex
X-PUBLISHED-TTL:PT1H
BEGIN:VTIMEZONE
TZID:Europe/Paris
BEGIN:DAYLIGHT
TZOFFSETFROM:+0100
TZOFFSETTO:+0200
TZNAME:CEST
DTSTART:20250330T010000
END:DAYLIGHT
BEGIN:STANDARD
TZOFFSETFROM:+0200
TZOFFSETTO:+0100
TZNAME:CET
DTSTART:20251026T010000
END:STANDARD
BEGIN:DAYLIGHT
TZOFFSETFROM:+0100
TZOFFSETTO:+0200
TZNAME:CEST
DTSTART:20260329T010000
END:DAYLIGHT
BEGIN:STANDARD
TZOFFSETFROM:+0200
TZOFFSETTO:+0100
TZNAME:CET
DTSTART:20261025T010000
END:STANDARD
BEGIN:DAYLIGHT
TZOFFSETFROM:+0100
TZOFFSETTO:+0200
TZNAME:CEST
DTSTART:20270328T010000
END:DAYLIGHT
BEGIN:STANDARD
TZOFFSETFROM:+0200
TZOFFSETTO:+0100
TZNAME:CET
DTSTART:20271031T010000
END:STANDARD
END:VTIMEZONE
BEGIN:VEVENT
DTSTART;TZID=Europe/Paris:20261104T193000
DTEND;TZID=Europe/Paris:20261104T220000
DTSTAMP:20260423T134928
CREATED:20191104T192132Z
LAST-MODIFIED:20260313T181904Z
UID:63650-1793820600-1793829600@apuntococina.com
SUMMARY:Curso de cocina con caza 4/11/26
DESCRIPTION:Curso de cocina con caza en Madrid \nEn la gastronomía de nuestro país tenemos muchos tesoros\, y los guisos de carne de caza son uno de ellos. Así que en nuestra escuela de cocina A Punto\, con este curso queremos que rendir homenaje a este tipo de cocina\, con cuatro recetas de nuestra tradición\, tanto para diario como para ocasiones especiales. \nUn taller en el que aprenderemos a trabajar con las piezas de caza de ciervo o jabalí\, utilizando diferentes técnicas de cocina. Rendiremos homenaje a los platos tradicionales\, a elaborar espectaculares bases y a emplatar con lujo\, utilizando adecuadamente los utensilios y los tiempos de cocción dependiendo del tipo de carne que usemos. \n¿Qué prepararemos? \nCIVET DE CORZO AL CHOCOLATE CON ESPUMA DE CALABAZA\nRABLÉ DE CONEJO\, DÁTILES\, PISTACHOS\, PANCETA CON SALSA DE GARAM MASALA\nALBÓNDIGAS DE JABALÍ EN SALSA HOISIN CON CHIPS DE VERDURAS\nSi os preguntáis\, qué son las gallinejas\, en nuestro canal de youtube os lo explicamos en el siguiente vídeo: \n \nPara este curso\, os recomendamos el libro Caza y pesca\, de Ramón J.Soria\, que puedes encontrar en nuestra tienda. Además\, durante ese día\, por participar en el curso tendrás 5% de descuento en nuestra librería. \n¿Qué necesitas para participar en nuestros cursos de cocina? Solo ganas de cocinar y aprender! Todo lo necesario para preparar los platos de cada clase\, te lo damos en A Punto. Y el delantal te lo puedes llevar a casa! \n  \n  \n 
URL:https://apuntococina.com/cursodecocina/curso-de-cocina-con-caza/
LOCATION:A Punto CHUECA\, Calle Farmacia 6\, Madrid\, 28004
CATEGORIES:Cursos de cocina tradicional
ATTACH;FMTTYPE=image/jpeg:https://apuntococina.com/wp-content/uploads/2019/06/CURSO-CARNES-PRESA.jpg
END:VEVENT
END:VCALENDAR