BEGIN:VCALENDAR
VERSION:2.0
PRODID:-//A Punto - ECPv6.15.18//NONSGML v1.0//EN
CALSCALE:GREGORIAN
METHOD:PUBLISH
X-ORIGINAL-URL:https://apuntococina.com
X-WR-CALDESC:Eventos para A Punto
REFRESH-INTERVAL;VALUE=DURATION:PT1H
X-Robots-Tag:noindex
X-PUBLISHED-TTL:PT1H
BEGIN:VTIMEZONE
TZID:Europe/Paris
BEGIN:DAYLIGHT
TZOFFSETFROM:+0100
TZOFFSETTO:+0200
TZNAME:CEST
DTSTART:20250330T010000
END:DAYLIGHT
BEGIN:STANDARD
TZOFFSETFROM:+0200
TZOFFSETTO:+0100
TZNAME:CET
DTSTART:20251026T010000
END:STANDARD
BEGIN:DAYLIGHT
TZOFFSETFROM:+0100
TZOFFSETTO:+0200
TZNAME:CEST
DTSTART:20260329T010000
END:DAYLIGHT
BEGIN:STANDARD
TZOFFSETFROM:+0200
TZOFFSETTO:+0100
TZNAME:CET
DTSTART:20261025T010000
END:STANDARD
BEGIN:DAYLIGHT
TZOFFSETFROM:+0100
TZOFFSETTO:+0200
TZNAME:CEST
DTSTART:20270328T010000
END:DAYLIGHT
BEGIN:STANDARD
TZOFFSETFROM:+0200
TZOFFSETTO:+0100
TZNAME:CET
DTSTART:20271031T010000
END:STANDARD
END:VTIMEZONE
BEGIN:VEVENT
DTSTART;TZID=Europe/Paris:20261020T193000
DTEND;TZID=Europe/Paris:20261020T220000
DTSTAMP:20260423T103151
CREATED:20210810T125236Z
LAST-MODIFIED:20260204T140708Z
UID:86469-1792524600-1792533600@apuntococina.com
SUMMARY:Curso de legumbres y guisos 20/10/26
DESCRIPTION:FABADA ASTURIANA (D.O)\n\n\nPotaje de LENTEJAS de La Armuña (D.O.)  ( y un ali oli que siempre enriquece los guisos)\n\n\nDAHL DE LENTEJAS ROJAS CON BURRATA ( y un pesto para acompañar)\nGARBANZOS CON BACALAO  ( y un hummus que sacaremos de los garbanzos que sobren)\n\n\nUn curso totalmente participativo en el que daremos una vuelta al mundo de las legumbres más clásicas y las menos usadas.
URL:https://apuntococina.com/cursodecocina/curso-de-legumbres-y-guisos/
LOCATION:A Punto CHUECA\, Calle Farmacia 6\, Madrid\, 28004
CATEGORIES:Cursos de cocina tradicional
ATTACH;FMTTYPE=image/jpeg:https://apuntococina.com/wp-content/uploads/2020/01/Guiso-de-lentejas.jpg
END:VEVENT
END:VCALENDAR