BEGIN:VCALENDAR
VERSION:2.0
PRODID:-//A Punto - ECPv6.15.18//NONSGML v1.0//EN
CALSCALE:GREGORIAN
METHOD:PUBLISH
X-WR-CALNAME:A Punto
X-ORIGINAL-URL:https://apuntococina.com
X-WR-CALDESC:Eventos para A Punto
REFRESH-INTERVAL;VALUE=DURATION:PT1H
X-Robots-Tag:noindex
X-PUBLISHED-TTL:PT1H
BEGIN:VTIMEZONE
TZID:Europe/Paris
BEGIN:DAYLIGHT
TZOFFSETFROM:+0100
TZOFFSETTO:+0200
TZNAME:CEST
DTSTART:20250330T010000
END:DAYLIGHT
BEGIN:STANDARD
TZOFFSETFROM:+0200
TZOFFSETTO:+0100
TZNAME:CET
DTSTART:20251026T010000
END:STANDARD
BEGIN:DAYLIGHT
TZOFFSETFROM:+0100
TZOFFSETTO:+0200
TZNAME:CEST
DTSTART:20260329T010000
END:DAYLIGHT
BEGIN:STANDARD
TZOFFSETFROM:+0200
TZOFFSETTO:+0100
TZNAME:CET
DTSTART:20261025T010000
END:STANDARD
BEGIN:DAYLIGHT
TZOFFSETFROM:+0100
TZOFFSETTO:+0200
TZNAME:CEST
DTSTART:20270328T010000
END:DAYLIGHT
BEGIN:STANDARD
TZOFFSETFROM:+0200
TZOFFSETTO:+0100
TZNAME:CET
DTSTART:20271031T010000
END:STANDARD
END:VTIMEZONE
BEGIN:VEVENT
DTSTART;TZID=Europe/Paris:20260806T193000
DTEND;TZID=Europe/Paris:20261027T220000
DTSTAMP:20260421T072257
CREATED:20211102T162022Z
LAST-MODIFIED:20251202T190640Z
UID:88563-1786044600-1793138400@apuntococina.com
SUMMARY:Curso de Cocina con Carnes 6/8/26
DESCRIPTION:Curso de Cocina con Carnes en Madrid centro  \nRodeamos de naturaleza realizaremos este curso teniendo en cuenta tres ingredientes fundamentales: la carne \, el aceite y la huerta de temporada. \n  \n¿Qué haremos? \n  \nPOLLO AL HORNO CON PATATAS TIPO HASSELBACK\nSTEAK TARTARE CON CHIPS DE PLÁTANO MACHO\nVITELLO TONNATO CON SU SALSA DE ATÚN\nKEBAB DE CORDERO CON SU SALSA DE YOGUR\n\nEn este curso de Cocina con carnes  se trabajará con las carnes limpias y listas para cocinar de Higinio Gómez (Mercado Vallehermoso Madrid)\, trabajaremos con la verdura de temporada de nuestros vecinos de Tómate la Huerta de Torremocha del Jarama y el aceite de Quantum de Torremocha del Jarama \nDespués de la cocina ¡a disfrutar de la cocina con vinos! \n  \n 
URL:https://apuntococina.com/cursodecocina/curso-de-cocina-con-caza-en-la-sierra-de-madrid/
LOCATION:A Punto CHUECA\, Calle Farmacia 6\, Madrid\, 28004
CATEGORIES:Cursos de cocina tradicional
ATTACH;FMTTYPE=image/jpeg:https://apuntococina.com/wp-content/uploads/2021/11/curso-de-carnes.jpg
END:VEVENT
END:VCALENDAR