BEGIN:VCALENDAR
VERSION:2.0
PRODID:-//A Punto - ECPv6.15.18//NONSGML v1.0//EN
CALSCALE:GREGORIAN
METHOD:PUBLISH
X-WR-CALNAME:A Punto
X-ORIGINAL-URL:https://apuntococina.com
X-WR-CALDESC:Eventos para A Punto
REFRESH-INTERVAL;VALUE=DURATION:PT1H
X-Robots-Tag:noindex
X-PUBLISHED-TTL:PT1H
BEGIN:VTIMEZONE
TZID:Europe/Paris
BEGIN:DAYLIGHT
TZOFFSETFROM:+0100
TZOFFSETTO:+0200
TZNAME:CEST
DTSTART:20250330T010000
END:DAYLIGHT
BEGIN:STANDARD
TZOFFSETFROM:+0200
TZOFFSETTO:+0100
TZNAME:CET
DTSTART:20251026T010000
END:STANDARD
BEGIN:DAYLIGHT
TZOFFSETFROM:+0100
TZOFFSETTO:+0200
TZNAME:CEST
DTSTART:20260329T010000
END:DAYLIGHT
BEGIN:STANDARD
TZOFFSETFROM:+0200
TZOFFSETTO:+0100
TZNAME:CET
DTSTART:20261025T010000
END:STANDARD
BEGIN:DAYLIGHT
TZOFFSETFROM:+0100
TZOFFSETTO:+0200
TZNAME:CEST
DTSTART:20270328T010000
END:DAYLIGHT
BEGIN:STANDARD
TZOFFSETFROM:+0200
TZOFFSETTO:+0100
TZNAME:CET
DTSTART:20271031T010000
END:STANDARD
END:VTIMEZONE
BEGIN:VEVENT
DTSTART;TZID=Europe/Paris:20260806T193000
DTEND;TZID=Europe/Paris:20260806T220000
DTSTAMP:20260423T121115
CREATED:20211102T162022Z
LAST-MODIFIED:20260421T153705Z
UID:88563-1786044600-1786053600@apuntococina.com
SUMMARY:Curso de cocina con carnes 6/8/26
DESCRIPTION:Curso de cocina con carnes\nEn este curso de cocina con carnes\, trabajaremos con las carnes limpias y listas para cocinar de Higinio Gómez (Mercado Vallehermoso); con la verdura de temporada de nuestros vecinos de Tómate la Huerta de Torremocha del Jarama y el aceite de Quantum de Torremocha del Jarama. Después de la cocina ¡a disfrutar de las recetas con el vino que hemos elegido para la clase! \n¿Qué vamos a preparar?\n\n\nPollo al horno con patatas tipo Hasselback\nSteak Tartare con chips de plátano macho\nVitello tonnato con su salsa de atún\nKebab de cordero con su salsa de yogur\n\n\nY ya que hablamos de carnes\, ¿qué tanto sabes de la ternera y el ternasco? \n \nEn A Punto todos nuestros cursos de cocina son prácticos. Te daremos un delantal nada más llegar\, y ¡al lío! Además\, ese día tienes un 5% de descuento en nuestra tienda para libros\, vinos y utensilios de cocina. \nDurante la clase\, Ana Lorente\, nuestra experta en vinos\, habrá elegido una botella que maride perfectamente con lo que vais a preparar\, y al terminar la clase os podréis comer los platos que hayáis elaborado o llevaros a casa lo que haya sobrado\, si es que esto ocurre. Ah! Y el delantal también os lo podéis quedar de recuerdo. \nLos grupos son reducidos para que la atención sea lo más personalizada posible\, y nuestros chefs tienen años de experiencia\, tanto en cocina como impartiendo clases. \nAsí que\, no lo dudes: apúntate a nuestro curso de carnes y después dejarás impresionados a todos tus amigos. \n¿Necesitas más razones para apuntarte a un curso de cocina? No te preocupes\, en este artículo te damos 10.
URL:https://apuntococina.com/cursodecocina/curso-de-cocina-con-caza-en-la-sierra-de-madrid/
LOCATION:A Punto CHUECA\, Calle Farmacia 6\, Madrid\, 28004
CATEGORIES:Cursos de cocina tradicional
ATTACH;FMTTYPE=image/jpeg:https://apuntococina.com/wp-content/uploads/2021/11/curso-de-carnes.jpg
END:VEVENT
END:VCALENDAR