BEGIN:VCALENDAR
VERSION:2.0
PRODID:-//A Punto - ECPv6.15.18//NONSGML v1.0//EN
CALSCALE:GREGORIAN
METHOD:PUBLISH
X-ORIGINAL-URL:https://apuntococina.com
X-WR-CALDESC:Eventos para A Punto
REFRESH-INTERVAL;VALUE=DURATION:PT1H
X-Robots-Tag:noindex
X-PUBLISHED-TTL:PT1H
BEGIN:VTIMEZONE
TZID:Europe/Paris
BEGIN:DAYLIGHT
TZOFFSETFROM:+0100
TZOFFSETTO:+0200
TZNAME:CEST
DTSTART:20250330T010000
END:DAYLIGHT
BEGIN:STANDARD
TZOFFSETFROM:+0200
TZOFFSETTO:+0100
TZNAME:CET
DTSTART:20251026T010000
END:STANDARD
BEGIN:DAYLIGHT
TZOFFSETFROM:+0100
TZOFFSETTO:+0200
TZNAME:CEST
DTSTART:20260329T010000
END:DAYLIGHT
BEGIN:STANDARD
TZOFFSETFROM:+0200
TZOFFSETTO:+0100
TZNAME:CET
DTSTART:20261025T010000
END:STANDARD
BEGIN:DAYLIGHT
TZOFFSETFROM:+0100
TZOFFSETTO:+0200
TZNAME:CEST
DTSTART:20270328T010000
END:DAYLIGHT
BEGIN:STANDARD
TZOFFSETFROM:+0200
TZOFFSETTO:+0100
TZNAME:CET
DTSTART:20271031T010000
END:STANDARD
END:VTIMEZONE
BEGIN:VEVENT
DTSTART;TZID=Europe/Paris:20260803T193000
DTEND;TZID=Europe/Paris:20260803T220000
DTSTAMP:20260423T103213
CREATED:20190625T161858Z
LAST-MODIFIED:20251202T185940Z
UID:60671-1785785400-1785794400@apuntococina.com
SUMMARY:Curso de cortes\, salteados y bases con verduras 3/8/26
DESCRIPTION:Curso de cortes\, salteados y bases con verduras en A Punto  \nNuestros primeros cortes\, caldos y sopas frías. Este curso es fundamental para coger las bases de la cocina tradicional. Partiendo de la técnica se desarrollarán las siguientes recetas: \nPrimero\, aprenderemos sobre cuchillos: ¿cuántos tipos hay y para qué sirve cada uno?\nSegundo\, aprenderemos a manejar los cuchillos con corrección.\nTercero\, comenzaremos a hacer los diferentes tipos de cortes con distintas piezas de verduras.\nPor último\, ¡a cocinar! Haremos un recorrido por el huerto de temporada\, buscando la mejor materia prima para\ncomenzar a elaborar un recetario basado en los cortes básicos. \n  \n  \nEnsaladilla rusa\, como dictan los cánones de la tradición y su Mahonesa… ¡¡¡que no… que no se corta!!!\nEnsalada coleslaw con hamburguesa de lentejas\nParmesana de berenjenas\nSalmorejo tradicional y de frutas\n\n  \n  \nPara ir calentando motores\, antes de venir al Curso de cortes salteados y bases con verduras\, puedes echarle un ojo a este vídeo: \n  \n \n  \nEn A Punto Escuela de cocina\, todos nuestros cursos son en grupos reducidos para que la atención sea personalizada\, y completamente prácticos\, es decir\, que a aquí nadie viene a mirar\, porque nosotros creemos que la mejor manera de aprender a cocinar es cocinando. Por ello\, nada más llegar\, te daremos un delantal que después te podrás llevar a casa de recuerdo\, tendrás listo tu cuchillo y tu tabla para cortar\, y al lío. \nDespués podéis comeros los platos que hayáis preparado\, o si lo preferís\, llevaroslos a casa para disfrutarlos después. \nY mientras dura la clase\, tendréis un vinito que os habrá seleccionado Ana Lorente\, nuestra experta en vino\, y que maridará perfectamente con los paltos que vais a preparar.
URL:https://apuntococina.com/cursodecocina/curso-de-cortes-salteados-y-bases-con-verduras/
LOCATION:A Punto CHUECA\, Calle Farmacia 6\, Madrid\, 28004
CATEGORIES:Cursos de cocina tradicional
ATTACH;FMTTYPE=image/jpeg:https://apuntococina.com/wp-content/uploads/2019/06/Curso-de-verduras-Almodrote-de-berenjenas.jpg
END:VEVENT
BEGIN:VEVENT
DTSTART;TZID=Europe/Paris:20260803T193000
DTEND;TZID=Europe/Paris:20260804T220000
DTSTAMP:20260423T103213
CREATED:20190425T112322Z
LAST-MODIFIED:20251118T180905Z
UID:58516-1785785400-1785880800@apuntococina.com
SUMMARY:Curso express de cocina tradicional 3-6/8/26
DESCRIPTION:Curso express  de cocina tradicional \nPara los que queréis ‘picotear’ de cocina\, coger las primeras bases o simplemente adquirir técnicas que aún no se dominan. \nEn este curso express de cocina tradicional  se pretende que los alumnos encuentren la confianza en la cocina\, las ganas de ceñirse a la cocina tradicional pero con un guiño de innovación y que busquen aprender sobre técnicas básicas para comenzar a triunfar en cocina. \nEl Curso\nDuración: 4 clases del 3 al 6 de agosto de 2026 \nEl Programa\nClase 1\nLUNES 3 DE AGOSTO    . Cortes\, salsas y nuestras primeras cremas\nNos metemos con los cortes de verduras ¡aprenderemos a cortar! Después haremos nuestro primer sofrito y más tarde haremos las salsas frías y calientes más ricas del verano. \nTodo ello con el siguiente recetario: \nEnsaladilla rusa\, como dictan los cánones de la tradición y su Mahonesa… ¡¡¡que no… que no se corta!!! \nEnsalada coleslaw con hamburguesa de lentejas\nParmesana de berenjenas\nSalmorejo tradicional y de frutas\nPUEDES COMPRAR LA CLASE SUELTA  AQUÍ \n  \nClase 2 MARTES 4 DE AGOSTO   . Los arroces en la cocina tradicional española. \nVamos a recorrer el mundo del arroz a través de los productos de temporada y de las maneras de preparar el arroz en las diferentes zonas de España. \nRISOTTO DE CALABAZA Y CRUMBLE DE PANCETA\nARROZ CALDOSO DE RAPES Y ALMEJAS EN SALSA VERDE\nARROZ SECO DE PRESA IBÉRICA Y COSTILLAS DE CERDO\nCALDOS DE MARISCO Y DE CARNE\nCon su alioli tradicional\nPUEDES COMPRAR LA CLASE SUELTA AQUÍ \n  \nClase 3\nMIÉRCOLES 5 DE AGOSTO    . La cocina del mar: pescados y mariscos \nUn recorrido por las joyas del mar: pescados y mariscos. ¿Cómo cortar correctamente? ¿Cómo trabajar el pescado de temporada? ¿Qué tipo de aliños podríamos hacer para resaltar el sabor del pescado? Comenzaremos a aprender a cortar un pescado (aunque luego os lo haga vuestro pescadero… ¡el saber no ocupa lugar!) y por último a cocinarlo. \nCEVICHE DE PESCADO DE TEMPORADA CON SU LECHE DE TIGRE\nMERLUZA EN SALSA VERDE CON ALMEJAS\nMEJILLONES AL VAPOR A LA MARINERA Y CON SALSA DE CURRY\nPAPILLOTE DE PESCADO CON SUS VERDURAS\, LIGERO Y SALUDABLE\nCALDO DE PESCADO\nPUEDES COMPRAR LA CLASE SUELTA AQUÍ \n  \nClase 4\nJUEVES 6 DE AGOSTO      Las carnes  \nPues eso… trabajaremos con el cerdo\, la ternera y el cordero. Y con todo ello haremos platillos super ricos para el verano. Aprenderemos las diferentes partes de cada animal y cómo trabajar con ellas y luego ¡cómo cortar! \nPOLLO AL HORNO CON PATATAS RISOLADAS\nSTEAK TARTARE CON CHIPS DE PLÁTANO MACHO\nVITELLO TONNATO CON SU SALSA DE ATÚN\nKEBAB DE CORDERO CON SU SALSA DE YOGUR\nPUEDES COMPRAR LA CLASE SUELTA del Curso express  de cocina tradicional AQUÍ \n  \n  \n 
URL:https://apuntococina.com/cursodecocina/curso-express-de-verano-de-cocina-tradicional/
LOCATION:A Punto Madrid Centro\, Calle farmacia 6\, Madrid\, 28004\, España
CATEGORIES:Cursos intensivos
ATTACH;FMTTYPE=image/jpeg:https://apuntococina.com/wp-content/uploads/2022/10/CURSO-COCINA-CON-FOIE-JOSE-LUQUE-087-scaled.jpg
END:VEVENT
END:VCALENDAR