BEGIN:VCALENDAR
VERSION:2.0
PRODID:-//A Punto - ECPv6.15.18//NONSGML v1.0//EN
CALSCALE:GREGORIAN
METHOD:PUBLISH
X-ORIGINAL-URL:https://apuntococina.com
X-WR-CALDESC:Eventos para A Punto
REFRESH-INTERVAL;VALUE=DURATION:PT1H
X-Robots-Tag:noindex
X-PUBLISHED-TTL:PT1H
BEGIN:VTIMEZONE
TZID:Europe/Paris
BEGIN:DAYLIGHT
TZOFFSETFROM:+0100
TZOFFSETTO:+0200
TZNAME:CEST
DTSTART:20250330T010000
END:DAYLIGHT
BEGIN:STANDARD
TZOFFSETFROM:+0200
TZOFFSETTO:+0100
TZNAME:CET
DTSTART:20251026T010000
END:STANDARD
BEGIN:DAYLIGHT
TZOFFSETFROM:+0100
TZOFFSETTO:+0200
TZNAME:CEST
DTSTART:20260329T010000
END:DAYLIGHT
BEGIN:STANDARD
TZOFFSETFROM:+0200
TZOFFSETTO:+0100
TZNAME:CET
DTSTART:20261025T010000
END:STANDARD
BEGIN:DAYLIGHT
TZOFFSETFROM:+0100
TZOFFSETTO:+0200
TZNAME:CEST
DTSTART:20270328T010000
END:DAYLIGHT
BEGIN:STANDARD
TZOFFSETFROM:+0200
TZOFFSETTO:+0100
TZNAME:CET
DTSTART:20271031T010000
END:STANDARD
END:VTIMEZONE
BEGIN:VEVENT
DTSTART;TZID=Europe/Paris:20260802T113000
DTEND;TZID=Europe/Paris:20260802T140000
DTSTAMP:20260423T135013
CREATED:20210901T153227Z
LAST-MODIFIED:20260221T124512Z
UID:86656-1785670200-1785679200@apuntococina.com
SUMMARY:Curso de arroces 2/8/26
DESCRIPTION:Curso de arroces en A Punto\nEn este es un curso de cocina de arroces te enseñaremos las bases de la cocina española. Vamos a trabajar con el producto de temporada y aprenderás las bases de preparación de los caldos\, además de los estilos de arroz más comunes en los domingos del campo. \nLa clase de cocina de arroces en A Punto\, tiene una duración de 2h30 min. Vamos a cocinar\, siguiendo las indicaciones del chef y luego\, compartiremos los platos que hemos elaborado. Como añadido\, tendrás una mini cata de vinos. \nTodos los alumnos recibirán la materia prima\, los utensilios necesarios y el delantal. \n¿Qué vamos a preparar en el curso de arroces?\n\n\nRisotto con gambas rojas y tomate seco\nArroz caldoso de rape y almejas en salsa verde\nArroz en paella al estilo valenciano\nCaldos de marisco y de carne\n\n\n 
URL:https://apuntococina.com/cursodecocina/curso-arroces-sierra-norte/
LOCATION:A Punto CHUECA\, Calle Farmacia 6\, Madrid\, 28004
CATEGORIES:Cursos de arroces
ATTACH;FMTTYPE=image/jpeg:https://apuntococina.com/wp-content/uploads/2020/01/curso-de-arroces-en-madrid-centro.jpg
END:VEVENT
END:VCALENDAR