BEGIN:VCALENDAR
VERSION:2.0
PRODID:-//A Punto - ECPv6.15.18//NONSGML v1.0//EN
CALSCALE:GREGORIAN
METHOD:PUBLISH
X-ORIGINAL-URL:https://apuntococina.com
X-WR-CALDESC:Eventos para A Punto
REFRESH-INTERVAL;VALUE=DURATION:PT1H
X-Robots-Tag:noindex
X-PUBLISHED-TTL:PT1H
BEGIN:VTIMEZONE
TZID:Europe/Paris
BEGIN:DAYLIGHT
TZOFFSETFROM:+0100
TZOFFSETTO:+0200
TZNAME:CEST
DTSTART:20250330T010000
END:DAYLIGHT
BEGIN:STANDARD
TZOFFSETFROM:+0200
TZOFFSETTO:+0100
TZNAME:CET
DTSTART:20251026T010000
END:STANDARD
BEGIN:DAYLIGHT
TZOFFSETFROM:+0100
TZOFFSETTO:+0200
TZNAME:CEST
DTSTART:20260329T010000
END:DAYLIGHT
BEGIN:STANDARD
TZOFFSETFROM:+0200
TZOFFSETTO:+0100
TZNAME:CET
DTSTART:20261025T010000
END:STANDARD
BEGIN:DAYLIGHT
TZOFFSETFROM:+0100
TZOFFSETTO:+0200
TZNAME:CEST
DTSTART:20270328T010000
END:DAYLIGHT
BEGIN:STANDARD
TZOFFSETFROM:+0200
TZOFFSETTO:+0100
TZNAME:CET
DTSTART:20271031T010000
END:STANDARD
END:VTIMEZONE
BEGIN:VEVENT
DTSTART;TZID=Europe/Paris:20260724T193000
DTEND;TZID=Europe/Paris:20260725T220000
DTSTAMP:20260421T073418
CREATED:20240302T130426Z
LAST-MODIFIED:20260409T091017Z
UID:108905-1784921400-1785016800@apuntococina.com
SUMMARY:Curso intensivo de cocina india 24-26/7/26
DESCRIPTION:Apúntate a nuestro Curso intensivo de cocina india con Anamika  del blog Spiceandcolour \n3 días y  3 clases en las que aprenderemos todos los secretos del mundo de las especias asiáticas\, nos iremos a Lavapiés a descubrir tiendas y degustaremos todos juntos lo preparado \nEl programa \n  \n24 de julio de  19.30  a 22.00 \nTécnicas y preparación base: \n-Pasta de ajo y jengibre \n-Mezcla de especias \n-Gram Masala \n-Técnicas de marinar \n-Técnicas de templado de especias \n-Ghee \n  \nPlatos elaborados utilizando estas técnicas: \n-Pollo al curry \n-Pollo Tikka Masala \n-Pan Naan \n-Tamarind Rice \nCOMPRA LA CLASE SUELTA AQUÍ  \n25 de julio a las 11.00\nQuedamos con nuestra cocinera Anamika  en Lavapiés para ir de compras! Podremos dar respuesta a todas las preguntas que siempre nos hacéis sobre verduras raras\, los mil tipos de arroces que existen\, las millones de especias que se venden en el barrio. Y nos llevaremos algo a la cocina para probar! \n  \n25 de julio 12.30 Cocina india vegetariana \nMango lassi \n-Papadums con Chutney de melocotón \n-Salteado de Okra \n-Paneer \n-Palak Paneer  \n-Chapati \nCOMPRA LA CLASE SUELTA AQUÍ  \n26  de julio 11.30 \nCurso de street food de la India \n-Chutney de tamarindo \n-Chutney verde \n-Raita \n-Aloo Tikki Chaat (croquetas de patatas presentadas en un plato con los 3 Chutneys en varias capas\, virutas crujientes de harina de garbanzos (bhujia) y granadas decoradas por encima \n-Pani Puri \n-Pakora de verduras  \nCOMPRA LA CLASE SUELTA AQUÍ  \n  \n  \n\nDescubre los Secretos Culinarios de la India: Un Curso Intensivo de Cocina para el Verano \nSumérgete en el fascinante mundo de la cocina india con nuestro curso intensivo de verano\, diseñado para aquellos que desean explorar los sabores vibrantes y las técnicas culinarias únicas de esta rica tradición gastronómica. Desde las mezclas de especias como el Garam Masala hasta platos icónicos como el Biryani de Cordero\, este curso te llevará en un viaje culinario que despertará tus sentidos y te dejará con habilidades que podrás aplicar en tu propia cocina. \n  \n \nCurso  1: Conociendo los Fundamentos \nIntroducción al Curso: El viaje comienza con una inmersión en los ingredientes esenciales de la cocina india: Ghee\, pasta de ajo y jengibre\, y la crujiente Beresta (cebolla frita). \nMarinados y Sabores: Aprende las técnicas de marinado específicas para un Tikka Masala\, la obra maestra de pollo Korma\, y descubre los secretos detrás de un auténtico Arroz Pulao. \nSamosas y Acompañamientos: Manos a la obra con las Samosas vegetales y aprende a preparar el Chutney de Tamarindo que las complementará perfectamente. Después\, exploraremos Lavapiés para seleccionar los ingredientes más frescos y auténticos. \n  \nCurso 2: Delicias del Verano \nRefrescando el Paladar: Comenzaremos el día con un refrescante Mango Lassi\, seguido de la preparación del Chutney de Melocotón\, perfecto para los días calurosos de verano. \nPlatos Principales: La estrella del día será el Butter Chicken\, acompañado de langostinos al curry (Chingri Malaikari) y un salteado de Okra para una experiencia culinaria completa. Todo servido con el inconfundible aroma del Arroz Basmati. \n  \nCurso 3: Curso de Panes Indios \nVariedad de Panes: Aprenderemos a preparar varios tipos de panes\, desde el esponjoso Pan Naan hasta el crujiente Chapati (Roti) con dos técnicas diferentes. Verás como los Pan Paratha y la deliciosa Luchi o Poori no se quedarán atrás. \nAcompañamientos: No olvidemos el delicioso Paneer Bhurji\, será el  que hará que tus panes sean aún más irresistibles. \n  \nCurso 4: Explorando Sabores Profundos \nBiryani Magistral: Sumérgete en la complejidad de las especias con una lección sobre la mezcla Biryani Masala. Luego\, prepárate para el plato principal: Biryani de Cordero. \nAcompañamientos y Postre: Aprende a hacer Raita de Tomate y Pakoras de Verduras para acompañar el Biryani. Y para cerrar con broche de oro\, disfruta de Delicias de Zanahoria como postre. \nConclusión: Celebrando los Sabores de la India \nEste curso intensivo de cocina india ha sido más que una experiencia culinaria; ha sido un viaje a través de la diversidad de sabores\, aromas y técnicas que hacen única a la cocina india. Con tus nuevas habilidades culinarias\, estás listo para llevar a tu mesa los auténticos sabores de la India. ¡Namaste!
URL:https://apuntococina.com/cursodecocina/curso-intensivo-de-cocina-india/
LOCATION:A Punto CHUECA\, Calle Farmacia 6\, Madrid\, 28004
CATEGORIES:Cursos intensivos
ATTACH;FMTTYPE=image/jpeg:https://apuntococina.com/wp-content/uploads/2024/03/curso-intensivo-cocina-india.jpg
END:VEVENT
BEGIN:VEVENT
DTSTART;TZID=Europe/Paris:20260725T110000
DTEND;TZID=Europe/Paris:20260725T150000
DTSTAMP:20260421T073418
CREATED:20240313T131742Z
LAST-MODIFIED:20260224T124558Z
UID:109210-1784977200-1784991600@apuntococina.com
SUMMARY:Cocina india vegetariana 25/7/26
DESCRIPTION:a las 11.00\nQuedamos con nuestra cocinera Anamika  en Lavapiés para ir de compras! Podremos dar respuesta a todas las preguntas que siempre nos hacéis sobre verduras raras\, los mil tipos de arroces que existen\, las millones de especias que se venden en el barrio. Y nos llevaremos algo a la cocina para probar! \n  \n12.30 empezamos el curso de cocina \n  \n-Mango lassi \n-Papadums con Chutney de melocotón \n-Salteado de Okra \n-Paneer \n-Palak Paneer  \n-Chapati \n  \n 
URL:https://apuntococina.com/cursodecocina/cocina-india-vegetariana-2/
LOCATION:A Punto CHUECA\, Calle Farmacia 6\, Madrid\, 28004
CATEGORIES:Cursos cocina del mundo,Cursos de cocina vegetariana y vegana
ATTACH;FMTTYPE=image/jpeg:https://apuntococina.com/wp-content/uploads/2020/01/curso-de-cocina-india-en-madrid.jpg
END:VEVENT
BEGIN:VEVENT
DTSTART;TZID=Europe/Paris:20260725T193000
DTEND;TZID=Europe/Paris:20260725T220000
DTSTAMP:20260421T073418
CREATED:20240818T054116Z
LAST-MODIFIED:20260406T134616Z
UID:112517-1785007800-1785016800@apuntococina.com
SUMMARY:Curso de cocina coreana 25/7/26
DESCRIPTION:Aprenderemos a trabajar con nuevos ingredientes como pasteles de arroz Tteokbokki\, fideos de batata\, pasta de soja\, gochujang\, hilos de chile seco\, pasta de anchoas seca. \n\n\nBibimbap con yema curada\n\n\nBulgogi con tempura de batata\n\n\nCostillas a baja temperatura con kimchi y salsa picante\n\n\nPasteles de arroz Tteokbokki  al curry de pasta de anchoas secas con raiz de loto marinada en soja\n\n\nDescubre los Sabores de la Cocina Coreana: Bibimbap\, Bulgogi y Más \nLa cocina coreana es un mundo lleno de sabores intensos\, texturas variadas y preparaciones únicas. Desde el Bibimbap con yema curada hasta el Bulgogi con tempura de batata\, cada plato ofrece una experiencia gastronómica que deleita los sentidos. En este artículo\, te llevaremos a un recorrido por algunos de los platillos más emblemáticos de Corea del Sur\, destacando sus ingredientes\, técnicas de preparación y por qué deberías incluirlos en tu próximo menú. \nBibimbap con Yema Curada: Un Plato Tradicional con un Toque Moderno \nEl Bibimbap con yema curada es una versión innovadora de uno de los platillos más representativos de la gastronomía coreana. El Bibimbap\, que literalmente significa «arroz mezclado»\, es una combinación de arroz\, vegetales\, carne y un huevo\, generalmente frito. Sin embargo\, la incorporación de una yema curada en lugar de la tradicional frita lleva este plato a otro nivel. \nLa yema curada se obtiene mediante un proceso de conservación en sal\, que intensifica su sabor y le otorga una textura cremosa. Al romperla sobre el arroz caliente\, la yema se mezcla con los demás ingredientes\, creando una emulsión rica y sabrosa que envuelve cada grano de arroz. Además\, la combinación de vegetales frescos como espinacas\, zanahorias\, brotes de soja y setas shiitake\, junto con la carne marinada en gochujang (pasta de chile coreano)\, le da al plato un equilibrio perfecto entre lo picante\, lo dulce y lo umami. \nBulgogi con Tempura de Batata: Una Fusión de Sabores y Texturas \nEl Bulgogi con tempura de batata es otro plato imprescindible para los amantes de la comida coreana. El Bulgogi\, que se traduce como «carne de fuego»\, consiste en finas láminas de ternera marinadas en una mezcla de salsa de soja\, azúcar\, ajo\, cebolla\, y aceite de sésamo\, que luego se cocinan a la parrilla o en una sartén caliente. \nPara darle un giro interesante a este clásico\, se acompaña con tempura de batata. La batata\, con su dulzura natural\, se corta en rodajas finas y se sumerge en una masa ligera de tempura antes de ser frita hasta alcanzar una textura crujiente y dorada. La combinación del Bulgogi tierno y jugoso con la tempura crujiente crea un contraste de texturas que es simplemente irresistible. Además\, la dulzura de la batata complementa perfectamente el sabor salado y ligeramente dulce de la carne. \nCostillas a Baja Temperatura con Kimchi y Salsa Picante: Tradición y Técnica Moderna \nLas costillas a baja temperatura con kimchi y salsa picante son una fusión de técnicas de cocción modernas con los sabores tradicionales de Corea. Cocinar las costillas a baja temperatura\, o sous-vide\, permite que la carne se cocine de manera uniforme\, manteniendo su jugosidad y potenciando su sabor. Esta técnica también asegura que la carne se desprenda del hueso con facilidad. \nEl kimchi\, un acompañamiento esencial en cualquier comida coreana\, añade un toque picante y ácido que equilibra la riqueza de las costillas. Además\, la salsa picante\, elaborada con gochujang y otros condimentos\, refuerza los sabores del plato y ofrece un toque de calor que es característico de la cocina coreana. \nPasteles de Arroz Tteokbokki al Curry de Pasta de Anchoas Secas con Raíz de Loto Marinada en Soja: Una Explosión de Sabores \nEl Tteokbokki es uno de los platos callejeros más populares de Corea\, y en esta versión se lleva al siguiente nivel con un **curry de pasta de anchoas secas y raíz de loto marinada en soja**. Los pasteles de arroz\, o tteok\, son suaves y ligeramente masticables\, perfectos para absorber el sabor del curry\, que combina el umami de las anchoas secas con especias aromáticas. \nLa raíz de loto marinada en soja añade una textura crujiente al plato\, así como un sabor ligeramente dulce y terroso que contrasta con el picante del curry. Esta combinación de ingredientes crea un plato que es complejo\, satisfactorio y completamente adictivo. \nCada uno de estos platos\, desde el Bibimbap con yema curada hasta los pasteles de arroz Tteokbokki al curry de pasta de anchoas secas con raíz de loto marinada en soja\, refleja la diversidad y riqueza de la cocina coreana. Incorporar estos sabores en tu cocina no solo te permitirá disfrutar de una experiencia culinaria única\, sino que también te conectará con la rica tradición cultural de Corea del Sur. No dudes en explorar estos platos y deleitar tu paladar con una explosión de sabores que te llevará directamente a las calles de Seúl. \nEcha un vistazo a nuestros libros de cocina coreana \nTenemos más cursos de cocina del mundo\, puedes verlos aquí  \nprepara unas deliciosas costillas de cerdo adobadas con nuestros video cursos \n 
URL:https://apuntococina.com/cursodecocina/curso-de-cocina-coreana/
LOCATION:A Punto CHUECA\, Calle Farmacia 6\, Madrid\, 28004
CATEGORIES:Cursos cocina del mundo,Cursos de cocina asiatica
ATTACH;FMTTYPE=image/jpeg:https://apuntococina.com/wp-content/uploads/2020/01/coreamesa-scaled.jpg
END:VEVENT
END:VCALENDAR