BEGIN:VCALENDAR
VERSION:2.0
PRODID:-//A Punto - ECPv6.15.18//NONSGML v1.0//EN
CALSCALE:GREGORIAN
METHOD:PUBLISH
X-WR-CALNAME:A Punto
X-ORIGINAL-URL:https://apuntococina.com
X-WR-CALDESC:Eventos para A Punto
REFRESH-INTERVAL;VALUE=DURATION:PT1H
X-Robots-Tag:noindex
X-PUBLISHED-TTL:PT1H
BEGIN:VTIMEZONE
TZID:Europe/Paris
BEGIN:DAYLIGHT
TZOFFSETFROM:+0100
TZOFFSETTO:+0200
TZNAME:CEST
DTSTART:20250330T010000
END:DAYLIGHT
BEGIN:STANDARD
TZOFFSETFROM:+0200
TZOFFSETTO:+0100
TZNAME:CET
DTSTART:20251026T010000
END:STANDARD
BEGIN:DAYLIGHT
TZOFFSETFROM:+0100
TZOFFSETTO:+0200
TZNAME:CEST
DTSTART:20260329T010000
END:DAYLIGHT
BEGIN:STANDARD
TZOFFSETFROM:+0200
TZOFFSETTO:+0100
TZNAME:CET
DTSTART:20261025T010000
END:STANDARD
BEGIN:DAYLIGHT
TZOFFSETFROM:+0100
TZOFFSETTO:+0200
TZNAME:CEST
DTSTART:20270328T010000
END:DAYLIGHT
BEGIN:STANDARD
TZOFFSETFROM:+0200
TZOFFSETTO:+0100
TZNAME:CET
DTSTART:20271031T010000
END:STANDARD
END:VTIMEZONE
BEGIN:VEVENT
DTSTART;TZID=Europe/Paris:20260711T113000
DTEND;TZID=Europe/Paris:20260711T140000
DTSTAMP:20260423T103107
CREATED:20190612T120341Z
LAST-MODIFIED:20260113T122217Z
UID:60387-1783769400-1783778400@apuntococina.com
SUMMARY:Curso de arroces 11/7/26
DESCRIPTION:Curso de arroces en A Punto. Estamos en el centro de Madrid. \n¿Qué prepararemos? \nArroz caldoso con carrillera de cerdo y setas de temporada\nRisotto de pera y jamón al gorgonzola\nArroz seco  de chipirones en su tinta\nAli oli tradicional\n \nEl alioli es una salsa tan mediterránea como el mar\, y se utiliza en la cocina de nuestro país desde\, nada más y nada menos\, que el siglo X. Con una paella\, un arroz negro\, arroz a banda o fideuá no puede faltar. Aunque combina perfectamente también con el pollo\, el conejo o el cordero\, y pescados como la sepia o el calamar. Con verduras asadas\, patatas… o en vinagreta para una ensalada. \nEn Francia al alioli lo llaman  le grand aöli y en Italia\, aglio oglio\, y es una de las salsas más antiguas que existen. De hecho\, era muy popular a lo largo y ancho del Imperio Romano. Por ello\, en nuestro curso de arroces ocupa un papel fundamental.  \nEn A Punto\, los cursos de arroces en Madrid centro  son totalmente prácticos\, y para todos los niveles. Además los grupos son reducidos para que te puedan atender de la forma más personal posible. Y ese día\, recuerda que tienes un 5% de descuento en nuestra tienda. \nEn todos nuestros cursos aprendemos a preparar 3 tipos distintos de arroces\, caldoso meloso y seco para que podamos centrarnos en las técnicas para luego\, en casa\, poder cambiar como queramos los ingredientes \nVerás que lo más importante es definir los momentos para las verduras y que las carnes o pescados no pierdan el punto \n 
URL:https://apuntococina.com/cursodecocina/curso-de-arroces/
LOCATION:A Punto Madrid Centro\, Calle farmacia 6\, Madrid\, 28004\, España
CATEGORIES:Cursos de arroces
ATTACH;FMTTYPE=image/jpeg:https://apuntococina.com/wp-content/uploads/2020/01/curso-de-arroces-en-madrid-centro.jpg
END:VEVENT
BEGIN:VEVENT
DTSTART;TZID=Europe/Paris:20260711T160000
DTEND;TZID=Europe/Paris:20260711T183000
DTSTAMP:20260423T103107
CREATED:20190610T174049Z
LAST-MODIFIED:20260316T134423Z
UID:60332-1783785600-1783794600@apuntococina.com
SUMMARY:Pizzas\, focaccias y tartas saladas 11/7/26
DESCRIPTION:Curso de pizzas\, focaccias y tartas saladas  \n¿QUÉ PREPARAREMOS? \nFocaccia integral con pimiento asado y tomillo\nMasa de pizza de trigo blanco con masa madre para aliñar con Pesto de avellanas\, stracciatella de burrata\, mortadella  rúcula   y con aliño de  Tomates Cherry confitados en aceite de romero\, mozzarella y aceituna negras\nQuiche lorraine de  puerros con su masa de verdad\nPão de queijo brasileño\n\n \nEn A Punto no conocemos a nadie al que no le guste comer. Y aprender a cocinar para después poder hacerte tus platos favoritos\, es una de las experiencias más gloriosas. Pero tiene muchas más ventajas: \nPara empezar\, ahorrarás\, ya que no tendrás que gastar en comida precocinada\, que siempre sale más caro. Además\, es más sano que comer en la calle. Y con un poco de experiencia\, irás probando nuevos sabores\, arriesgando\, y quién sabe\, a lo mejor terminas descubriendo que dentro de ti se escondía un gran chef. \nSi algo tiene la cocina\, es que te obliga a sacar la parte más creativa que tienes. Siempre se descubren nuevos sabores\, nuevas mezclas\, nuevos ingredientes. Cocinar nunca es monótono\, puede ser toda una aventura. \nNuestros cursos son en grupos reducidos para que podamos atenderte de la mejor manera. También son prácticos\, es decir\, nada de venir a mirar\, en seguida empezarás a cortar\, pelar y pochar. Y el ambiente siempre es genial\, así que quién sabe\, a lo mejor\, además de aprender a cocinar\, a lo mejor sales de aquí con amigos nuevos. \nPor eso\, te esperamos en nuestro curso de pizzas\, focaccias y tartas saladas. \n 
URL:https://apuntococina.com/cursodecocina/curso-de-pizzas-focaccias-y-tartas-saladas/
LOCATION:A Punto CHUECA\, Calle Farmacia 6\, Madrid\, 28004
CATEGORIES:Cursos de pan
ATTACH;FMTTYPE=image/png:https://apuntococina.com/wp-content/uploads/2019/06/Curso-de-pizzas-focaccias-y-tartas-saladas.png
END:VEVENT
BEGIN:VEVENT
DTSTART;TZID=Europe/Paris:20260711T193000
DTEND;TZID=Europe/Paris:20260711T220000
DTSTAMP:20260423T103107
CREATED:20190325T130944Z
LAST-MODIFIED:20260329T134127Z
UID:38905-1783798200-1783807200@apuntococina.com
SUMMARY:Curso de cocina tailandesa 11/7/26
DESCRIPTION:Curso de cocina tailandesa en A Punto.\n\n¿QUÉ RECETAS APRENDEREMOS A PREPARAR?\n\nPlamuk Pad Pong Garee ( Calamares fritos con curry)\nPad thai tradicional con langostinos y en su versión con carne de cerdo\nTom Kha Gai  ( la famosa sopa de pollo en leche de coco)\nSopa Khao Soi  con sus noodles\nPoh Piah con salsa agridulce casera  ( los rollitos primavera al estilo thai)\n\n\n\n\n“TOM KHA GAI” (Sopa de pollo con leche de coco). Es la sopa más famosa de Tailandia\, fresca\, picante y aromática. Existen múltiples versiones\, la más habitual es la de pollo con leche de coco aromatizada con galanga (una raíz de la familia del jengibre pero de distinto sabor)\, salsa de pescado\, limoncillo o hierba limón y hojas de lima Kaffir\, además del pollo lleva tomate y setas. La sopa tiene el toque ácido de la lima o la salsa de tamarindo y la textura cremosa de la leche de coco.\n\n“POH PIAH” CON SALSA AGRIDULCE CASERA (Rollitos de primavera tailandeses)  Los rollitos de primavera estilo Thai\, es otro de los aperitivos más populares. De influencia vietnamita pero muy típicos en la cocina tailandesa. Las recetas de rollitos son muy comunes en toda Asia\, pero cada país tiene sus versiones diferentes y en Tailandia los preparan de una forma muy característica. Lleva fideos de cristal\, verduras y carne picada. Una vez fritos nos queda una textura crujiente por fuera que contrasta con el interior suave y delicioso del relleno\, acompañado de una salsa de chili dulce y naranja.\n\nTe esperamos en el curso de cocina tailandesa. Ah! Y trae tupper!
URL:https://apuntococina.com/cursodecocina/curso-de-cocina-thai/
LOCATION:A Punto CHUECA\, Calle Farmacia 6\, Madrid\, 28004
CATEGORIES:Cursos cocina del mundo,Cursos de cocina asiatica
ATTACH;FMTTYPE=image/jpeg:https://apuntococina.com/wp-content/uploads/2019/03/THAILANDIA-Sopa-tom-khakai.jpg
END:VEVENT
END:VCALENDAR