BEGIN:VCALENDAR
VERSION:2.0
PRODID:-//A Punto - ECPv6.15.18//NONSGML v1.0//EN
CALSCALE:GREGORIAN
METHOD:PUBLISH
X-ORIGINAL-URL:https://apuntococina.com
X-WR-CALDESC:Eventos para A Punto
REFRESH-INTERVAL;VALUE=DURATION:PT1H
X-Robots-Tag:noindex
X-PUBLISHED-TTL:PT1H
BEGIN:VTIMEZONE
TZID:Europe/Paris
BEGIN:DAYLIGHT
TZOFFSETFROM:+0100
TZOFFSETTO:+0200
TZNAME:CEST
DTSTART:20250330T010000
END:DAYLIGHT
BEGIN:STANDARD
TZOFFSETFROM:+0200
TZOFFSETTO:+0100
TZNAME:CET
DTSTART:20251026T010000
END:STANDARD
BEGIN:DAYLIGHT
TZOFFSETFROM:+0100
TZOFFSETTO:+0200
TZNAME:CEST
DTSTART:20260329T010000
END:DAYLIGHT
BEGIN:STANDARD
TZOFFSETFROM:+0200
TZOFFSETTO:+0100
TZNAME:CET
DTSTART:20261025T010000
END:STANDARD
BEGIN:DAYLIGHT
TZOFFSETFROM:+0100
TZOFFSETTO:+0200
TZNAME:CEST
DTSTART:20270328T010000
END:DAYLIGHT
BEGIN:STANDARD
TZOFFSETFROM:+0200
TZOFFSETTO:+0100
TZNAME:CET
DTSTART:20271031T010000
END:STANDARD
END:VTIMEZONE
BEGIN:VEVENT
DTSTART;TZID=Europe/Paris:20260708T193000
DTEND;TZID=Europe/Paris:20260708T220000
DTSTAMP:20260421T032156
CREATED:20200103T151714Z
LAST-MODIFIED:20251118T152948Z
UID:87664-1783539000-1783548000@apuntococina.com
SUMMARY:Curso de carnes: cortes\, preparados y salsas 8/7/26
DESCRIPTION:Curso de carnes: cortes\, preparados y salsas \n¿Qué prepararemos? \nPOLLO AL HORNO CON PATATITAS RISOLADAS\nSTEAK TARTARE con chips de plátano macho\nVITELLO TONNATO\nKOFTA ( ALBÓNDIGA) DE CORDERO con salsa de yogur\n  \nEn A Punto todos nuestros cursos de cocina son totalmente prácticos\, te daremos un delantal nada más llegar\, y al lío! Además\, ese día tienes un 5% de descuento en nuestra tienda para libros\, vinos y utensilios de cocina. \nAdemás\, durante la clase\, Ana Lorente\, nuestra experta en vinos\, habrá elegido una botella que maride perfectamente con lo que vais a preparar\, y al terminar la clase os podréis comer los platos que hayáis elaborado o llevaros a casa lo que haya sobrado\, si es que esto ocurre. Ah! Y el delantal también os lo podéis quedar de recuerdo. \nLos grupos son reducidos para que la atención sea lo más personalizada posible\, y nuestros chefs tienen años de experiencia\, tanto en cocina como impartiendo clases. \nAsí que\, no lo dudes\, apúntate a nuestro Curso de carnes: cortes\, preparados y salsas\, y después dejarás impresionados a todos tus amigos. \n¿Necesitas más razones para apuntarte a un curso de cocina? No te preocupes\, en este artículo te damos 10.
URL:https://apuntococina.com/cursodecocina/curso-de-carnes-cortes-preparados-y-salsas-2/
LOCATION:A Punto Madrid Centro\, Calle farmacia 6\, Madrid\, 28004\, España
CATEGORIES:Cursos de cocina tradicional
ATTACH;FMTTYPE=image/jpeg:https://apuntococina.com/wp-content/uploads/2021/11/curso-de-carnes.jpg
END:VEVENT
END:VCALENDAR