BEGIN:VCALENDAR
VERSION:2.0
PRODID:-//A Punto - ECPv6.15.18//NONSGML v1.0//EN
CALSCALE:GREGORIAN
METHOD:PUBLISH
X-WR-CALNAME:A Punto
X-ORIGINAL-URL:https://apuntococina.com
X-WR-CALDESC:Eventos para A Punto
REFRESH-INTERVAL;VALUE=DURATION:PT1H
X-Robots-Tag:noindex
X-PUBLISHED-TTL:PT1H
BEGIN:VTIMEZONE
TZID:Europe/Paris
BEGIN:DAYLIGHT
TZOFFSETFROM:+0100
TZOFFSETTO:+0200
TZNAME:CEST
DTSTART:20250330T010000
END:DAYLIGHT
BEGIN:STANDARD
TZOFFSETFROM:+0200
TZOFFSETTO:+0100
TZNAME:CET
DTSTART:20251026T010000
END:STANDARD
BEGIN:DAYLIGHT
TZOFFSETFROM:+0100
TZOFFSETTO:+0200
TZNAME:CEST
DTSTART:20260329T010000
END:DAYLIGHT
BEGIN:STANDARD
TZOFFSETFROM:+0200
TZOFFSETTO:+0100
TZNAME:CET
DTSTART:20261025T010000
END:STANDARD
BEGIN:DAYLIGHT
TZOFFSETFROM:+0100
TZOFFSETTO:+0200
TZNAME:CEST
DTSTART:20270328T010000
END:DAYLIGHT
BEGIN:STANDARD
TZOFFSETFROM:+0200
TZOFFSETTO:+0100
TZNAME:CET
DTSTART:20271031T010000
END:STANDARD
END:VTIMEZONE
BEGIN:VEVENT
DTSTART;TZID=Europe/Paris:20260630T193000
DTEND;TZID=Europe/Paris:20260630T220000
DTSTAMP:20260423T121115
CREATED:20190410T141008Z
LAST-MODIFIED:20260421T141651Z
UID:57608-1782847800-1782856800@apuntococina.com
SUMMARY:Curso de cocina con especias 30/6/26
DESCRIPTION:Curso de cocina con especias. \n\nCostillas de cerdo al estilo caribeño\nBayou Ratatouille\nCurry de salmón\nAloo methi\nArroz con eneldo y limón\n  \nCanela\, clavo\, mostaza\, anís\, azafrán\, cardamomo\, fenogreco\, cúrcuma\, nuez moscada\, pimienta\, sésamo\, cayena\, tamarindo\, vainilla… El universo de olores\, colores y sabores de las especias es infinito e inmemorial. 3.500 años antes de Cristo los antiguos egipcios condimentaban sus platos con especias\, el Libro de los Reyes ya relataba como cuando Salomón fue a entrevistarse con Salomé llegó «con un séquito muy grande cargado de especias y oro en gran abundancia» y durante milenios\, primero fenicios y árabes después consideraron su tráfico como su más importante tesoro\, como sucedería también con la antigua China. Imprescindible y milenaria tradición en nuestros fogones. \nUn curso de cocina con especias dirigido por Juliana Perpén\, de Spicy Yuli. En él nos introducirá en el mundo de las especias y explicará cómo hacer buen uso de ellas y cómo conseguir platos sabrosos y únicos gracias a nuestro jardín aromático\, además de elaborar: \n  \n  \n \nEn India al curry se le llama masala\, cada familia y cada pueblo elabora su propio masala\, por lo que hay infinitas mezclas de especias. \nEsta mezcla tiene entre 3 y 15 especias diferentes\, las más destacadas son la cúrcuma\, la pimienta negra\, el cilantro\, la canela y el heno griego\, planta que curiosamente se utilizaba para embalsamar momias en Egipto. \nInglaterra se encargó de comercializar esta mezcla de la misma manera que lo hizo con el té y la vainilla. Para hacer sencilla la exportación\, decidieron llamarle curry a todas las mezclas que habían surgido en la india.
URL:https://apuntococina.com/cursodecocina/curso-de-cocina-con-especias/
LOCATION:A Punto CHUECA\, Calle Farmacia 6\, Madrid\, 28004
CATEGORIES:Cursos cocina del mundo
ATTACH;FMTTYPE=image/jpeg:https://apuntococina.com/wp-content/uploads/2019/05/ESPECIAS-ARROZ-A-LA-PIMIENTA-CON-ALMENDRAS.jpg
END:VEVENT
END:VCALENDAR