BEGIN:VCALENDAR
VERSION:2.0
PRODID:-//A Punto - ECPv6.15.18//NONSGML v1.0//EN
CALSCALE:GREGORIAN
METHOD:PUBLISH
X-WR-CALNAME:A Punto
X-ORIGINAL-URL:https://apuntococina.com
X-WR-CALDESC:Eventos para A Punto
REFRESH-INTERVAL;VALUE=DURATION:PT1H
X-Robots-Tag:noindex
X-PUBLISHED-TTL:PT1H
BEGIN:VTIMEZONE
TZID:Europe/Paris
BEGIN:DAYLIGHT
TZOFFSETFROM:+0100
TZOFFSETTO:+0200
TZNAME:CEST
DTSTART:20250330T010000
END:DAYLIGHT
BEGIN:STANDARD
TZOFFSETFROM:+0200
TZOFFSETTO:+0100
TZNAME:CET
DTSTART:20251026T010000
END:STANDARD
BEGIN:DAYLIGHT
TZOFFSETFROM:+0100
TZOFFSETTO:+0200
TZNAME:CEST
DTSTART:20260329T010000
END:DAYLIGHT
BEGIN:STANDARD
TZOFFSETFROM:+0200
TZOFFSETTO:+0100
TZNAME:CET
DTSTART:20261025T010000
END:STANDARD
BEGIN:DAYLIGHT
TZOFFSETFROM:+0100
TZOFFSETTO:+0200
TZNAME:CEST
DTSTART:20270328T010000
END:DAYLIGHT
BEGIN:STANDARD
TZOFFSETFROM:+0200
TZOFFSETTO:+0100
TZNAME:CET
DTSTART:20271031T010000
END:STANDARD
END:VTIMEZONE
BEGIN:VEVENT
DTSTART;TZID=Europe/Paris:20260628T113000
DTEND;TZID=Europe/Paris:20260628T140000
DTSTAMP:20260423T103055
CREATED:20200128T164525Z
LAST-MODIFIED:20260113T104649Z
UID:66862-1782646200-1782655200@apuntococina.com
SUMMARY:Arroces de temporada 28/6/26
DESCRIPTION:Curso de arroces del mundo en Madrid centro para aprender a salir del típico arroz bomba y usar todo tipo de variedades \n  \nPrepararemos \nArroz de chipirones y sobrasada \nRisotto de peras\, queso azúl y jamón\nArroz en paella de presa ibérica con costillas de cerdo \nEl mundo del arroz es muy variado y va mucho más allá de los usos tradicionales españoles. El arroz bomba es la variedad más común en España pero aprenderemos a cocinar con arroz jazmín\, arroz basmati\, arroz de grano largo y arroz glutinoso para que nuestras recetas puedan abarcar todos los continentes. \nEn nuestro curso de arroces del mundo en Madrid centro podrás aprender a preparar el arroz chaufa que es típico de la tradición peruana que se fusiona con la cultura China. El nasi goreng pertenece más bien al mundo asiático en el que se usan granos largos y mucho picante y especias. \nEl risotto es un clásico de la cocina italiana que se suele preparar con arroz arborio o con carnaroli que tienen un almidón especial que permite que los granos se queden algo pegados los unos  a los otros \nAquí puedes ver uno de los usos más comunes del arroz en el mundo japonés  \nNuestras sugerencias si te apetece algo más mediterraneo  \n  \n 
URL:https://apuntococina.com/cursodecocina/arroces-del-mundo/
LOCATION:A Punto Madrid Centro\, Calle farmacia 6\, Madrid\, 28004\, España
CATEGORIES:Cursos de arroces
ATTACH;FMTTYPE=image/jpeg:https://apuntococina.com/wp-content/uploads/2020/01/curso-de-arroces-en-madrid-centro.jpg
END:VEVENT
END:VCALENDAR