BEGIN:VCALENDAR
VERSION:2.0
PRODID:-//A Punto - ECPv6.15.18//NONSGML v1.0//EN
CALSCALE:GREGORIAN
METHOD:PUBLISH
X-ORIGINAL-URL:https://apuntococina.com
X-WR-CALDESC:Eventos para A Punto
REFRESH-INTERVAL;VALUE=DURATION:PT1H
X-Robots-Tag:noindex
X-PUBLISHED-TTL:PT1H
BEGIN:VTIMEZONE
TZID:Europe/Madrid
BEGIN:DAYLIGHT
TZOFFSETFROM:+0100
TZOFFSETTO:+0200
TZNAME:CEST
DTSTART:20250330T010000
END:DAYLIGHT
BEGIN:STANDARD
TZOFFSETFROM:+0200
TZOFFSETTO:+0100
TZNAME:CET
DTSTART:20251026T010000
END:STANDARD
BEGIN:DAYLIGHT
TZOFFSETFROM:+0100
TZOFFSETTO:+0200
TZNAME:CEST
DTSTART:20260329T010000
END:DAYLIGHT
BEGIN:STANDARD
TZOFFSETFROM:+0200
TZOFFSETTO:+0100
TZNAME:CET
DTSTART:20261025T010000
END:STANDARD
BEGIN:DAYLIGHT
TZOFFSETFROM:+0100
TZOFFSETTO:+0200
TZNAME:CEST
DTSTART:20270328T010000
END:DAYLIGHT
BEGIN:STANDARD
TZOFFSETFROM:+0200
TZOFFSETTO:+0100
TZNAME:CET
DTSTART:20271031T010000
END:STANDARD
END:VTIMEZONE
BEGIN:VTIMEZONE
TZID:Europe/Paris
BEGIN:DAYLIGHT
TZOFFSETFROM:+0100
TZOFFSETTO:+0200
TZNAME:CEST
DTSTART:20250330T010000
END:DAYLIGHT
BEGIN:STANDARD
TZOFFSETFROM:+0200
TZOFFSETTO:+0100
TZNAME:CET
DTSTART:20251026T010000
END:STANDARD
BEGIN:DAYLIGHT
TZOFFSETFROM:+0100
TZOFFSETTO:+0200
TZNAME:CEST
DTSTART:20260329T010000
END:DAYLIGHT
BEGIN:STANDARD
TZOFFSETFROM:+0200
TZOFFSETTO:+0100
TZNAME:CET
DTSTART:20261025T010000
END:STANDARD
BEGIN:DAYLIGHT
TZOFFSETFROM:+0100
TZOFFSETTO:+0200
TZNAME:CEST
DTSTART:20270328T010000
END:DAYLIGHT
BEGIN:STANDARD
TZOFFSETFROM:+0200
TZOFFSETTO:+0100
TZNAME:CET
DTSTART:20271031T010000
END:STANDARD
END:VTIMEZONE
BEGIN:VEVENT
DTSTART;TZID=Europe/Madrid:20260621T113000
DTEND;TZID=Europe/Madrid:20260621T140000
DTSTAMP:20260421T022126
CREATED:20260206T145644Z
LAST-MODIFIED:20260211T180141Z
UID:128776-1782041400-1782050400@apuntococina.com
SUMMARY:Curso de cocina india 21/6/26
DESCRIPTION:Curso de cocina india en Madrid \nSamosas de carne\nChutney verde\nPollo Tandoori\nPollo al curry con leche de coco\nArroz Pulao con frutos secos\nDelicias de zanahoria\n  \nEn nuestro curso de cocina India en Madrid centro podrás aprender a usar las especias típicas de este país asiático de la mejor de las maneras \nLa cocina india surge como resultado de la diversidad de culturas que la han enriquecido a lo largo de siglos de invasiones y colonizaciones. \nCada pueblo y cultura que ha pasado por allí\, ha aportado algo\, y cada religión sigue marcando hoy día las costumbres culinarias de un país rico y variado\, que ha sabido hacer arte de la combinación de especias. \nEn general\, en el norte comen carne (pollo y cordero\, principalmente) y usan los derivado lácteos\, mientras que en el sur la cocina es esencialmente vegetariana con gran uso de del coco y el tamarindo. Al este\, aprovechan los ricos pescados y mariscos del golfo del Bengala. \n  \nLo más habitual en los cursos de cocina india es que no se preparen platos con carne ya que la mayoría de la población india es vegetariana y\, por temas religiosos\, no come carne de vacuno. SIn embargo\, en el norte del país\, se pueden encontrar platos con pollo y cordero principalmente. \nLos acompañamientos suelen ser arroz con varias especias y panes cocinados sin levadura. Hablar de cocina india es como hablar de un continente entero así que lo mejor es leer nuestras sugerencias sobre los platos más representativos del país \nSin duda te harán falta nuestros trucos de cocina para aprender cómo pelar un jengibre para poder preparar tus platos \nconoce a Anamika aquí \n  \n 
URL:https://apuntococina.com/cursodecocina/curso-de-cocina-india-3/
LOCATION:A Punto CHUECA\, Calle Farmacia 6\, Madrid\, 28004
CATEGORIES:Cursos cocina del mundo,Cursos de cocina asiatica
ATTACH;FMTTYPE=image/jpeg:https://apuntococina.com/wp-content/uploads/2019/05/especias.jpg
END:VEVENT
BEGIN:VEVENT
DTSTART;TZID=Europe/Paris:20260621T160000
DTEND;TZID=Europe/Paris:20260621T183000
DTSTAMP:20260421T022126
CREATED:20220114T105309Z
LAST-MODIFIED:20260308T114733Z
UID:90696-1782057600-1782066600@apuntococina.com
SUMMARY:Curso de pan con distintas harinas 21/6/26
DESCRIPTION:Curso de pan con distintas harinas\, en Madrid centro\nSi estás buscando un curso de pan en Madrid\, has llegado al lugar indicado. La panadería es un arte que ha sido transmitido a lo largo de generaciones\, y hoy en día\, aprender a hacer pan en casa se ha convertido en una actividad muy popular. En esta clase\, de 2h 30 min de duración\, trabajaremos con y sin masa madre. Aprenderás las técnicas y todos los pasos de preparación. \nEn todos nuestros cursos de panadería solemos trabajar con masas que ya han fermentado. Y\, durante la clase\,  preparamos nuevas masas que luego te puedes llevar a casa. De esta manera nos da tiempo de hacer varias recetas\, ¡una mejor que la otra! \n¿Qué vamos a preparar en el curso de pan?\n\n\nHogaza de masa madre y harina integral\nPan de pueblo multicereal\nBarra de ajo y perejil\nBarra de centeno y cerveza\n\n\n \nBeneficios de hacer un curso de pan con distintas harinas\nUno de los aspectos más interesantes de la panadería es la variedad de harinas que puedes utilizar. Un curso de pan con distintas harinas te permitirá conocer las propiedades de cada tipo y cómo afectan la textura y el sabor del pan. Desde la harina de trigo hasta la harina integral\, cada una tiene sus características únicas que aportan a la experiencia de hacer pan. No solo aprenderás las técnicas básicas de la panificación\, sino que también podrás explorar la diversidad de harinas y métodos de fermentación. Sabrás de panes tradicionales y contemporáneos\, y podrás experimentar con diferentes ingredientes y sabores. \n¿Qué es la Masa Madre?\nLa masa madre es un fermento natural que se utiliza para hacer pan. Se compone de harina y agua\, y contiene levaduras y bacterias que se encuentran en el ambiente. Este fermento es fundamental para desarrollar el sabor y la textura del pan. Hacer masa madre es un proceso sencillo\, pero requiere tiempo y paciencia. \nUna vez que tengas tu masa madre lista\, puedes comenzar a hacer diferentes tipos de pan. \nSi realmente quieres profundizar en el mundo de los panes españoles\, no te puedes perder el maravilloso trabajo de investigación de Ibán Yarza con su libro Pan de pueblo  \nOtra obra maestra del mundo del pan es el Modernist Bread. Tuvimos la suerte de tener a su autor Francisco Mogoya en A Punto para presentar el libro \n 
URL:https://apuntococina.com/cursodecocina/curso-de-panaderia-con-distintas-harinas/
LOCATION:A Punto Madrid Centro\, Calle farmacia 6\, Madrid\, 28004\, España
CATEGORIES:Cursos de pan
ATTACH;FMTTYPE=image/jpeg:https://apuntococina.com/wp-content/uploads/2021/01/pandepueblo.jpg
END:VEVENT
BEGIN:VEVENT
DTSTART;TZID=Europe/Paris:20260621T193000
DTEND;TZID=Europe/Paris:20260621T220000
DTSTAMP:20260421T022126
CREATED:20200107T105006Z
LAST-MODIFIED:20260408T132311Z
UID:66042-1782070200-1782079200@apuntococina.com
SUMMARY:Curso de cocina nikkei  21/6/26
DESCRIPTION:Curso de cocina nikkei en Madrid \n  \n¿QUÉ PREPARAREMOS?\nCeviche de lubina con leche de nueces\,  dashi de trufa y shitake\nEnsalada de panceta y jengibre con hojas verdes y aguacate con vinagreta de wasabi\nEspaguetti de calamar con boloñesa de miso picante\nTiradito de pescado de temporada con hinojo\, eneldo y leche de tigre al yuzu\n  \nEntre la cocina peruana y la cocina japonesa hay un universo gastronómico que las une\, la cocina Nikkei. Mestizaje es la mejor palabra que describe este encuentro de sabores\, de ingredientes y de influencias. En este punto se encuentran las dos culturas\, que se manifiestan en el paladar. \nLos japoneses pisaron tierras peruanas hace ya mucho tiempo\, en 1899\,  gracias a un tratado pactado entre ambos países para que los japoneses trabajaran las tierras de algodón y de azúcar.  El resultado fue un intercambio que hizo florecer la creatividad y generó una adaptación de los japoneses a los sabores peruanos. También un aprendizaje permanente de los peruanos con respecto a las técnicas japonesas\, tan pulcras y medidas. \nEn la cocina nikkei encontraremos cortes de pescado en crudo\, salsas con ajís peruanos\, productos de la alacena americana con los de la japonesa\, técnicas que se fusionan… todo ello dando como resultado una cocina saludable\, sabrosa y muy sorprendente. \n  \n  \nPodrás preparar éstas recetas y muchas más si compras nuestros libros de cocina peruana \nTe has preguntado alguna vez cuál es la diferencia entre un ceviche y un tiradito? aquí lo descubrirás
URL:https://apuntococina.com/cursodecocina/curso-de-cocina-nikkei-2/
LOCATION:A Punto CHUECA\, Calle Farmacia 6\, Madrid\, 28004
CATEGORIES:Cursos cocina del mundo
ATTACH;FMTTYPE=image/jpeg:https://apuntococina.com/wp-content/uploads/2020/01/PERUANA-TIRADITO.jpg
END:VEVENT
END:VCALENDAR