BEGIN:VCALENDAR
VERSION:2.0
PRODID:-//A Punto - ECPv6.15.18//NONSGML v1.0//EN
CALSCALE:GREGORIAN
METHOD:PUBLISH
X-WR-CALNAME:A Punto
X-ORIGINAL-URL:https://apuntococina.com
X-WR-CALDESC:Eventos para A Punto
REFRESH-INTERVAL;VALUE=DURATION:PT1H
X-Robots-Tag:noindex
X-PUBLISHED-TTL:PT1H
BEGIN:VTIMEZONE
TZID:Europe/Paris
BEGIN:DAYLIGHT
TZOFFSETFROM:+0100
TZOFFSETTO:+0200
TZNAME:CEST
DTSTART:20250330T010000
END:DAYLIGHT
BEGIN:STANDARD
TZOFFSETFROM:+0200
TZOFFSETTO:+0100
TZNAME:CET
DTSTART:20251026T010000
END:STANDARD
BEGIN:DAYLIGHT
TZOFFSETFROM:+0100
TZOFFSETTO:+0200
TZNAME:CEST
DTSTART:20260329T010000
END:DAYLIGHT
BEGIN:STANDARD
TZOFFSETFROM:+0200
TZOFFSETTO:+0100
TZNAME:CET
DTSTART:20261025T010000
END:STANDARD
BEGIN:DAYLIGHT
TZOFFSETFROM:+0100
TZOFFSETTO:+0200
TZNAME:CEST
DTSTART:20270328T010000
END:DAYLIGHT
BEGIN:STANDARD
TZOFFSETFROM:+0200
TZOFFSETTO:+0100
TZNAME:CET
DTSTART:20271031T010000
END:STANDARD
END:VTIMEZONE
BEGIN:VEVENT
DTSTART;TZID=Europe/Paris:20260620T113000
DTEND;TZID=Europe/Paris:20260620T140000
DTSTAMP:20260420T234828
CREATED:20210225T190811Z
LAST-MODIFIED:20260120T114000Z
UID:82902-1781955000-1781964000@apuntococina.com
SUMMARY:Curso de alta cocina mediterránea 20/6/26
DESCRIPTION:Ensalada de berenjenas ahumadas\, yema curada\, encurtidos y salazones\, con tomate en conserva y gelatina de rúcula.\nMedallones de cordero a baja temperatura con salsa española con chocolate y pastel de calabaza e hinojo\nRol de socarrat con gambón flambeado y mahonesa hecha con las cabezas de los gambones y ali oli de ajonegro\nSopa cremosa de chufas y coco con torrijas caramelizadas\n 
URL:https://apuntococina.com/cursodecocina/curso-alta-cocina-mediterranea/
LOCATION:A Punto Madrid Centro\, Calle farmacia 6\, Madrid\, 28004\, España
CATEGORIES:Cursos de nuevas técnicas
ATTACH;FMTTYPE=image/jpeg:https://apuntococina.com/wp-content/uploads/2020/07/Sopa-cremosa-de-chufas-y-coco-con-torrijas-caramelizadas.jpg
END:VEVENT
BEGIN:VEVENT
DTSTART;TZID=Europe/Paris:20260620T193000
DTEND;TZID=Europe/Paris:20260620T220000
DTSTAMP:20260420T234828
CREATED:20190325T123343Z
LAST-MODIFIED:20260215T162916Z
UID:87561-1781983800-1781992800@apuntococina.com
SUMMARY:Curso de cocina vegetariana 20/6/26
DESCRIPTION:Curso de cocina vegetariana \n¿Qué prepararemos? \nPAD THAI VEGETARIANO\nCOLIFLOR TIKKA MASALA CON QUESO FRESCO\, YOGUR ESPECIADO\,SALSA CREMOSA DE ANACARDOS Y AZAFRÁN\nLASAÑA CON SU CARNE PICADA DE SOJA TEXTURIZADA\nHAMBURGUESA DE SETAS DE TEMPORADA\n \nEn A  Punto Escuela de Cocina todos nuestros cursos son en grupos reducidos para que podamos atenderte de la forma más personalizada posible. No hace falta tener nivel\, solo venir con ganas de cocinar\, porque además nuestros cursos son totalmente prácticos\, es decir\, nada más llegar os damos un delantal\, y en seguida os pondréis a pelar\, cortar\, hervir\, saltear y lo que haga falta. \nRecuerda compartir tus impresiones y tus fotos en las redes sociales con el hashtag #FoodiesAPunto\, en el que además encontrarás información sobre todas nuestras actividades y cursos. \nCuando vengas al curso\, por el mero hecho de apuntarte\, tienes un 5% de descuento en nuestra tienda\, ya sea para nuestros libros sobre gastronomía\, para los utensilios de cocina que tenemos\, que son súper prácticos\, y para los vinos y cavas de nuestra bodega. \nTarde tupper\, porque los platos que vais a preparar\, después os los podéis comer y lo que sobre\, llevar a casa. Ah\, y además\, durante la clase\, os habremos seleccionado un vino que maride perfectamente con esos platos que vais a terminar dominando.
URL:https://apuntococina.com/cursodecocina/curso-de-cocina-vegetariana-2/
LOCATION:A Punto Madrid Centro\, Calle farmacia 6\, Madrid\, 28004\, España
CATEGORIES:Cursos de cocina vegetariana y vegana
ATTACH;FMTTYPE=image/jpeg:https://apuntococina.com/wp-content/uploads/2020/12/curso-de-cocina-vegetariana-madrid.jpg
END:VEVENT
END:VCALENDAR