BEGIN:VCALENDAR
VERSION:2.0
PRODID:-//A Punto - ECPv6.15.18//NONSGML v1.0//EN
CALSCALE:GREGORIAN
METHOD:PUBLISH
X-WR-CALNAME:A Punto
X-ORIGINAL-URL:https://apuntococina.com
X-WR-CALDESC:Eventos para A Punto
REFRESH-INTERVAL;VALUE=DURATION:PT1H
X-Robots-Tag:noindex
X-PUBLISHED-TTL:PT1H
BEGIN:VTIMEZONE
TZID:Europe/Paris
BEGIN:DAYLIGHT
TZOFFSETFROM:+0100
TZOFFSETTO:+0200
TZNAME:CEST
DTSTART:20250330T010000
END:DAYLIGHT
BEGIN:STANDARD
TZOFFSETFROM:+0200
TZOFFSETTO:+0100
TZNAME:CET
DTSTART:20251026T010000
END:STANDARD
BEGIN:DAYLIGHT
TZOFFSETFROM:+0100
TZOFFSETTO:+0200
TZNAME:CEST
DTSTART:20260329T010000
END:DAYLIGHT
BEGIN:STANDARD
TZOFFSETFROM:+0200
TZOFFSETTO:+0100
TZNAME:CET
DTSTART:20261025T010000
END:STANDARD
BEGIN:DAYLIGHT
TZOFFSETFROM:+0100
TZOFFSETTO:+0200
TZNAME:CEST
DTSTART:20270328T010000
END:DAYLIGHT
BEGIN:STANDARD
TZOFFSETFROM:+0200
TZOFFSETTO:+0100
TZNAME:CET
DTSTART:20271031T010000
END:STANDARD
END:VTIMEZONE
BEGIN:VEVENT
DTSTART;TZID=Europe/Paris:20260609T193000
DTEND;TZID=Europe/Paris:20260609T220000
DTSTAMP:20260421T173346
CREATED:20190325T171528Z
LAST-MODIFIED:20260312T125442Z
UID:38918-1781033400-1781042400@apuntococina.com
SUMMARY:Curso de panadería 9/6/26
DESCRIPTION:¿QUÉ PREPAREMOS EN NUESTRO CURSO DE PANADERÍA  EN MADRID CENTRO? \nEste curso de panadería está pensado para personas principiantes que no han hecho pan o solo lo han probado alguna vez sin mucho éxito \nEmpezaremos nuestra  una masa madre básica y \n  \n\n\nPan de semillas multiharinas\n\n\nPan de leche\n\n\nPanecillos  sin amasado con proceso de autólisis\n\n\nmasa madre para que la puedas alimentar en casa\n\n\n  \n \nEl mundo del pan nos atrapa\, vente a nuestros cursos de panadería en el centro de Madrid para aprender de cero a trabajar con harina de trigo\, harina de centeno\, harinas integrales. El pan no es más que la unión de sólidos ( la harina\, sal\, levadura\, azúcar etc..) con líquidos ( agua\, leche\, aceite) \nCómo elegir si trabajar con levadura fresca\, liofilizada o masa madre? Qué tipo de amasado necesita una harina integral? \nSi te apetece profundizar en la cultura panadera española\, te aconsejamos el último libro de Ibán Yarza\, 100 recetas de pan de pueblo   \nSi eres fan de los videos de youtube\, aquí nuestro canal para aprender sobre todo tipo de masas \nCurso de Panadería en Madrid Centro: Aprende a Hacer Panes Deliciosos con Masa Madre \nLa panadería artesanal ha vuelto a captar la atención de los amantes de la gastronomía\, y no es para menos. El pan\, un alimento básico en la dieta de muchas culturas\, ha evolucionado con el tiempo\, llevando a los panaderos a experimentar con nuevas técnicas y sabores. Si estás buscando un curso de panadería en Madrid centro\, donde puedas aprender de manera práctica y profunda\, no hay mejor lugar que los talleres especializados en el arte de la panadería artesanal. En este artículo\, vamos a explorar los secretos de la masa madre y tres tipos de panes deliciosos que podrás aprender a hacer: pan de semillas multiharinas\, pan de leche y panecillos sin amasado con proceso de autólisis. \nLa Masa Madre: El Corazón de la Panadería Artesanal\nUno de los ingredientes más importantes en la panadería artesanal es la masa madre. Este fermento natural\, que se ha utilizado durante miles de años\, está compuesto por una mezcla de harina y agua en la que se desarrollan bacterias y levaduras naturales. A diferencia de la levadura comercial\, que acelera el proceso de fermentación\, la masa madre trabaja de manera más lenta\, lo que permite desarrollar sabores más complejos y una textura más esponjosa en los panes. \nEl uso de la masa madre es una técnica que se está enseñando cada vez más en los cursos de panadería en Madrid centro. Esta técnica no solo te permitirá hacer panes de calidad\, sino que también te conectará con la tradición panadera. Además\, la masa madre es conocida por sus beneficios para la digestión\, ya que el proceso de fermentación natural hace que los panes sean más fáciles de asimilar. \nEn un curso de panadería en Madrid centro\, aprenderás a cuidar tu masa madre\, alimentarla correctamente y usarla para hacer una gran variedad de panes. En el siguiente apartado\, profundizaremos en tres tipos de panes que podrás preparar con esta técnica. \nPan de Semillas Multiharinas: Un Pan Nutritivo y Sabroso\nEl pan de semillas multiharinas es una opción perfecta para quienes buscan un pan lleno de sabor y textura. Este tipo de pan se caracteriza por su mezcla de diferentes harinas (generalmente trigo\, centeno y avena) y semillas (como girasol\, sésamo\, lino y calabaza). Las semillas no solo aportan un sabor delicioso\, sino también una textura crujiente que hace que cada bocado sea una experiencia única. \nLa preparación de este pan comienza con una buena masa madre\, que aportará la base fermentada y ácida que necesitamos. En el curso de panadería en Madrid centro\, aprenderás a mezclar las harinas adecuadas para lograr una textura ligera pero densa\, que es ideal para este tipo de pan. La combinación de las harinas\, junto con el toque de semillas\, dará lugar a un pan lleno de nutrientes\, perfecto para acompañar cualquier comida o incluso para disfrutar solo\, acompañado de un buen aceite de oliva. \nLa clave para un buen pan de semillas multiharinas es un proceso de fermentación adecuado. En el curso de panadería\, aprenderás cómo controlar los tiempos de fermentación para que las levaduras y bacterias naturales de la masa madre trabajen en su máximo potencial. Además\, descubrirás cómo el horneado debe realizarse con un toque de vapor en el horno para conseguir una corteza crujiente y un interior suave. \nPan de Leche: La Suavidad y Dulzura del Pan Artesano\nEl pan de leche es otro clásico en la panadería que ha ganado popularidad gracias a su suavidad y sabor ligeramente dulce. Este pan es perfecto para el desayuno o merienda\, ya que su miga es tierna y su textura es ligera\, casi como un bollo. Aunque el pan de leche se puede hacer con levadura comercial\, muchos panaderos artesanales prefieren usar masa madre\, ya que esto añade un sabor más profundo y una mayor duración al pan. \nEn un curso de panadería en Madrid centro\, aprenderás a preparar este pan con masa madre\, lo que garantizará que cada panecillo tenga una miga ligera\, aireada y perfectamente equilibrada. La clave está en trabajar bien la masa y darle tiempo para que fermente correctamente\, lo que conseguirá que el pan adquiera su textura tierna y su sabor único. \nEl pan de leche también se caracteriza por su color dorado y su corteza suave. El proceso de elaboración incluye un toque de leche en la masa\, lo que le da una textura extra suave y un sabor delicado. En un curso de panadería\, podrás experimentar con diferentes variaciones\, como agregar un toque de miel o azúcar\, o incluso hacer versiones saladas con hierbas y queso. \nUna vez que hayas dominado la técnica básica del pan de leche\, podrás experimentar con diferentes tamaños\, desde panecillos individuales hasta panes más grandes. Aprenderás cómo controlar la temperatura y la humedad del horno para obtener el dorado perfecto y la textura esponjosa que hace que este pan sea tan popular. \nPanecillos Sin Amasado con Proceso de Autólisis: Facilidad y Sabor en Cada Bocado\nEl panecillo sin amasado con proceso de autólisis es una técnica relativamente nueva en la panadería artesanal\, pero que ha ganado rápidamente la preferencia de muchos panaderos. Este tipo de pan se basa en un proceso más sencillo que el amasado tradicional\, pero igualmente efectivo en cuanto a la creación de panes deliciosos y con una excelente textura. \nLa autólisis es un proceso que consiste en mezclar la harina y el agua y dejar reposar la masa durante un tiempo antes de añadir la sal y la masa madre. Este reposo permite que las enzimas de la harina comiencen a descomponer el almidón\, lo que facilita la formación de gluten y mejora la textura del pan. El resultado es una masa más manejable\, que no necesita ser amasada de forma intensiva\, pero que desarrollará una miga aireada y con una textura perfecta. \nEste tipo de panecillos se caracteriza por una corteza crujiente y un interior ligero y húmedo. Gracias al proceso de autólisis\, la masa no solo es más fácil de trabajar\, sino que también tendrá un sabor más complejo y profundo. Los cursos de panadería en Madrid centro te enseñarán cómo controlar el tiempo de reposo y los ingredientes para obtener los mejores resultados posibles con esta técnica. \nUna vez que domines el proceso de autólisis\, podrás hacer panecillos sin necesidad de pasar horas amasando\, lo que es una ventaja para quienes tienen poco tiempo pero desean disfrutar de pan fresco y delicioso. Además\, este tipo de pan es ideal para quienes están comenzando en el mundo de la panadería artesanal\, ya que el proceso es más sencillo y requiere menos herramientas. \n¿Por Qué Elegir un Curso de Panadería en Madrid Centro?\nElegir un curso de panadería en Madrid centro es la mejor manera de sumergirte en el fascinante mundo del pan artesanal. Los cursos especializados te permitirán aprender de la mano de expertos panaderos\, quienes te guiarán a través de todas las técnicas necesarias para crear panes de calidad. Además\, podrás conocer las mejores harinas\, las diferentes técnicas de fermentación y el uso adecuado de la masa madre\, lo que te permitirá hacer panes deliciosos en la comodidad de tu hogar. \nLos cursos de panadería en Madrid centro ofrecen una combinación perfecta de teoría y práctica. Aprenderás no solo las bases de la panadería\, sino también técnicas avanzadas que te permitirán experimentar con nuevos sabores y texturas. Desde panes clásicos hasta opciones más innovadoras como el pan de semillas multiharinas o los panecillos sin amasado\, cada clase te brindará las herramientas necesarias para crear panes que impresionarán a tus amigos y familiares. \nConclusión\nSi deseas convertirte en un experto panadero y disfrutar de panes frescos\, sabrosos y saludables\, un curso de panadería en Madrid centro es la mejor opción. La masa madre es el ingrediente clave que transforma cualquier pan en una verdadera obra maestra\, y con las técnicas adecuadas\, podrás preparar panes como el pan de semillas multiharinas\, el pan de leche o los innovadores panecillos sin amasado con autólisis. No importa si eres un principiante o un panadero experimentado\, los cursos de panadería en Madrid te ofrecen todo lo que necesitas para mejorar tus habilidades y explorar nuevas formas de hacer pan. ¡No esperes más y comienza tu viaje en la panadería artesanal hoy mismo!
URL:https://apuntococina.com/cursodecocina/curso-de-panaderia/
LOCATION:A Punto Madrid Centro\, Calle farmacia 6\, Madrid\, 28004\, España
CATEGORIES:Cursos de pan
ATTACH;FMTTYPE=image/png:https://apuntococina.com/wp-content/uploads/2019/03/Curso-de-panadería-A-Punto.png
END:VEVENT
END:VCALENDAR