BEGIN:VCALENDAR
VERSION:2.0
PRODID:-//A Punto - ECPv6.15.18//NONSGML v1.0//EN
CALSCALE:GREGORIAN
METHOD:PUBLISH
X-WR-CALNAME:A Punto
X-ORIGINAL-URL:https://apuntococina.com
X-WR-CALDESC:Eventos para A Punto
REFRESH-INTERVAL;VALUE=DURATION:PT1H
X-Robots-Tag:noindex
X-PUBLISHED-TTL:PT1H
BEGIN:VTIMEZONE
TZID:Europe/Paris
BEGIN:DAYLIGHT
TZOFFSETFROM:+0100
TZOFFSETTO:+0200
TZNAME:CEST
DTSTART:20250330T010000
END:DAYLIGHT
BEGIN:STANDARD
TZOFFSETFROM:+0200
TZOFFSETTO:+0100
TZNAME:CET
DTSTART:20251026T010000
END:STANDARD
BEGIN:DAYLIGHT
TZOFFSETFROM:+0100
TZOFFSETTO:+0200
TZNAME:CEST
DTSTART:20260329T010000
END:DAYLIGHT
BEGIN:STANDARD
TZOFFSETFROM:+0200
TZOFFSETTO:+0100
TZNAME:CET
DTSTART:20261025T010000
END:STANDARD
BEGIN:DAYLIGHT
TZOFFSETFROM:+0100
TZOFFSETTO:+0200
TZNAME:CEST
DTSTART:20270328T010000
END:DAYLIGHT
BEGIN:STANDARD
TZOFFSETFROM:+0200
TZOFFSETTO:+0100
TZNAME:CET
DTSTART:20271031T010000
END:STANDARD
END:VTIMEZONE
BEGIN:VEVENT
DTSTART;TZID=Europe/Paris:20260602T193000
DTEND;TZID=Europe/Paris:20260602T220000
DTSTAMP:20260421T073124
CREATED:20190612T121555Z
LAST-MODIFIED:20260124T111038Z
UID:60391-1780428600-1780437600@apuntococina.com
SUMMARY:Curso de arroces 2/6/26
DESCRIPTION:Curso de arroces en Madrid Centro \n¿Qué preparemos? \n\n\nRISOTTO CON GAMBAS ROJAS Y TOMATE SECO\nARROZ CALDOSO DE RAPE Y ALMEJAS EN SALSA VERDE\nARROZ SECO DE PRESA IBÉRICA Y COSTILLAS DE CERDO\nCALDOS DE MARISCO Y DE CARNE\nCon su alioli tradicional\n\n\nEl arroz es el fruto en grano de la planta del arroz (Oryza sativa)\, herbácea anual de la familia de las gramíneas. Es el cereal más extendido por el mundo y se cultiva ampliamente en los cinco continentes\, en regiones pantanosas de clima templado o cálido y húmedo. \n\n\n\nEs sabido que el arroz se cultiva en China desde hace más de 5000 años. En España\, no se conoce la época en la que se introdujo\, aunque los musulmanes lo cultivaron con éxito durante el tiempo de ocupación de la Península en Sevilla\, Córdoba\, Granada\, Murcia\, Alicante y Tarragona. \nExisten cerca de diez mil variedades de arroz. Todas ellas entran en una de las dos subespecies de Oryza sativa\, la variedad índica\, que suele cultivarse en los trópicos\, y la japónica\, que se puede encontrar tanto en los trópicos como en las zonas de clima templado y que se caracteriza por su alto contenido en almidón ( bien del tipo amiosa o bien amilopectina). Por regla general\, cuanto más amilosa contiene un grano de arroz\, más temperatura\, agua y tiempo requiere para su cocción. \n\n\n\n\n\n\nLa mayoría de arroces se «pulen» previamente para liberarlos de la cubierta que los protege (que se convierte en salvado)\, lo que elimina así aceites y enzimas del arroz. El resultado es un grano de arroz que se mantiene estable durante meses \nEl Curso de arroces en Madrid centro lo puedes disfrutar en nuestra Escuela A Punto. \nCurso de Arroces en Madrid Centro: Una Aventura Gastronómica\nEn pleno Madrid centro\, el curso de arroces se presenta como una oportunidad única para los amantes de la gastronomía española y para aquellos que deseen adentrarse en el mundo de la cocina de arroces. La versatilidad del arroz en la cocina es innegable\, y su variedad de preparaciones es inmensa. Si estás buscando un curso de arroces en Madrid\, esta es tu oportunidad para aprender a dominar las técnicas de cocción\, desde los arroces secos hasta los más melosos y caldosos. \nEl arroz es el protagonista indiscutible de una gran cantidad de platos típicos de la cocina española\, y a través de este curso podrás conocer la diferencia entre los diversos tipos de preparaciones\, como el arroz seco\, el meloso y el caldoso\, y aprenderás a hacer platos tan emblemáticos como la paella de presa ibérica y costillas al horno con edamame roto y el arroz caldoso de atún en marmitako. Todo esto\, sin olvidar los toques internacionales como el risotto de calabaza o el crumble de guanciale. Si te apasiona el arroz\, ¡este curso en Madrid es ideal para ti! \nDiferencia entre Arroz Seco\, Meloso y Caldoso\nUno de los conceptos clave que se aprenden en un curso de arroces en Madrid centro es la diferencia entre los tres tipos más comunes de arroces: seco\, meloso y caldoso. Aunque la base es la misma\, que es el arroz\, la técnica y la cantidad de líquido utilizada en cada preparación cambian completamente el resultado final. \nArroz Seco\nEl arroz seco es aquel que\, una vez cocido\, se presenta con granos separados y sin líquido visible. La clave para conseguir un arroz seco perfecto radica en el control preciso del fuego y del líquido. Este tipo de arroz es común en platos como la paella o el arroz al horno. En estos platos\, el arroz se cocina a fuego lento y se consigue que se absorba todo el líquido durante el proceso\, lo que permite que los granos queden sueltos y secos. \nArroz Meloso\nEl arroz meloso\, por otro lado\, tiene un toque cremoso\, pero no llega a ser caldoso. La textura del arroz meloso se obtiene gracias a una cantidad justa de caldo que\, al final de la cocción\, no se evapora por completo\, dejando el arroz ligeramente húmedo y con una consistencia similar a un risotto. Este tipo de arroz es ideal para platos como el arroz meloso de mariscos o el arroz con setas\, en los cuales el caldo y el arroz se amalgaman perfectamente para ofrecer una textura suave y rica. \nArroz Caldoso\nEl arroz caldoso es\, como su nombre indica\, el que se cocina con una mayor cantidad de líquido. El resultado final es un arroz en el que el caldo está presente\, dando lugar a una sopa espesa y sabrosa. Este tipo de arroz es muy común en platos de cuchara como el arroz caldoso de atún en marmitako\, en el cual se utiliza un caldo sustancioso que impregna el arroz de todos los sabores. La clave del arroz caldoso es el equilibrio entre el caldo y el arroz\, asegurando que el grano absorba los sabores sin perder su textura. \nPlatos Emblemáticos de Arroces\nEn el curso de arroces Madrid\, se aprenderán a elaborar una variedad de platos que exploran las diferentes técnicas de cocción del arroz\, desde lo más clásico hasta lo más innovador. A continuación\, describimos algunos de los platos que podrías aprender a preparar durante este curso. \nRisotto de Calabaza y Crumble de Guanciale\nEl risotto de calabaza es una preparación italiana que ha sido adaptada por chefs modernos\, con un toque especial de la cocina española. Este plato tiene una base cremosa gracias al arroz Arborio\, que al cocinarse lentamente con caldo y mantequilla\, se transforma en una mezcla suave y rica en sabor. La calabaza se incorpora de manera que se mantiene un equilibrio perfecto entre el dulzor de la verdura y la cremosidad del arroz. \nEl crumble de guanciale\, un acompañamiento innovador\, añade un toque crujiente y salado al plato. El guanciale es un tipo de tocino italiano que aporta un sabor profundo y umami\, perfecto para contrarrestar la suavidad del risotto. El contraste entre la cremosidad del arroz y el crujiente del guanciale es una explosión de texturas que te hará querer repetir el plato. \nPaella de Presa Ibérica y Costillas al Horno con Edamame Roto\nLa paella de presa ibérica y costillas al horno con edamame roto es un plato que fusiona la tradición española con toques de la gastronomía japonesa. La paella\, uno de los platos más emblemáticos de la cocina española\, se ve enriquecida con la calidad de la presa ibérica\, una de las piezas más sabrosas del cerdo ibérico. La costilla al horno\, por su parte\, se cocina lentamente para lograr una textura tierna y jugosa\, que complementa perfectamente al arroz. \nEl edamame roto es un toque innovador que aporta frescura y un ligero toque ácido al plato\, equilibrando la riqueza de la carne y el arroz. Esta receta\, a medio camino entre la tradición y la modernidad\, es un excelente ejemplo de cómo los ingredientes clásicos se pueden reinventar y fusionar para crear nuevos platos sorprendentes. \nArroz Caldoso de Atún en Marmitako\nEl arroz caldoso de atún en marmitako es un plato clásico de la gastronomía vasca que utiliza un arroz caldoso en el que el pescado juega un papel fundamental. En este plato\, el atún se cocina junto con un caldo sabroso de verduras y pescado\, lo que le da un sabor profundo y delicioso al arroz. El marmitako es\, en su esencia\, un guiso de pescado con patatas y arroz\, pero al incorporar atún fresco se le da un toque más suave y delicado. \nEste arroz caldoso se sirve con una buena cantidad de caldo\, lo que lo convierte en un plato reconfortante y perfecto para los días fríos. La cocción lenta permite que el arroz absorba todos los sabores del caldo\, mientras que el atún\, en su punto justo\, aporta frescura y sabor a mar. \nBeneficios de Tomar un Curso de Arroces en Madrid Centro\nSi eres un apasionado de la cocina o simplemente quieres mejorar tus habilidades culinarias\, un curso de arroces Madrid te ofrece la oportunidad de aprender de los mejores chefs y poner en práctica las técnicas de cocción de arroz que se utilizan en los restaurantes más exclusivos. Además\, aprenderás a preparar platos de arroz que puedes reproducir fácilmente en casa para sorprender a tus amigos y familiares. \nEste tipo de curso no solo te enseña las bases\, sino que también te proporciona conocimientos sobre la elección de los ingredientes\, el uso de caldos\, y cómo dar el toque perfecto a cada tipo de arroz según el tipo de plato. Ya sea que prefieras el arroz seco\, meloso o caldoso\, aprenderás a identificar cuál es la mejor técnica para cada tipo de preparación. \nConclusión\nSi estás buscando una forma divertida y educativa de mejorar tus habilidades culinarias\, un curso de arroces en Madrid centro es la mejor opción. Desde la diferencia entre el arroz seco\, meloso y caldoso\, hasta la preparación de platos innovadores como el risotto de calabaza y crumble de guanciale o la paella de presa ibérica y costillas al horno con edamame roto\, este curso es perfecto para cualquier amante de la gastronomía. \nAprender a cocinar arroz no solo te permitirá perfeccionar tu técnica en la cocina\, sino también te abrirá las puertas a un mundo lleno de sabores\, texturas y combinaciones sorprendentes. ¡Anímate a descubrir los secretos del arroz y a disfrutar de una experiencia gastronómica única en Madrid!
URL:https://apuntococina.com/cursodecocina/curso-de-arroces-en-madrid-centro/
LOCATION:A Punto Madrid Centro\, Calle farmacia 6\, Madrid\, 28004\, España
CATEGORIES:Cursos de arroces
ATTACH;FMTTYPE=image/jpeg:https://apuntococina.com/wp-content/uploads/2020/01/curso-de-arroces-en-madrid-centro.jpg
END:VEVENT
END:VCALENDAR