BEGIN:VCALENDAR
VERSION:2.0
PRODID:-//A Punto - ECPv6.15.18//NONSGML v1.0//EN
CALSCALE:GREGORIAN
METHOD:PUBLISH
X-ORIGINAL-URL:https://apuntococina.com
X-WR-CALDESC:Eventos para A Punto
REFRESH-INTERVAL;VALUE=DURATION:PT1H
X-Robots-Tag:noindex
X-PUBLISHED-TTL:PT1H
BEGIN:VTIMEZONE
TZID:Europe/Paris
BEGIN:DAYLIGHT
TZOFFSETFROM:+0100
TZOFFSETTO:+0200
TZNAME:CEST
DTSTART:20250330T010000
END:DAYLIGHT
BEGIN:STANDARD
TZOFFSETFROM:+0200
TZOFFSETTO:+0100
TZNAME:CET
DTSTART:20251026T010000
END:STANDARD
BEGIN:DAYLIGHT
TZOFFSETFROM:+0100
TZOFFSETTO:+0200
TZNAME:CEST
DTSTART:20260329T010000
END:DAYLIGHT
BEGIN:STANDARD
TZOFFSETFROM:+0200
TZOFFSETTO:+0100
TZNAME:CET
DTSTART:20261025T010000
END:STANDARD
BEGIN:DAYLIGHT
TZOFFSETFROM:+0100
TZOFFSETTO:+0200
TZNAME:CEST
DTSTART:20270328T010000
END:DAYLIGHT
BEGIN:STANDARD
TZOFFSETFROM:+0200
TZOFFSETTO:+0100
TZNAME:CET
DTSTART:20271031T010000
END:STANDARD
END:VTIMEZONE
BEGIN:VEVENT
DTSTART;TZID=Europe/Paris:20260531T113000
DTEND;TZID=Europe/Paris:20260531T140000
DTSTAMP:20260420T173036
CREATED:20200131T153445Z
LAST-MODIFIED:20260211T180208Z
UID:67066-1780227000-1780236000@apuntococina.com
SUMMARY:Curso de cocina india 31/5/26
DESCRIPTION:Curso de cocina india\n¿Qué prepararemos?\n\n\n\n\nPakora de verduras\nSalsa Raita\nPollo Tikka Masala\nMalai Chingri (langostinos al curry con leche de coco)\nPan Naan\nArroz Basmati\n\n\n\n\n  \nEn nuestro curso de cocina India en Madrid centro podrás aprender a usar las especias típicas de este país asiático de la mejor de las maneras \nLa cocina india surge como resultado de la diversidad de culturas que la han enriquecido a lo largo de siglos de invasiones y colonizaciones. \nCada pueblo y cultura que ha pasado por allí\, ha aportado algo\, y cada religión sigue marcando hoy día las costumbres culinarias de un país rico y variado\, que ha sabido hacer arte de la combinación de especias. \nEn general\, en el norte comen carne (pollo y cordero\, principalmente) y usan los derivado lácteos\, mientras que en el sur la cocina es esencialmente vegetariana con gran uso de del coco y el tamarindo. Al este\, aprovechan los ricos pescados y mariscos del golfo del Bengala. \nLo más habitual en los cursos de cocina india es que no se preparen platos con carne ya que la mayoría de la población india es vegetariana y\, por temas religiosos\, no come carne de vacuno. SIn embargo\, en el norte del país\, se pueden encontrar platos con pollo y cordero principalmente. \nLos acompañamientos suelen ser arroz con varias especias y panes cocinados sin levadura. Hablar de cocina india es como hablar de un continente entero así que lo mejor es leer nuestras sugerencias sobre los platos más representativos del país \nSin duda te harán falta nuestros trucos de cocina para aprender cómo pelar un jengibre para poder preparar tus platos
URL:https://apuntococina.com/cursodecocina/curso-de-cocina-india-1/
LOCATION:A Punto Madrid Centro\, Calle farmacia 6\, Madrid\, 28004\, España
CATEGORIES:Cursos cocina del mundo,Cursos de cocina asiatica
ATTACH;FMTTYPE=image/jpeg:https://apuntococina.com/wp-content/uploads/2017/02/Albondigas-de-ternera.jpg
END:VEVENT
BEGIN:VEVENT
DTSTART;TZID=Europe/Paris:20260531T160000
DTEND;TZID=Europe/Paris:20260531T183000
DTSTAMP:20260420T173036
CREATED:20190904T133747Z
LAST-MODIFIED:20260410T102437Z
UID:61910-1780243200-1780252200@apuntococina.com
SUMMARY:Curso de cocina arroces de fiesta 31/5/26
DESCRIPTION:Curso de cocina de Levante. \n¿QUÉ PREPARAREMOS? \nArroz caldoso de mar\nRisotto de pera y jamón al gorgonzola\nArroz seco  de verduras de temporada y conejo\nAli oli tradicional\nEn este curso de cocina de Levante aprenderás a preparar platos tradicionales y no tanto. Cocina mediterránea con materias primas frescas del mar\, la huerta\, donde\, por supuesto\, el arroz también tiene un papel fundamental. \n \nEn A Punto todos nuestros cursos son en grupos reducidos para que te podamos atender de la manera más personalizada. Además\, son completamente prácticos\, para que aprendas a cocinar de verdad\, que es cocinando. \nAdemás\, ese día tienes un 5% de descuento en nuestra tienda\, con lo que si necesitas algún libro\, utensilio de cocina o vino de nuestra bodega\, no dudes en aprovecharlo. \nDicen que el Levante español es la huerta de Europa\, y los pescados y arroces no se quedan atrás. El buen gusto culinario de esta zona hace que se fusionen en la actualidad recetas tradicionales con cocina de vanguardia. Y todo ello\, rico y sano\, como dicta la dieta mediterránea\, que tanta popularidad ha alcanzado a nivel internacional por sus enormes beneficios para nuestra salud.
URL:https://apuntococina.com/cursodecocina/curso-de-cocina-levante-mucho-mas-que-arroces/
LOCATION:A Punto CHUECA\, Calle Farmacia 6\, Madrid\, 28004
CATEGORIES:Cursos de arroces
ATTACH;FMTTYPE=image/png:https://apuntococina.com/wp-content/uploads/2019/09/Curso-de-cocina-de-Levante.png
END:VEVENT
BEGIN:VEVENT
DTSTART;TZID=Europe/Paris:20260531T193000
DTEND;TZID=Europe/Paris:20260531T220000
DTSTAMP:20260420T173036
CREATED:20190410T083945Z
LAST-MODIFIED:20260223T152835Z
UID:57567-1780255800-1780264800@apuntococina.com
SUMMARY:Curso de cocina nikkei  31/5/26
DESCRIPTION:Curso de cocina nikkei en Madrid\nLa gastronomía es un puente entre culturas\, una forma de expresión que une historias\, sabores y tradiciones. Una de las manifestaciones más fascinantes de esta fusión es la cocina nikkei\, una deliciosa mezcla de la cocina japonesa con la peruana. En los últimos años\, esta tendencia ha ganado gran notoriedad en el mundo culinario y ahora puedes sumergirte en ella a través de un exclusivo curso de cocina nikkei en Madrid. \nPero\, ¿qué es exactamente la cocina nikkei? ¿Cuáles son sus raíces? ¿Qué platos la representan? ¿Por qué deberías elegir un curso de cocina nikkei para perfeccionar tus habilidades gastronómicas? Responderemos a estas preguntas y te mostraremos cómo puedes explorar esta increíble cocina desde la capital española. \n¿Qué vamos a preparar en el curso de cocina nikkei?\n\n\nCeviche de lubina con leche de nueces\,  dashi de trufa y shitake\nEnsalada de panceta y jengibre con hojas verdes y aguacate con vinagreta de wasabi\nEspaguetti de calamar con boloñesa de miso picante\nTiradito de pescado de temporada con hinojo\, eneldo y leche de tigre al yuzu\nPisco sour\n\n\n¿Qué es la cocina nikkei?\nLa cocina nikkei nace de la convivencia entre las culturas japonesa y peruana. Su origen se remonta al siglo XIX\, cuando miles de japoneses emigraron a Perú en busca de nuevas oportunidades. A lo largo del tiempo\, los inmigrantes comenzaron a adaptar sus recetas tradicionales utilizando los ingredientes locales que tenían a mano. Así nació una fusión única\, con la técnica precisa de la cocina japonesa y la explosión de sabores y colores de la cocina peruana. \nEl resultado es una gastronomía moderna\, vibrante y sorprendente. La cocina nikkei se basa en el respeto por el producto\, la frescura de los ingredientes y la armonía en la combinación de sabores. Platos que parecen sencillos pero que encierran una complejidad fascinante en cada bocado. \nSi te apasiona la cocina creativa\, con técnicas refinadas y sabores audaces\, un curso de cocina nikkei en Madrid es la opción perfecta para ti. \n\nPlatos estrella de un curso de cocina nikkei\nUn curso de cocina nikkei en Madrid no estaría completo sin la preparación de algunos de sus platos más representativos. A continuación\, te presentamos cinco elaboraciones que combinan creatividad\, tradición y sabor\, y que podrás aprender a preparar en este tipo de talleres: \n1. Ceviche de lubina con leche de nueces\, dashi de trufa y shitake\nEl ceviche es uno de los platos insignia de la cocina peruana\, pero en su versión nikkei se transforma en una experiencia completamente nueva. En este caso\, se utiliza lubina fresca marinada con una leche de nueces\, aportando cremosidad y un toque sutilmente dulce al plato. \nLa fusión llega con el dashi de trufa y shitake\, una preparación japonesa a base de algas kombu y hongos\, que aquí se eleva con la intensidad aromática de la trufa. El resultado es un ceviche elegante\, con profundidad umami\, que representa perfectamente el espíritu de la cocina nikkei. \nEn el curso\, aprenderás cómo cortar el pescado en su punto perfecto\, cómo preparar una leche de nueces balanceada y cómo infusionar el dashi para lograr esa armonía tan característica. \n\n2. Ensalada de panceta y jengibre con hojas verdes\, aguacate y vinagreta de wasabi\nEsta ensalada representa la unión entre la contundencia de la cocina peruana y la frescura japonesa. La panceta crujiente aporta textura y sabor intenso\, mientras que el jengibre fresco contrasta con un toque picante y refrescante. \nLas hojas verdes y el aguacate aportan equilibrio\, y la estrella del plato es sin duda la vinagreta de wasabi\, que con su intensidad ligeramente picante envuelve todos los ingredientes en una explosión de sabor. \nEn este módulo del curso\, aprenderás a preparar una panceta al punto perfecto\, crujiente por fuera y jugosa por dentro\, y a emulsionar la vinagreta de manera que el wasabi no opaque los demás ingredientes. \n\n3. Espagueti de calamar con boloñesa de miso picante\nEste plato es un ejemplo magistral de reinterpretación culinaria. En lugar de pasta tradicional\, se utiliza calamar cortado en tiras finas\, simulando la forma de espaguetis. Ligero\, saludable y con una textura fascinante. \nLa boloñesa tradicional se reinventa con una salsa de miso picante\, combinando carne\, pasta de miso rojo\, ajíes y especias. El resultado es un plato reconfortante\, con personalidad y una intensidad de sabor inigualable. \nDurante el curso\, aprenderás la técnica para cortar el calamar con precisión\, cómo preparar la salsa de miso picante desde cero\, y cómo montar el plato con estética y equilibrio. \n\n4. Tiradito de pescado de temporada con hinojo\, eneldo y leche de tigre al yuzu\nEl tiradito es otro clásico de la cocina peruana que\, al estilo nikkei\, adquiere un perfil mucho más refinado. Este plato utiliza finas láminas de pescado de temporada\, como el corvina\, el pez limón o incluso el atún rojo. \nEl toque aromático del hinojo y el eneldo aporta frescura herbal\, mientras que la leche de tigre al yuzu introduce un ácido cítrico sofisticado y refrescante que potencia el sabor del pescado. \nEn el curso\, descubrirás cómo filetear el pescado en cortes tipo sashimi\, cómo elaborar una leche de tigre con yuzu equilibrada y cómo emplatar con elegancia para que los sabores y los colores hablen por sí solos. \n\n5. Pisco Sour\nNingún curso de cocina nikkei estaría completo sin una bebida icónica que represente el alma peruana. El Pisco Sour es un cóctel clásico elaborado con pisco (aguardiente de uva)\, zumo de lima\, azúcar\, clara de huevo y amargo de angostura. \nEn el curso\, aprenderás la técnica para conseguir una espuma suave\, el equilibrio entre dulce y ácido perfecto\, y cómo servirlo con un toque moderno\, ideal para maridar con platos nikkei. \n\nVive la experiencia nikkei en Madrid\nLo más valioso de un curso de cocina nikkei en Madrid no es solo aprender a preparar platos deliciosos\, sino vivir una experiencia cultural y sensorial completa. Estos cursos están diseñados para que cada alumno entienda el «porqué» de cada técnica\, la historia detrás de cada ingrediente y la importancia de respetar la tradición mientras se innova. \nAdemás\, tendrás la oportunidad de cocinar en espacios equipados con tecnología profesional\, guiado por chefs expertos en cocina nikkei que te enseñarán los secretos detrás de cada plato. Ya sea que asistas solo\, en pareja o en grupo\, es una actividad ideal para quienes aman la buena cocina y desean ampliar sus horizontes culinarios. \n\nConclusión\nLa cocina nikkei es mucho más que una fusión gastronómica: es una manifestación cultural que ha sabido unir dos mundos en un solo plato. Realizar un curso de cocina nikkei en Madrid te permite no solo aprender nuevas técnicas y recetas\, sino sumergirte en una historia rica y apasionante. \nSi estás buscando una experiencia culinaria diferente\, sorprendente y llena de sabor\, este es tu momento. Inscribirte en un curso de cocina nikkei no solo enriquecerá tus habilidades como cocinero\, sino también tu comprensión del arte culinario como vehículo de cultura y conexión. \nAtrévete a descubrir nuevos sabores\, a desafiar tu paladar y a crear platos que fusionan lo mejor de Japón y Perú\, todo desde el corazón de Madrid. ¡Tu aventura nikkei comienza ahora! \n\n  \n  \n  \n  \n 
URL:https://apuntococina.com/cursodecocina/curso-de-cocina-nikkei-en-madrid/
LOCATION:A Punto Madrid Centro\, Calle farmacia 6\, Madrid\, 28004\, España
CATEGORIES:Cursos cocina del mundo
ATTACH;FMTTYPE=image/jpeg:https://apuntococina.com/wp-content/uploads/2020/01/Curso-de-cocina-Nikkei.jpg
END:VEVENT
END:VCALENDAR