BEGIN:VCALENDAR
VERSION:2.0
PRODID:-//A Punto - ECPv6.15.18//NONSGML v1.0//EN
CALSCALE:GREGORIAN
METHOD:PUBLISH
X-WR-CALNAME:A Punto
X-ORIGINAL-URL:https://apuntococina.com
X-WR-CALDESC:Eventos para A Punto
REFRESH-INTERVAL;VALUE=DURATION:PT1H
X-Robots-Tag:noindex
X-PUBLISHED-TTL:PT1H
BEGIN:VTIMEZONE
TZID:Europe/Paris
BEGIN:DAYLIGHT
TZOFFSETFROM:+0100
TZOFFSETTO:+0200
TZNAME:CEST
DTSTART:20250330T010000
END:DAYLIGHT
BEGIN:STANDARD
TZOFFSETFROM:+0200
TZOFFSETTO:+0100
TZNAME:CET
DTSTART:20251026T010000
END:STANDARD
BEGIN:DAYLIGHT
TZOFFSETFROM:+0100
TZOFFSETTO:+0200
TZNAME:CEST
DTSTART:20260329T010000
END:DAYLIGHT
BEGIN:STANDARD
TZOFFSETFROM:+0200
TZOFFSETTO:+0100
TZNAME:CET
DTSTART:20261025T010000
END:STANDARD
BEGIN:DAYLIGHT
TZOFFSETFROM:+0100
TZOFFSETTO:+0200
TZNAME:CEST
DTSTART:20270328T010000
END:DAYLIGHT
BEGIN:STANDARD
TZOFFSETFROM:+0200
TZOFFSETTO:+0100
TZNAME:CET
DTSTART:20271031T010000
END:STANDARD
END:VTIMEZONE
BEGIN:VEVENT
DTSTART;TZID=Europe/Paris:20260529T193000
DTEND;TZID=Europe/Paris:20260529T220000
DTSTAMP:20260420T172855
CREATED:20190412T074822Z
LAST-MODIFIED:20260312T170452Z
UID:57789-1780083000-1780092000@apuntococina.com
SUMMARY:Curso de cocina vegana 29/5/26
DESCRIPTION:Curso de alta cocina vegana\nVamos a cocinar\, en grupos reducidos\, platos deliciosos sin proteína animal. Un curso de alta cocina vegana\, muy completo\, del que saldrás con ideas creativas y recetas fáciles de replicar en casa. Así que ponte el delantal\, ¡y a cocinar! \n¿Qué vamos a preparar en el curso de alta cocina vegana?\n\n\nCroquetas de mijo\nHamburguesa de setas con falso queso cheddar\nBao de jack fruit\, estilo coreano\nPollo al curry de seitan casero\nTiramisú\n\n\n \nPor si no puedes esperar a que llegue el día del curso de  cocina vegana\, o quieres ir calentando motores\, aquí te dejamos la receta de Muselina de boniato asado con trompeta negra y edamames rotos: \n\n\n\n\nIngredientes para 4 personas\n\n750gr de boniato o batata\n200gr de patata\n0.5 l de leche de avena\n200 gr de trompeta negra o una seta de temporada fresca (salvaje) 200 gr de vainas de edamameAOVE\nChalotas\nSemillas de ajonjolí blanco Sal del Himalaya\nPimienta rosa\nNuez moscada\n\nElaboración\n\nAsar los boniatos al horno a 150\, unos 45 min hasta que estén blandos. Pelar y pasar la carne por un pasapurés. Reservar.\nPelar y lavar las patatas cortar en trozos pequeños y cocer con agua no mucha cantidad para no desaprovechar nada de la patata que se rompa en la cocción. Cuando estén casi cocidas añadimos la leche de avena y terminamos de cocer y reducir para obtener casi una crema de patata. Sazonar con nuez moscada y sal del Himalaya. Reservar.\nMezclar el boniato y la crema de patata hasta conseguir el sabor deseado\nLimpiar las trompetas con cuidado siempre con una brocha papel húmedo pero sin mojarlas enteras para que no absorban mucha cantidad de agua.\nPicar las chalotas y saltearlas con las trompetas\nBlanquear los edamames\, repelar y triturar con una gota de agua sazonar\, debe quedar un puré espeso. Reservar unos edamames enteros para decorar.\n\n\n\n\n\n 
URL:https://apuntococina.com/cursodecocina/curso-de-cocina-alta-cocina-vegana/
LOCATION:A Punto Madrid Centro\, Calle farmacia 6\, Madrid\, 28004\, España
CATEGORIES:Cursos de cocina vegetariana y vegana
ATTACH;FMTTYPE=image/jpeg:https://apuntococina.com/wp-content/uploads/2019/04/ALTA-COCINA-VEGANA.jpg
END:VEVENT
END:VCALENDAR