BEGIN:VCALENDAR
VERSION:2.0
PRODID:-//A Punto - ECPv6.15.18//NONSGML v1.0//EN
CALSCALE:GREGORIAN
METHOD:PUBLISH
X-WR-CALNAME:A Punto
X-ORIGINAL-URL:https://apuntococina.com
X-WR-CALDESC:Eventos para A Punto
REFRESH-INTERVAL;VALUE=DURATION:PT1H
X-Robots-Tag:noindex
X-PUBLISHED-TTL:PT1H
BEGIN:VTIMEZONE
TZID:Europe/Paris
BEGIN:DAYLIGHT
TZOFFSETFROM:+0100
TZOFFSETTO:+0200
TZNAME:CEST
DTSTART:20250330T010000
END:DAYLIGHT
BEGIN:STANDARD
TZOFFSETFROM:+0200
TZOFFSETTO:+0100
TZNAME:CET
DTSTART:20251026T010000
END:STANDARD
BEGIN:DAYLIGHT
TZOFFSETFROM:+0100
TZOFFSETTO:+0200
TZNAME:CEST
DTSTART:20260329T010000
END:DAYLIGHT
BEGIN:STANDARD
TZOFFSETFROM:+0200
TZOFFSETTO:+0100
TZNAME:CET
DTSTART:20261025T010000
END:STANDARD
BEGIN:DAYLIGHT
TZOFFSETFROM:+0100
TZOFFSETTO:+0200
TZNAME:CEST
DTSTART:20270328T010000
END:DAYLIGHT
BEGIN:STANDARD
TZOFFSETFROM:+0200
TZOFFSETTO:+0100
TZNAME:CET
DTSTART:20271031T010000
END:STANDARD
END:VTIMEZONE
BEGIN:VEVENT
DTSTART;TZID=Europe/Paris:20260526T193000
DTEND;TZID=Europe/Paris:20260526T220000
DTSTAMP:20260420T172739
CREATED:20190325T173139Z
LAST-MODIFIED:20260211T165644Z
UID:38929-1779823800-1779832800@apuntococina.com
SUMMARY:Curso de repostería tradicional  26/5/26
DESCRIPTION:Curso de repostería tradicional en A Punto \nUn básico para quienes quieren introducirse en la repostería y comenzar a hacer sus primeros postres en casa. ¿Qué prepararemos en este curso? \nCARROT CAKE CON SU FROSTING DE MANTEQUILLA \nBIZCOCHO DE LA ABUELA Y UNA CREMA PASTELERA PARA MOJAR \nTEJAS \nMOUSSE DE CHOCOLATE \nLa repostería en España posee una larga historia que se remonta a la época de los romanos y se modifica con la dulcería árabe y judía.La época andalusí ha dejado numerosos dulces de aspecto árabe en la zona sur del país\, como los mazapanes y los alfajores o los dulces navideños (turrón\, polvorones\, peladillas\, etcétera)\, todos ellos muy difundidos a través del territorio. Es muy habitual que cada región posea un postre tradicional que emplea una fruta o condimento típicode la zona\, desde almendrasa quesosyvinos..Muchosestán vinculados a festividades religiosas cristianas\, como el roscón de Reyes\, los huesos de santo\, los buñuelos de viento de Todos los Santos\, la Tarta de Sentiago\, las Yemas de santa Teresa. Eso se debe a que proceden del recetario delos conventos ya que a las monjas les regalaban buenas materias primas: huevos\, leche\, mantequilla\, azúcar…que eran lujos que no aparecían por en las casacomunes. \nEl chocolate aparece en la gastronomía española como bebida\, su empleo en repostería llega por influencia externa\, francesa y centroeuropea. \nOs esperamos en nuestro curso de repostería tradicional!
URL:https://apuntococina.com/cursodecocina/curso-de-tecnicas-basicas-de-reposteria-tradicional/
LOCATION:A Punto Madrid Centro\, Calle farmacia 6\, Madrid\, 28004\, España
CATEGORIES:Cursos de repostería
ATTACH;FMTTYPE=image/jpeg:https://apuntococina.com/wp-content/uploads/2019/04/tarta-de-queso-y-fresas-1.jpg
END:VEVENT
END:VCALENDAR