BEGIN:VCALENDAR
VERSION:2.0
PRODID:-//A Punto - ECPv6.15.18//NONSGML v1.0//EN
CALSCALE:GREGORIAN
METHOD:PUBLISH
X-ORIGINAL-URL:https://apuntococina.com
X-WR-CALDESC:Eventos para A Punto
REFRESH-INTERVAL;VALUE=DURATION:PT1H
X-Robots-Tag:noindex
X-PUBLISHED-TTL:PT1H
BEGIN:VTIMEZONE
TZID:Europe/Paris
BEGIN:DAYLIGHT
TZOFFSETFROM:+0100
TZOFFSETTO:+0200
TZNAME:CEST
DTSTART:20250330T010000
END:DAYLIGHT
BEGIN:STANDARD
TZOFFSETFROM:+0200
TZOFFSETTO:+0100
TZNAME:CET
DTSTART:20251026T010000
END:STANDARD
BEGIN:DAYLIGHT
TZOFFSETFROM:+0100
TZOFFSETTO:+0200
TZNAME:CEST
DTSTART:20260329T010000
END:DAYLIGHT
BEGIN:STANDARD
TZOFFSETFROM:+0200
TZOFFSETTO:+0100
TZNAME:CET
DTSTART:20261025T010000
END:STANDARD
BEGIN:DAYLIGHT
TZOFFSETFROM:+0100
TZOFFSETTO:+0200
TZNAME:CEST
DTSTART:20270328T010000
END:DAYLIGHT
BEGIN:STANDARD
TZOFFSETFROM:+0200
TZOFFSETTO:+0100
TZNAME:CET
DTSTART:20271031T010000
END:STANDARD
END:VTIMEZONE
BEGIN:VEVENT
DTSTART;TZID=Europe/Paris:20260522T193000
DTEND;TZID=Europe/Paris:20260522T220000
DTSTAMP:20260421T073315
CREATED:20190325T123343Z
LAST-MODIFIED:20260215T162625Z
UID:38900-1779478200-1779487200@apuntococina.com
SUMMARY:Curso de cocina vegetariana  sin gluten 22/5/26
DESCRIPTION:Curso de cocina vegetariana \n¿Qué prepararemos? \nPAD THAI VEGETARIANO\nPIZZA DE COLIFLOR TIKKA MASALA CON QUESO FRESCO\, YOGUR ESPECIADO\,SALSA CREMOSA DE ANACARDOS Y AZAFRÁN\nFALAFEL   CON SALSA DE YOGUR Y PEPINO ( TZATZIKI)\nSHAKSHUKA DE BONIATO CON MANTEQUILLA CASERA  A LA SRIRACHA Y CEBOLLA ENCURTIDA  \n \nEn A  Punto Escuela de Cocina todos nuestros cursos son en grupos reducidos para que podamos atenderte de la forma más personalizada posible. No hace falta tener nivel\, solo venir con ganas de cocinar\, porque además nuestros cursos son totalmente prácticos\, es decir\, nada más llegar os damos un delantal\, y en seguida os pondréis a pelar\, cortar\, hervir\, saltear y lo que haga falta. \nRecuerda compartir tus impresiones y tus fotos en las redes sociales con el hashtag #FoodiesAPunto\, en el que además encontrarás información sobre todas nuestras actividades y cursos. \nCuando vengas al curso\, por el mero hecho de apuntarte\, tienes un 5% de descuento en nuestra tienda\, ya sea para nuestros libros sobre gastronomía\, para los utensilios de cocina que tenemos\, que son súper prácticos\, y para los vinos y cavas de nuestra bodega. \nLa cocina vegetariana es\, aunque no nos demos cuenta\, el fondo de todas las cocinas: las verduras y frutas\, las legumbres\, las especias\, los aromas\, y los cereales son la despensa más global\, y por eso la variedad de platos es enorme. \nVamos a dar una vuelta por el mapa. No hay que temer a los nombres ni al mercado porque aquí ya se encuentran ingredientes de todos los continentes. Vale la pena aprender a usarlos y disfrutarlos y asi ampliar nuestro recetario vegetariano de cada día.
URL:https://apuntococina.com/cursodecocina/curso-de-cocina-vegetariana/
LOCATION:A Punto Madrid Centro\, Calle farmacia 6\, Madrid\, 28004\, España
CATEGORIES:Cursos de cocina vegetariana y vegana
ATTACH;FMTTYPE=image/jpeg:https://apuntococina.com/wp-content/uploads/2020/12/curso-de-cocina-vegetariana-madrid.jpg
END:VEVENT
END:VCALENDAR