BEGIN:VCALENDAR
VERSION:2.0
PRODID:-//A Punto - ECPv6.15.18//NONSGML v1.0//EN
CALSCALE:GREGORIAN
METHOD:PUBLISH
X-ORIGINAL-URL:https://apuntococina.com
X-WR-CALDESC:Eventos para A Punto
REFRESH-INTERVAL;VALUE=DURATION:PT1H
X-Robots-Tag:noindex
X-PUBLISHED-TTL:PT1H
BEGIN:VTIMEZONE
TZID:Europe/Paris
BEGIN:DAYLIGHT
TZOFFSETFROM:+0100
TZOFFSETTO:+0200
TZNAME:CEST
DTSTART:20250330T010000
END:DAYLIGHT
BEGIN:STANDARD
TZOFFSETFROM:+0200
TZOFFSETTO:+0100
TZNAME:CET
DTSTART:20251026T010000
END:STANDARD
BEGIN:DAYLIGHT
TZOFFSETFROM:+0100
TZOFFSETTO:+0200
TZNAME:CEST
DTSTART:20260329T010000
END:DAYLIGHT
BEGIN:STANDARD
TZOFFSETFROM:+0200
TZOFFSETTO:+0100
TZNAME:CET
DTSTART:20261025T010000
END:STANDARD
BEGIN:DAYLIGHT
TZOFFSETFROM:+0100
TZOFFSETTO:+0200
TZNAME:CEST
DTSTART:20270328T010000
END:DAYLIGHT
BEGIN:STANDARD
TZOFFSETFROM:+0200
TZOFFSETTO:+0100
TZNAME:CET
DTSTART:20271031T010000
END:STANDARD
END:VTIMEZONE
BEGIN:VEVENT
DTSTART;TZID=Europe/Paris:20260515T113000
DTEND;TZID=Europe/Paris:20260515T140000
DTSTAMP:20260421T170127
CREATED:20191224T131741Z
LAST-MODIFIED:20251228T134147Z
UID:65470-1778844600-1778853600@apuntococina.com
SUMMARY:Curso de arroces de temporada  15/5/26
DESCRIPTION:Curso de arroces tradicionales en A Punto\, Escuela de Cocina. \n  \n¿Qué prepararemos? \n\n\nArroz caldoso con gambas rojas y fondo de marisco\n\n\nRisotto de pollo de corral\, con trompetas de los muertos y parmesano\n\n\nPaella  tradicional valenciana\n\n\nAli oli tradicional\n  \n \nEn nuestro Curso de arroces tradicionales\, prepárate para cocinar. Nuestros cursos son totalmente prácticos\, así que nada más llegar\, te daremos un delantal que después te podrás quedar\, y listos para cortar\, pelar\, saltear y… cuando terminéis os podréis comer los platos que hayáis preparado. \nAdemás\, tendréis un vino de nuestra bodega que podréis ir tomando durante la clase\, que maridará perfectamente con vuestros arroces. Y si te enamoras de ese vino\, no te preocupes\, te lo puedes comprar en nuestra tienda. Además\, ese día contáis con un 5% de descuento\, tanto en nuestros vinos y cavas\, como en libros y utensilios de cocina. \nLos grupos de cada curso son reducidos para que podáis tener una atención totalmente personalizada\, y además de aprender a cocinar\, conocerás gente con las mismas ganas de aprender que tú. \nDurante la clase\, no te olvides de compartir tus fotos y comentarios en las redes sociales con el hashtag #FoodiesAPunto. Además en él podrás encontrar más información sobre nuestras actividades y otros cursos.
URL:https://apuntococina.com/cursodecocina/curso-de-arroces-3/
LOCATION:A Punto Madrid Centro\, Calle farmacia 6\, Madrid\, 28004\, España
CATEGORIES:Cursos de arroces
ATTACH;FMTTYPE=image/jpeg:https://apuntococina.com/wp-content/uploads/2020/01/curso-de-arroces-en-madrid-centro.jpg
END:VEVENT
BEGIN:VEVENT
DTSTART;TZID=Europe/Paris:20260515T193000
DTEND;TZID=Europe/Paris:20260515T220000
DTSTAMP:20260421T170127
CREATED:20191128T170149Z
LAST-MODIFIED:20260215T164215Z
UID:87654-1778873400-1778882400@apuntococina.com
SUMMARY:Curso de cocina asiática 15/5/26
DESCRIPTION:En nuestra Escuela de Cocina A Punto\, en el centro de Madrid\, os proponemos este Curso de Dim Sum y cocinas asiáticas. \nRendiremos homenaje a los aperitivos asiáticos: los dim sum y las gyozas. Las tapas japonesas y chinas. \nAprenderemos a trabajar la masa para hacer la masa de las empanadillas; según el mercado prepararemos diferentes tipos de rellenos y los elaboraremos con las dos técnicas básicas: plancha y vapor. \nPrepararemos \n\n\nDim sum fritos de cordero y tamarindo con chutney de menta.\n\n\nCostillas de cerdo con salsa de caramelo y leche de coco\n\n\nBibimbap ( arroz al estilo coreano con su salsa gochuhang)\n\n\nTom Kha Khai ( la famosa sopa thai con leche de coco)\n\n\n  \n \nTodos nuestros cursos son grupos reducidos y totalmente prácticos para que podáis aprender de la mejor manera\, que en A Punto creemos que es cocinando. Para ello\, os daremos un delantal que os pondréis nada más llegar\, porque lo vais a necesitar. \nAdemás\, os pondremos vino de nuestra bodega especialmente seleccionado por Ana Lorente\, nuestra experta en vinos\, que maridará perfectamente con las recetas que vais a preparar. \nAdemás\, al terminar cada plato\, lo podréis comer aquí\, o llevároslo a casa para disfrutar de él con vuestra familia o amigos. \n  \n  \n  \n 
URL:https://apuntococina.com/cursodecocina/curso-dim-sum2-2/
LOCATION:A Punto Madrid Centro\, Calle farmacia 6\, Madrid\, 28004\, España
CATEGORIES:Cursos cocina del mundo,Cursos de cocina asiatica
ATTACH;FMTTYPE=image/jpeg:https://apuntococina.com/wp-content/uploads/2020/01/curso-de-cocina-asiatica-callejera-en-madrid-centro.jpg
END:VEVENT
END:VCALENDAR