BEGIN:VCALENDAR
VERSION:2.0
PRODID:-//A Punto - ECPv6.15.18//NONSGML v1.0//EN
CALSCALE:GREGORIAN
METHOD:PUBLISH
X-ORIGINAL-URL:https://apuntococina.com
X-WR-CALDESC:Eventos para A Punto
REFRESH-INTERVAL;VALUE=DURATION:PT1H
X-Robots-Tag:noindex
X-PUBLISHED-TTL:PT1H
BEGIN:VTIMEZONE
TZID:Europe/Paris
BEGIN:DAYLIGHT
TZOFFSETFROM:+0100
TZOFFSETTO:+0200
TZNAME:CEST
DTSTART:20250330T010000
END:DAYLIGHT
BEGIN:STANDARD
TZOFFSETFROM:+0200
TZOFFSETTO:+0100
TZNAME:CET
DTSTART:20251026T010000
END:STANDARD
BEGIN:DAYLIGHT
TZOFFSETFROM:+0100
TZOFFSETTO:+0200
TZNAME:CEST
DTSTART:20260329T010000
END:DAYLIGHT
BEGIN:STANDARD
TZOFFSETFROM:+0200
TZOFFSETTO:+0100
TZNAME:CET
DTSTART:20261025T010000
END:STANDARD
BEGIN:DAYLIGHT
TZOFFSETFROM:+0100
TZOFFSETTO:+0200
TZNAME:CEST
DTSTART:20270328T010000
END:DAYLIGHT
BEGIN:STANDARD
TZOFFSETFROM:+0200
TZOFFSETTO:+0100
TZNAME:CET
DTSTART:20271031T010000
END:STANDARD
END:VTIMEZONE
BEGIN:VEVENT
DTSTART;TZID=Europe/Paris:20260514T193000
DTEND;TZID=Europe/Paris:20260514T220000
DTSTAMP:20260421T172219
CREATED:20240905T152228Z
LAST-MODIFIED:20260316T135955Z
UID:112832-1778787000-1778796000@apuntococina.com
SUMMARY:Curso de cocina japonesa sin sushi 14/5/26
DESCRIPTION:Curso de cocina japonesa sin sushi\, en Madrid\nEn este curso no vamos a trabajar sushi\, sino que nos centraremos en otras elaboraciones de una cocina tan amplia como la del país nipón. ¡No solo de sushi se vive en Japón! De hecho\, el sushi es una de las mil elaboraciones que puedes probar en este país. La vas a pasar bien entre recetas divertidas y cargadas de sabor. Desde el famoso Katsu Sando (un bocadillo de filete empanado)\, hasta un buen Udón con sus tempura o gyozas de verduras a la plancha. Vas a aprender de encurtidos caseros y varios datos curiosos. \n¿Qué vamos a preparar en el curso de cocina japonesa sin sushi?\n\n\nTakoyaki: los famosos chupa chups de pulpo\nKatsu Sando con salsa tonkatsu\, ensalada de col lombarda y rabanitos encurtidos\nUdon con verduras y tempura de  langostinos con salsa teriyaki casera\nGyozas de verduras a la plancha\n\n\nEn A Punto también puedes aprender a preparar sushi aquí  \n¿Quieres ver lo que hemos desayunado en nuestro viaje a Japón? Pincha aquí 
URL:https://apuntococina.com/cursodecocina/curso-de-cocina-japonesa-sin-sushi/
LOCATION:A Punto CHUECA\, Calle Farmacia 6\, Madrid\, 28004
CATEGORIES:Cursos cocina del mundo,Cursos de cocina asiatica
ATTACH;FMTTYPE=image/jpeg:https://apuntococina.com/wp-content/uploads/2020/01/curso-de-cocina-asiatica-callejera-en-madrid-centro.jpg
END:VEVENT
END:VCALENDAR