BEGIN:VCALENDAR
VERSION:2.0
PRODID:-//A Punto - ECPv6.15.18//NONSGML v1.0//EN
CALSCALE:GREGORIAN
METHOD:PUBLISH
X-ORIGINAL-URL:https://apuntococina.com
X-WR-CALDESC:Eventos para A Punto
REFRESH-INTERVAL;VALUE=DURATION:PT1H
X-Robots-Tag:noindex
X-PUBLISHED-TTL:PT1H
BEGIN:VTIMEZONE
TZID:Europe/Paris
BEGIN:DAYLIGHT
TZOFFSETFROM:+0100
TZOFFSETTO:+0200
TZNAME:CEST
DTSTART:20250330T010000
END:DAYLIGHT
BEGIN:STANDARD
TZOFFSETFROM:+0200
TZOFFSETTO:+0100
TZNAME:CET
DTSTART:20251026T010000
END:STANDARD
BEGIN:DAYLIGHT
TZOFFSETFROM:+0100
TZOFFSETTO:+0200
TZNAME:CEST
DTSTART:20260329T010000
END:DAYLIGHT
BEGIN:STANDARD
TZOFFSETFROM:+0200
TZOFFSETTO:+0100
TZNAME:CET
DTSTART:20261025T010000
END:STANDARD
BEGIN:DAYLIGHT
TZOFFSETFROM:+0100
TZOFFSETTO:+0200
TZNAME:CEST
DTSTART:20270328T010000
END:DAYLIGHT
BEGIN:STANDARD
TZOFFSETFROM:+0200
TZOFFSETTO:+0100
TZNAME:CET
DTSTART:20271031T010000
END:STANDARD
END:VTIMEZONE
BEGIN:VEVENT
DTSTART;TZID=Europe/Paris:20260510T113000
DTEND;TZID=Europe/Paris:20260510T140000
DTSTAMP:20260421T172504
CREATED:20250102T170201Z
LAST-MODIFIED:20260211T174406Z
UID:116390-1778412600-1778421600@apuntococina.com
SUMMARY:Curso de ramen 10/5/26
DESCRIPTION:Caldo dashi ramen\nCaldo tonkotsu y tirokotsu ( pollo y cerdo)\nLos tares para cada caldo\nElaboración de la panceta\nLas verduras y la cocción  chamuscada que les hace falta\nEncurtidos rápidos de cebolla y rabanitos para un toque fresco\nAlbóndigas de pollo al estilo japo de acompañamiento\nElegimos los fideos\nLos huevos\n \n \n\n\n\n\nEl ramen es originario de China y es una variación de un plato llamado Lamian\, basado en un primitivo caldo con fideos (bortuo) al que con el tiempo se fueron incorporando verduras\, a través de los monjes budistas\, y mas tarde ampliando el surtido carnes y condimentos hasta llegar a esta monumental receta\, a un plato completo\, complejo\, equilibrado y muy elaborado. \nLos inmigrantes chinos establecieron tiendas de ramen en Japón antes de la Segunda Guerra Mundial\, pero el boom como plato popular en Japón se fecha después de la guerra\, cuando  muchos soldados japoneses que regresaron desde China dodnde se habían aficionado al lamian empezaron a frecuentar esos restaurantes de ramen. A la vez\, las mujeres salieron de la casa y la cocina para incorporarse al trabajo de reconstrucción del país\, de modo que también tenían que comprar su comida y así la popularidad de esos fideos ya preparados\, muy económicos\, creció como la espuma. \nEl ramen varía mucho de una región a otra\, y a lo largo de las estaciones\, dependiendo del clima\, las tradiciones\, las influencias externas y la disponibilidad de los ingredientes.Las variedades regionales de ramen mas famosas se encuentran en ciudades como Hakata\, Kioto\, Tokio\, Saporo y Muroran. \nLa popularización del ramen en occidente ha venido a descubrirnos la variedad de la cocina japonesa que parecía reducida al sushi y al pescado crudo. Está claro que el sushi es una comida muy querida y valorada por los japoneses pero es una opción bastante cara y\, en general\, difícilmente asequible para el menú diario. \nEn este curso queremos enseñar que Japón pone en la mesa mucho más que sushi\, y que su técnica culinaria\, el perfeccionismo y la delicadeza en ingredientes y detalles se aplica a todos sus platos\, también a guisos como la fusión chino japonesa del delicioso y reconfortante ramen que tanto está de moda y que vamos a aprender a preparar en este curso.
URL:https://apuntococina.com/cursodecocina/curso-de-ramen-5/
LOCATION:A Punto CHUECA\, Calle Farmacia 6\, Madrid\, 28004
CATEGORIES:Cursos cocina del mundo,Cursos de cocina asiatica
ATTACH;FMTTYPE=image/png:https://apuntococina.com/wp-content/uploads/2019/04/Curso-de-Ramen-A-Punto-Cocina.png
END:VEVENT
BEGIN:VEVENT
DTSTART;TZID=Europe/Paris:20260510T160000
DTEND;TZID=Europe/Paris:20260510T183000
DTSTAMP:20260421T172504
CREATED:20190610T171250Z
LAST-MODIFIED:20260119T134609Z
UID:60323-1778428800-1778437800@apuntococina.com
SUMMARY:Curso de repostería para merendar 10/5/26
DESCRIPTION:Curso de Repostería para merendar \n¿Qué aprenderemos?  \nDonuts con su baño de chocolate y glaseado\nCookies de pepitas de chocolate y frutos secos\nCrepes estilo francés con sus rellenos\n\nEste curso de repostería en Madrid invita a recuperar ese momento reconfortante de la merienda hecha en casa que se está perdiendo. Podrás dominar fácilmente bocados deliciosos\, dulces de aquí y de allá que se pueden preparar con técnicas modernas y eficaces como el microndas \, decorar a capricho\, como las galletitas\, o competir con ingredientes saludables y el dulzor comedido con la denostada dulcería industrial. \n\n\nRepostería para merendar\, para invitar en casa\, para conservar en una preciosa latita y tener a punto siempre\, y para comer en el calor familiar de la propia cocina o de mesa camilla o en un banco del parque\, cuando los niños salen del cole. \n\n\nSi te gusta la repostería y eres apenas un poco manitas\, éste es tu curso. \n\n\nEn A Punto Escuela de Cocina\, todos nuestros cursos son reducidos para que el trato sea personalizado\, y completamente prácticos\, bajo la dirección de profesionales reconocidos y con experiencia diaria en la alta repostería. Porque creemos que a cocinar se aprende cocinando\, no mirando. \n\n 
URL:https://apuntococina.com/cursodecocina/curso-de-tartas-de-cumpleanos/
LOCATION:A Punto Madrid Centro\, Calle farmacia 6\, Madrid\, 28004\, España
CATEGORIES:Cursos de repostería
ATTACH;FMTTYPE=image/jpeg:https://apuntococina.com/wp-content/uploads/2019/04/tarta-de-queso-y-fresas-1.jpg
END:VEVENT
BEGIN:VEVENT
DTSTART;TZID=Europe/Paris:20260510T193000
DTEND;TZID=Europe/Paris:20260510T220000
DTSTAMP:20260421T172504
CREATED:20201229T120557Z
LAST-MODIFIED:20260223T152323Z
UID:78135-1778441400-1778450400@apuntococina.com
SUMMARY:Curso de pasta fresca y sus salsas 10/5/26
DESCRIPTION:Curso de pasta fresca y sus salsas\nLa pasta fresca es uno de los mayores símbolos de la gastronomía italiana. Su textura delicada\, su sabor inconfundible y la posibilidad de personalizarla de mil maneras hacen que aprender a elaborarla sea un verdadero arte. Si sueñas con preparar pasta casera como en las mejores trattorias de Roma o Nápoles\, no puedes perderte un curso de pasta fresca en Madrid. Después de 2h 30 min sabrás: \n\nDominar técnicas tradicionales italianas transmitidas de generación en generación.\nTrabajar diferentes tipos de masa: pasta al huevo\, pasta al agua\, pasta de espinacas\, pasta bicolor\, etc.\nElaborar distintos formatos de pasta fresca: desde spaghetti y tagliatelle hasta raviolis\, pappardelle o tortelloni.\nComprender el equilibrio de ingredientes para lograr masas elásticas y sabrosas.\nDescubrir salsas y rellenos clásicos y gourmet para elevar tus platos a otro nivel.\n\n¿Qué vamos a preparar en el curso de pasta fresca?\n\n\nSpaghettoni de gambas y salsa de sus cabezas con crujiente de  pistacho  (pasta seca con técnica del risottato)\nRavioloni bicolor hechos a mano rellenos de ricotta con limón\nPappardelle Ai Frutti di terra Con ragú blanco\, boletus\, rúcula\, piñones\, un toque de salsa de tomate San Marzano D.O.P y aroma de trufa\n\n\nSpaghettoni de gambas y salsa de sus cabezas con crujiente de pistacho\nLos spaghettoni son una variedad de pasta larga\, más gruesa que el espagueti tradicional\, ideal para platos sabrosos y salsas intensas. En este curso aprenderás la técnica de la risottatura y a cocinar los espaguetis con una exquisita salsa elaborada a partir de las cabezas de las gambas\, concentrando todo su sabor marino en una emulsión deliciosa. El toque final lo pone un crujiente de pistacho\, que añade textura\, color y un matiz de frutos secos que armoniza a la perfección con el marisco. \n\nTécnica destacada: extracción de jugo de cabezas de gambas y su emulsión.\nTip: la pasta debe absorber bien la salsa sin perder su textura al dente.\n\nRavioloni bicolor hechos a mano rellenos de ricotta con limón\nPocas experiencias son tan satisfactorias como preparar tus propios ravioloni bicolor. En este plato aprenderás la técnica de teñir de manera natural la pasta (por ejemplo\, con espinacas o tinta de calamar) para crear un efecto visual impresionante. El relleno\, de ricotta cremosa con ralladura de limón\, aporta frescura y suavidad. Es un plato que resume la elegancia de la cocina italiana en su estado más puro. \n\nTécnica destacada: creación de pasta bicolor y sellado perfecto de los ravioloni.\nTip: mantener el relleno bien frío para facilitar el trabajo con la masa.\n\nPappardelle ai frutti di terra con ragú blanco\, boletus\, rúcula\, piñones\, salsa de tomate San Marzano D.O.P y aroma de trufa\nLos pappardelle son una pasta ancha y perfecta para salsas consistentes. En este plato\, aprenderás a combinar productos de la tierra en un homenaje a la cocina italiana más auténtica. El ragú blanco se prepara sin tomate\, a base de carnes y boletus\, resultando en una salsa cremosa y llena de matices. Se combina con rúcula fresca\, piñones tostados\, un toque de salsa de tomate San Marzano D.O.P —considerados los mejores tomates del mundo— y se aromatiza finalmente con trufa para aportar un perfume inconfundible. \n\nTécnica destacada: salteado controlado y emulsión de salsas con la pasta.\nTip: la trufa debe añadirse justo al final para mantener su aroma.\n\nSi quieres aprender a apreciar la verdadera pasta\, haz clic aquí  \nTambién puedes encontrar las verdaderas recetas de cocina italiana en nuestra selección de libros
URL:https://apuntococina.com/cursodecocina/curso-de-pasta-fresca-y-sus-salsas/
LOCATION:A Punto CHUECA\, Calle Farmacia 6\, Madrid\, 28004
CATEGORIES:Cursos cocina del mundo
ATTACH;FMTTYPE=image/jpeg:https://apuntococina.com/wp-content/uploads/2020/12/CURSO-PASTA-FRESCA-Y-SUS-SALSAS.jpg
END:VEVENT
END:VCALENDAR