BEGIN:VCALENDAR
VERSION:2.0
PRODID:-//A Punto - ECPv6.15.18//NONSGML v1.0//EN
CALSCALE:GREGORIAN
METHOD:PUBLISH
X-WR-CALNAME:A Punto
X-ORIGINAL-URL:https://apuntococina.com
X-WR-CALDESC:Eventos para A Punto
REFRESH-INTERVAL;VALUE=DURATION:PT1H
X-Robots-Tag:noindex
X-PUBLISHED-TTL:PT1H
BEGIN:VTIMEZONE
TZID:Europe/Paris
BEGIN:DAYLIGHT
TZOFFSETFROM:+0100
TZOFFSETTO:+0200
TZNAME:CEST
DTSTART:20250330T010000
END:DAYLIGHT
BEGIN:STANDARD
TZOFFSETFROM:+0200
TZOFFSETTO:+0100
TZNAME:CET
DTSTART:20251026T010000
END:STANDARD
BEGIN:DAYLIGHT
TZOFFSETFROM:+0100
TZOFFSETTO:+0200
TZNAME:CEST
DTSTART:20260329T010000
END:DAYLIGHT
BEGIN:STANDARD
TZOFFSETFROM:+0200
TZOFFSETTO:+0100
TZNAME:CET
DTSTART:20261025T010000
END:STANDARD
BEGIN:DAYLIGHT
TZOFFSETFROM:+0100
TZOFFSETTO:+0200
TZNAME:CEST
DTSTART:20270328T010000
END:DAYLIGHT
BEGIN:STANDARD
TZOFFSETFROM:+0200
TZOFFSETTO:+0100
TZNAME:CET
DTSTART:20271031T010000
END:STANDARD
END:VTIMEZONE
BEGIN:VEVENT
DTSTART;TZID=Europe/Paris:20260505T193000
DTEND;TZID=Europe/Paris:20260505T220000
DTSTAMP:20260420T172633
CREATED:20190411T145815Z
LAST-MODIFIED:20251106T152217Z
UID:57751-1778009400-1778018400@apuntococina.com
SUMMARY:Curso de cocina con horno 5/5/26
DESCRIPTION:El uso correcto del horno puede convertirse en el gran aliado de nuestra cocina. En este curso trabajaremos con verduras\, aves y pescados utilizando la técnica del horneado. \n\nPollo asado\nTarta tatin de cebollas\nPescado de temporada a la sal\nverdura de hoja larga con vinagreta de tomate concassé\nSalsa romescu para unas batatas horneadas\n\n**************************** \n  \n5 consejos para cocinar al horno:\nPara ir calentando motores antes del curso de cocina con horno\, ya verás como te ayudan estos consejos. \n\nCuanto menos cortes los ingredientes que vayas a cocinar al horno\, menos nutrientes perderán. Por ello\, las verduras\, patatas\, carnes o pescados\, cocínalas enteras o en trozos lo más grandes posible.\nNo cocines a una temperatura demasiado alta\, es más sano si lo haces a 180ºC como máximo\, ya que se perderán menos nutrientes de esta manera.\nUtiliza la rejilla para colocar los alimentos que tengan más grasa\, y deja debajo la bandeja\, para que ésta quede recogida y no regrese a la comida. Así será más ligero el plato final.\nutiliza el papillote\, porque al estar envuelta la comida\, se cocina en su propio jugo\, manteniendo mejor los nutrientes y los sabores. Eso sí\, hazlo con papel de horno o de estrada\, ya que el de aluminio no es biodegradable.\nEn cocotte también es una buena opción para no perder sabor ni nutrientes\, ya que al estar los ingredientes cerrados en un recipiente de hierro\, nada se podrá escapar.\n\n  \n 
URL:https://apuntococina.com/cursodecocina/curso-de-cocina-con-horno/
LOCATION:A Punto CHUECA\, Calle Farmacia 6\, Madrid\, 28004
CATEGORIES:Cursos de cocina tradicional
ATTACH;FMTTYPE=image/jpeg:https://apuntococina.com/wp-content/uploads/2020/01/pollo-horno.jpeg
END:VEVENT
END:VCALENDAR