BEGIN:VCALENDAR
VERSION:2.0
PRODID:-//A Punto - ECPv6.15.18//NONSGML v1.0//EN
CALSCALE:GREGORIAN
METHOD:PUBLISH
X-ORIGINAL-URL:https://apuntococina.com
X-WR-CALDESC:Eventos para A Punto
REFRESH-INTERVAL;VALUE=DURATION:PT1H
X-Robots-Tag:noindex
X-PUBLISHED-TTL:PT1H
BEGIN:VTIMEZONE
TZID:Europe/Paris
BEGIN:DAYLIGHT
TZOFFSETFROM:+0100
TZOFFSETTO:+0200
TZNAME:CEST
DTSTART:20250330T010000
END:DAYLIGHT
BEGIN:STANDARD
TZOFFSETFROM:+0200
TZOFFSETTO:+0100
TZNAME:CET
DTSTART:20251026T010000
END:STANDARD
BEGIN:DAYLIGHT
TZOFFSETFROM:+0100
TZOFFSETTO:+0200
TZNAME:CEST
DTSTART:20260329T010000
END:DAYLIGHT
BEGIN:STANDARD
TZOFFSETFROM:+0200
TZOFFSETTO:+0100
TZNAME:CET
DTSTART:20261025T010000
END:STANDARD
BEGIN:DAYLIGHT
TZOFFSETFROM:+0100
TZOFFSETTO:+0200
TZNAME:CEST
DTSTART:20270328T010000
END:DAYLIGHT
BEGIN:STANDARD
TZOFFSETFROM:+0200
TZOFFSETTO:+0100
TZNAME:CET
DTSTART:20271031T010000
END:STANDARD
END:VTIMEZONE
BEGIN:VEVENT
DTSTART;TZID=Europe/Paris:20260430T160000
DTEND;TZID=Europe/Paris:20260430T183000
DTSTAMP:20260420T155908
CREATED:20190628T155427Z
LAST-MODIFIED:20260415T175706Z
UID:60797-1777564800-1777573800@apuntococina.com
SUMMARY:10 Tapas cooking class 30/4/26
DESCRIPTION:10 Tapas cooking class in our School\n\nThis takes is held in english / Esta clase se desarrolla en inglés  \nYou will learn how to prepare typical Spanish dishes with the help of a professional chef. We will start explaining how Madrid absorbed the culinary traditions from all over Spain\, then we will start preparing the 10 tapas that best explain each region of Spain. 10 tapas preparation that will be served at the Pintxos style. Sangría will be served during the whole activity. Wine available but not included. \nBook online now!\n  \n\nWhat are we going to prepare in the 10 Tapas cooking class in our school?\n\nSalmorejo (typical spanish cold tomato soup)\nIdiazabal lollipops (made out of one of the best sheep cheese in Spain)\nHorchata torrijas (a sweet and slightly nutty flavor)\nSangría (a refreshing Spanish drink)\nCoca with sobrasada (sort of pizza with pork very typical from Balear Islands)\nMeatballs with spicy sauce (juicy meatballs served in a rich\, slightly spicy tomato-based sauce)\nSquid Sandwich (a classic Madrid sandwich)\nGildas (a famous Basque pintxo made with olives\, anchovies\, and pickled peppers)\nGarlic prawns (A sizzling and aromatic Spanish tapa)\nSpanish omelette (with potatoes and with or without onion\, you decide!)\n\n  \n \nA Punto school is located in the heart of Chueca\, one of the most centric district of Madrid. A fully equipped kitchen for groups of maximum 15 people. No prior kitchen experience is necessary and travelers are sure to leave with a full belly and flavorful recipes to share with friends back home.
URL:https://apuntococina.com/cursodecocina/10-tapas-cooking-class-in-our-school/
LOCATION:A Punto CHUECA\, Calle Farmacia 6\, Madrid\, 28004
CATEGORIES:Spanish cooking classes
ATTACH;FMTTYPE=image/jpeg:https://apuntococina.com/wp-content/uploads/2019/06/Bocadillo-calamares-1-1-scaled.jpg
END:VEVENT
BEGIN:VEVENT
DTSTART;TZID=Europe/Paris:20260430T193000
DTEND;TZID=Europe/Paris:20260430T220000
DTSTAMP:20260420T155908
CREATED:20190415T155318Z
LAST-MODIFIED:20260414T172908Z
UID:57993-1777577400-1777586400@apuntococina.com
SUMMARY:Curso de cocina japonesa con sushi 30/4/26
DESCRIPTION:Curso de cocina japonesa con sushi\nLa gastronomía japonesa es reconocida en todo el mundo por su exquisitez y cuidado en la elaboración de cada plato. Si tienes interés en sumergirte en el mundo culinario japonés y aprender a preparar sushi de la mano de expertos\, te invitamos a descubrir nuestro exclusivo curso de sushi en Madrid. Te aseguramos que la vas a pasar genial\, mientras aprendes de técnicas y sabores. \nEn nuestro taller de cocina japonesa\, no solo aprenderás a preparar deliciosos platos de sushi\, sino que también te sumergirás en la cultura y los secretos de esta milenaria tradición culinaria. Nuestro curso de sushi está diseñado para personas de todos los niveles\, desde principiantes hasta cocineros experimentados que deseen perfeccionar sus habilidades. \n¿Qué vamos a preparar?\n\n\nLavado\, aliño y cocción del arroz para sushi\nCorte de pescados : atún\, salmón\, pez mantequilla (según disponibilidad del mercado)\nMakis\, uramakis: los rolls con su alga por dentro o por fuera\nGunkan de tartar de atún especiado\nNiguiris: el pescado en su máxima esencia\nNori maki tempurizado de langostinos con aguacate\n\n\n  \n¿Quieres ir calentando motores? En el siguiente vídeo te explicamos cómo hacer el arroz de sushi: \n \nY ahora\, te enseñamos cómo enrollar sushi: \n \n\n\n\n\n\n\n\n\nAmbiente relajado para aprender a hacer sushi en Madrid\n\n\n\n\nEntendemos la importancia de un ambiente cómodo y relajado para aprender. Por eso\, limitamos el número de participantes en cada grupo para garantizar una atención personalizada. En nuestro curso de sushi en Madrid nos enorgullece ofrecer un espacio acogedor donde podrás disfrutar de cada momento de aprendizaje. La disponibilidad para nuestro curso de sushi es limitada\, por lo que te recomendamos realizar tu reserva con antelación para asegurar tu participación. Puedes hacerlo desde aquí o contactándonos por teléfono o email. ¡No te pierdas la oportunidad de convertirte en un experto en la elaboración del sushi! \n¡Aprende el Arte del Sushi con A Punto y descubre un mundo de sabores!
URL:https://apuntococina.com/cursodecocina/curso-de-sushi-y-mas-cocina-japonesa/
LOCATION:A Punto Madrid Centro\, Calle farmacia 6\, Madrid\, 28004\, España
CATEGORIES:Cursos cocina del mundo
ATTACH;FMTTYPE=image/jpeg:https://apuntococina.com/wp-content/uploads/2019/04/curso-de-cocina-japonesa-sushi-1.jpg
END:VEVENT
END:VCALENDAR