BEGIN:VCALENDAR
VERSION:2.0
PRODID:-//A Punto - ECPv6.15.18//NONSGML v1.0//EN
CALSCALE:GREGORIAN
METHOD:PUBLISH
X-WR-CALNAME:A Punto
X-ORIGINAL-URL:https://apuntococina.com
X-WR-CALDESC:Eventos para A Punto
REFRESH-INTERVAL;VALUE=DURATION:PT1H
X-Robots-Tag:noindex
X-PUBLISHED-TTL:PT1H
BEGIN:VTIMEZONE
TZID:Europe/Paris
BEGIN:DAYLIGHT
TZOFFSETFROM:+0100
TZOFFSETTO:+0200
TZNAME:CEST
DTSTART:20250330T010000
END:DAYLIGHT
BEGIN:STANDARD
TZOFFSETFROM:+0200
TZOFFSETTO:+0100
TZNAME:CET
DTSTART:20251026T010000
END:STANDARD
BEGIN:DAYLIGHT
TZOFFSETFROM:+0100
TZOFFSETTO:+0200
TZNAME:CEST
DTSTART:20260329T010000
END:DAYLIGHT
BEGIN:STANDARD
TZOFFSETFROM:+0200
TZOFFSETTO:+0100
TZNAME:CET
DTSTART:20261025T010000
END:STANDARD
BEGIN:DAYLIGHT
TZOFFSETFROM:+0100
TZOFFSETTO:+0200
TZNAME:CEST
DTSTART:20270328T010000
END:DAYLIGHT
BEGIN:STANDARD
TZOFFSETFROM:+0200
TZOFFSETTO:+0100
TZNAME:CET
DTSTART:20271031T010000
END:STANDARD
END:VTIMEZONE
BEGIN:VEVENT
DTSTART;TZID=Europe/Paris:20260418T113000
DTEND;TZID=Europe/Paris:20260418T140000
DTSTAMP:20260420T142752
CREATED:20190412T090127Z
LAST-MODIFIED:20260119T125736Z
UID:57819-1776511800-1776520800@apuntococina.com
SUMMARY:Curso de introducción a la cocina molecular 18/4/26
DESCRIPTION:Curso de introducción a la cocina molecular fácil. \nIniciaremos con nuestro recetario tradicional\, pero le daremos una vuelta utilizando las técnicas y productos típicos de la actual cocina de vanguardia\, recordando un poco la historia y orígenes de cómo surgen los primeros inventos de la cocina molecular y trabajaremos en la cocina con diferentes utensilios de laboratorio. \n¿QUÉ PREPAREMOS?\nSalmorejo. Globo de tomate relleno de espuma de salmorejo y jamón con tierra de almendras y mini verduras. Nitrógeno\, espumas y deshidratados\nVacío a baja temperatura con espuma de puré de patata y caviar de pimientos del piquillo\nBizcocho y Rocas de tarta de queso idiazabal con aire de frutos rojos.\nGelatina de vermú con esferas de aceituna\nLa CUCHARA COLADOR\,  fue el gran cambio con el que  comenzó la era de las esferificaciones. Aprenderemos técnica\, elaboración y aplicación en la cocina. \nEl SIFÓN. La introducción del sifón en las cocinas profesionales fue toda una revolución y nosotros queremos sacar el máximo provecho del sifón como un ‘ya’ cotidiano de nuestras cocinas\, aprovechando su aplicación en la cocina salada. \n  \n \nEl curso de introducción a la cocina molecular fácil es muy completo como iniciación a la cocina molecular\, que está tan de moda en los restaurantes con estrella Michelin. Muchos nos preguntamos por qué razón este tipo de restaurantes son tan caros\, es por eso que en este curso verás lo que se tarda conseguir la esferificación perfecta\, el cuidado que hay que tener a la hora de mezclar ingredientes y la importancia de los emplatados. \nSi quieres saber más de la cocina molecular en nuestro artículo sobre Gelificantes\, puedes conocer de qué va esta técnica de conversión \n 
URL:https://apuntococina.com/cursodecocina/curso-de-introduccion-a-la-cocina-molecular-facil/
LOCATION:A Punto CHUECA\, Calle Farmacia 6\, Madrid\, 28004
CATEGORIES:Cursos de nuevas técnicas
ATTACH;FMTTYPE=image/jpeg:https://apuntococina.com/wp-content/uploads/2019/04/GELATINA.jpg
END:VEVENT
END:VCALENDAR