BEGIN:VCALENDAR
VERSION:2.0
PRODID:-//A Punto - ECPv6.15.18//NONSGML v1.0//EN
CALSCALE:GREGORIAN
METHOD:PUBLISH
X-WR-CALNAME:A Punto
X-ORIGINAL-URL:https://apuntococina.com
X-WR-CALDESC:Eventos para A Punto
REFRESH-INTERVAL;VALUE=DURATION:PT1H
X-Robots-Tag:noindex
X-PUBLISHED-TTL:PT1H
BEGIN:VTIMEZONE
TZID:Europe/Paris
BEGIN:DAYLIGHT
TZOFFSETFROM:+0100
TZOFFSETTO:+0200
TZNAME:CEST
DTSTART:20250330T010000
END:DAYLIGHT
BEGIN:STANDARD
TZOFFSETFROM:+0200
TZOFFSETTO:+0100
TZNAME:CET
DTSTART:20251026T010000
END:STANDARD
BEGIN:DAYLIGHT
TZOFFSETFROM:+0100
TZOFFSETTO:+0200
TZNAME:CEST
DTSTART:20260329T010000
END:DAYLIGHT
BEGIN:STANDARD
TZOFFSETFROM:+0200
TZOFFSETTO:+0100
TZNAME:CET
DTSTART:20261025T010000
END:STANDARD
BEGIN:DAYLIGHT
TZOFFSETFROM:+0100
TZOFFSETTO:+0200
TZNAME:CEST
DTSTART:20270328T010000
END:DAYLIGHT
BEGIN:STANDARD
TZOFFSETFROM:+0200
TZOFFSETTO:+0100
TZNAME:CET
DTSTART:20271031T010000
END:STANDARD
END:VTIMEZONE
BEGIN:VEVENT
DTSTART;TZID=Europe/Paris:20260412T160000
DTEND;TZID=Europe/Paris:20260412T183000
DTSTAMP:20260420T155635
CREATED:20200102T175543Z
LAST-MODIFIED:20260119T131845Z
UID:87663-1776009600-1776018600@apuntococina.com
SUMMARY:Curso de pan\, principios básicos 12/4/26
DESCRIPTION:Curso de principios básicos de panadería \nEn este curso de pan\, principios básicos\, nos adentraremos en los secretos del pan y la fermentación. Elaboraremos nuestra primera\nmasa madre\, hablaremos de los diferentes tipos de harina y comenzaremos a elaborar cuatro tipos de panes. \nEn todos nuestros cursos de panadería solemos trabajar con masas que ya han fermentado y empezamos con los alumnos nuevas masas. De esta manera nos da tiempo en las 2.30 horas de duración del curso\, a ver todos los pasos de preparación de los panes \n¿Qué prepararemos? \nCurso de panadería en A Punto \n¿Qué prepararemos? \n\n\n\n\nPan Pita\n\n\nHogaza de pan blanco de harina de trigo con aceitunas estilo kalamata\n\n\nPan de molde\n\n\nMolletes\n\n\nElaboración de masa madre desde dos tipos distintos de harina\n\n\n\n\n \nCuriosidades sobre el pan \n\nEl pan forma parte de un montón de rituales religiosos como el Matzoh o el pan de Misa.\nDicen que los primeros panes se elaboraban con harina de bellota\nLa palabra ‘Compañero’ viene del latín y significa “con el que se comparte pan”\nBelén\, el lugar donde nació Jesucristo\, quiere decir ‘casa del pan’\nEn la Antigua Roma existían hornos públicos para cocer pan.\nAl pan elaborado sin levadura se le llamaba ácimo\, que era considerado un manjar en el mundo griego\n¿Sabías que el horno de mayor antigüedad para la cocción de pan data\, nada más y nada menos\, que del año 4.000 a.d.C. ? Fue encontrado  en Babilonia.\nLa cerveza también es conocida como ‘Pan líquido” porque en la antigüedad se hacía con cebada.\nEl pan proviene del latín pannus que significa masa blanca\n\nTe esperamos en nuestro curso de pan.
URL:https://apuntococina.com/cursodecocina/curso-de-pan-principios-basicos-2-2/
LOCATION:A Punto Madrid Centro\, Calle farmacia 6\, Madrid\, 28004\, España
CATEGORIES:Cursos de pan
ATTACH;FMTTYPE=image/png:https://apuntococina.com/wp-content/uploads/2019/03/Curso-de-panadería-A-Punto.png
END:VEVENT
END:VCALENDAR