BEGIN:VCALENDAR
VERSION:2.0
PRODID:-//A Punto - ECPv6.15.18//NONSGML v1.0//EN
CALSCALE:GREGORIAN
METHOD:PUBLISH
X-ORIGINAL-URL:https://apuntococina.com
X-WR-CALDESC:Eventos para A Punto
REFRESH-INTERVAL;VALUE=DURATION:PT1H
X-Robots-Tag:noindex
X-PUBLISHED-TTL:PT1H
BEGIN:VTIMEZONE
TZID:Europe/Paris
BEGIN:DAYLIGHT
TZOFFSETFROM:+0100
TZOFFSETTO:+0200
TZNAME:CEST
DTSTART:20250330T010000
END:DAYLIGHT
BEGIN:STANDARD
TZOFFSETFROM:+0200
TZOFFSETTO:+0100
TZNAME:CET
DTSTART:20251026T010000
END:STANDARD
BEGIN:DAYLIGHT
TZOFFSETFROM:+0100
TZOFFSETTO:+0200
TZNAME:CEST
DTSTART:20260329T010000
END:DAYLIGHT
BEGIN:STANDARD
TZOFFSETFROM:+0200
TZOFFSETTO:+0100
TZNAME:CET
DTSTART:20261025T010000
END:STANDARD
BEGIN:DAYLIGHT
TZOFFSETFROM:+0100
TZOFFSETTO:+0200
TZNAME:CEST
DTSTART:20270328T010000
END:DAYLIGHT
BEGIN:STANDARD
TZOFFSETFROM:+0200
TZOFFSETTO:+0100
TZNAME:CET
DTSTART:20271031T010000
END:STANDARD
END:VTIMEZONE
BEGIN:VEVENT
DTSTART;TZID=Europe/Paris:20260221T160000
DTEND;TZID=Europe/Paris:20260221T183000
DTSTAMP:20260421T013522
CREATED:20200103T151714Z
LAST-MODIFIED:20260219T123953Z
UID:65849-1771689600-1771698600@apuntococina.com
SUMMARY:Curso de carnes: cortes\, preparados y salsas 21/02/26
DESCRIPTION:Curso de carnes y sus cortes\, preparados y salsas\nSe trata de piezas poco comunes pero verás que\, con nuestro curso de carnes y sus cortes\, aprenderás a preparar las carnes más tiernas y lucirte en casa. Nos interesa mucho enseñarte a pedir los cortes de carnes más apropiados a tu carnicero. Que no te de miedo a elegir falda\, llana o tapilla. Además\, durante la clase\, Ana Lorente –nuestra experta en vinos- habrá elegido una botella que maride perfectamente con lo que vais a preparar. Al terminar la clase\, os podréis comer los platos que hayáis elaborado o llevaros a casa lo que haya sobrado\, si es que esto ocurre. ¡Ah! Y el delantal también os lo podéis quedar de recuerdo. \n¿Qué vas a preparar en el curso de carnes y sus cortes?\n\n\nPollo al horno con patatas risoladas\nSteak tartare con chips de plátano macho\nVitello tonnato con su salsa de atún\nAlbóndigas en su salsa tradicional y su versión especiada en salsa de yogur\n\n\n¿Necesitas más razones para apuntarte a un curso de cocina? No te preocupes\, en este artículo te damos 10.
URL:https://apuntococina.com/cursodecocina/curso-de-carnes-cortes-preparados-y-salsas/
LOCATION:A Punto Madrid Centro\, Calle farmacia 6\, Madrid\, 28004\, España
CATEGORIES:Cursos de cocina tradicional
ATTACH;FMTTYPE=image/png:https://apuntococina.com/wp-content/uploads/2019/08/Curso-de-cocina-andaluza-rabo-de-toro.png
END:VEVENT
END:VCALENDAR