BEGIN:VCALENDAR
VERSION:2.0
PRODID:-//A Punto - ECPv6.15.18//NONSGML v1.0//EN
CALSCALE:GREGORIAN
METHOD:PUBLISH
X-WR-CALNAME:A Punto
X-ORIGINAL-URL:https://apuntococina.com
X-WR-CALDESC:Eventos para A Punto
REFRESH-INTERVAL;VALUE=DURATION:PT1H
X-Robots-Tag:noindex
X-PUBLISHED-TTL:PT1H
BEGIN:VTIMEZONE
TZID:Europe/Paris
BEGIN:DAYLIGHT
TZOFFSETFROM:+0100
TZOFFSETTO:+0200
TZNAME:CEST
DTSTART:20250330T010000
END:DAYLIGHT
BEGIN:STANDARD
TZOFFSETFROM:+0200
TZOFFSETTO:+0100
TZNAME:CET
DTSTART:20251026T010000
END:STANDARD
BEGIN:DAYLIGHT
TZOFFSETFROM:+0100
TZOFFSETTO:+0200
TZNAME:CEST
DTSTART:20260329T010000
END:DAYLIGHT
BEGIN:STANDARD
TZOFFSETFROM:+0200
TZOFFSETTO:+0100
TZNAME:CET
DTSTART:20261025T010000
END:STANDARD
BEGIN:DAYLIGHT
TZOFFSETFROM:+0100
TZOFFSETTO:+0200
TZNAME:CEST
DTSTART:20270328T010000
END:DAYLIGHT
BEGIN:STANDARD
TZOFFSETFROM:+0200
TZOFFSETTO:+0100
TZNAME:CET
DTSTART:20271031T010000
END:STANDARD
END:VTIMEZONE
BEGIN:VEVENT
DTSTART;TZID=Europe/Paris:20260201T193000
DTEND;TZID=Europe/Paris:20260201T220000
DTSTAMP:20260423T103059
CREATED:20190410T104738Z
LAST-MODIFIED:20260120T122331Z
UID:57590-1769974200-1769983200@apuntococina.com
SUMMARY:Curso de cocina árabe 1/2/26
DESCRIPTION:Curso de cocina árabe en Madrid \n¿QUÉ PREPARAREMOS? \nTajine de cordero\nCous-cous (al microondas)\nKibbeh ( croqueta de carne de cordero y bulgur)\nBrick de huevo\nBaklava\n \n\n\n\nEn A Punto te damos algunos apuntes sobre la gastronomía árabe:\nLa región del Magreb está formada por Marruecos\, Argelia\, Túnez\, Sahara Occidental\, Libia y Mauritania. Además\, han acogido a lo largo de la historia\, culturas como la fenicia\, cartaginesa\, romana y colonizaciones europeas. \nPero son los “bereberes” autóctonos los que mantienen las tradiciones\, sobre todo culinarias. \nEn la cocina marroquí\, se siguen manteniendo técnicas de elaboración y utensilios de cocina como el tajín y la cuscusera. \nProductos de uso común como la miel\, las habas\, las lentejas o el trigo proceden de las tribus nómadas bereberes. \nLos fenicios introdujeron las aceitunas y las uvas y los romanos convirtieron al Magreb en su granero. \nLa afición por las nueces y los dátiles\, el uso de las especias y la elaboración de sofisticados postres puede provenir de los pueblos persas. \nLa actual gastronomía marroquí\, es el resultado de años de convivencia con diferentes culturas\, con sus diferentes maneras de entender y utilizar los productos. \nTambién viene determinada por la influencia del Islam\, no comer cerdo\, no a las bebidas alcohólicas\, incluido el vino y la obligación al ayuno durante el Ramadán\, influye de manera determinante en los usos alimenticios de un país. \nUn plato muy ligado al ramadán\, es la Harira\, una sopa muy nutritiva\, a base de carne\, tomate y legumbres\, que se toma todos los días\, pero adquiere mayor relevancia\, cuando se toma para la ruptura del ayuno. \n\n\n\n\n\n\nLa utilización de especias\, es otra de las características de esta gastronomía. Ras al hanut es una mezcla de especias y hierbas entre 4 y 40\, suele llevar pimienta\, comino\, cardamomo\, nuez moscada\, canela\, pimentón\, jengibre…\, así que hay tantas como elaboradoras. \nLos dulces\, forman una parte muy importante de la gastronomía marroquí\, miel\, dátiles\, almendras y pistachos\, son los principales ingredientes de esas delicias dulces\, cuernos de gacela (kaab el-ghzal)\, hojaldres rellenos\, en forma de cigarro o de triángulo (briouat)…
URL:https://apuntococina.com/cursodecocina/curso-de-cocina-arabe/
LOCATION:A Punto Madrid Centro\, Calle farmacia 6\, Madrid\, 28004\, España
CATEGORIES:Cursos cocina del mundo
ATTACH;FMTTYPE=image/jpeg:https://apuntococina.com/wp-content/uploads/2019/04/Curso-de-street-food-árabe.jpg
END:VEVENT
END:VCALENDAR