BEGIN:VCALENDAR
VERSION:2.0
PRODID:-//A Punto - ECPv6.15.18//NONSGML v1.0//EN
CALSCALE:GREGORIAN
METHOD:PUBLISH
X-ORIGINAL-URL:https://apuntococina.com
X-WR-CALDESC:Eventos para A Punto
REFRESH-INTERVAL;VALUE=DURATION:PT1H
X-Robots-Tag:noindex
X-PUBLISHED-TTL:PT1H
BEGIN:VTIMEZONE
TZID:Europe/Paris
BEGIN:DAYLIGHT
TZOFFSETFROM:+0100
TZOFFSETTO:+0200
TZNAME:CEST
DTSTART:20220327T010000
END:DAYLIGHT
BEGIN:STANDARD
TZOFFSETFROM:+0200
TZOFFSETTO:+0100
TZNAME:CET
DTSTART:20221030T010000
END:STANDARD
BEGIN:DAYLIGHT
TZOFFSETFROM:+0100
TZOFFSETTO:+0200
TZNAME:CEST
DTSTART:20230326T010000
END:DAYLIGHT
BEGIN:STANDARD
TZOFFSETFROM:+0200
TZOFFSETTO:+0100
TZNAME:CET
DTSTART:20231029T010000
END:STANDARD
BEGIN:DAYLIGHT
TZOFFSETFROM:+0100
TZOFFSETTO:+0200
TZNAME:CEST
DTSTART:20240331T010000
END:DAYLIGHT
BEGIN:STANDARD
TZOFFSETFROM:+0200
TZOFFSETTO:+0100
TZNAME:CET
DTSTART:20241027T010000
END:STANDARD
END:VTIMEZONE
BEGIN:VEVENT
DTSTART;TZID=Europe/Paris:20230220T193000
DTEND;TZID=Europe/Paris:20230220T220000
DTSTAMP:20260422T103500
CREATED:20190829T162611Z
LAST-MODIFIED:20230214T104900Z
UID:61691-1676921400-1676930400@apuntococina.com
SUMMARY:Curso de cocina: Andalucía\, fritos y especias 20/2/23
DESCRIPTION:Curso de cocina: Andalucía\, fritos y especias \n¿QUÉ PREPARAREMOS? \nLas frituras de verduras y pescados con distintas harinas\nRiñones al Jerez\nHot dog de atún con salsa de almendras picante\nCarrilleras  estofadas a los tres vinos\nLa gastronomía andaluza es muy rica y variada\, ya que suelen usar un montón de ingredientes distintos y una materia prima excepcional. Pescados\, mariscos\, carnes\, verduras\, frutos secos… Pero el rey de la cocina andaluza es el aceite de oliva. Y con él\, una de las técnicas que más se utiliza es la fritura\, que se hace habitualmente utilizando solo harina\, nada de huevo\, y la harina suele ser de pescado si es para el pescaíto frito\, o harina de almorzar. \nEn nuestro curso de cocina: Andalucía\, fritos y especias\, aprenderéis a preparar esos cuatro platos\, y al terminarlos os los podréis comer aquí o llevar a casa. Además\, tendréis un vino para acompañar en la clase\, seleccionado por nuestra experta en vinos\, Ana Lorente\, que os elegirá de nuestra bodega uno que maride perfectamente con vuestros platos. Y si os enamoráis del vino\, os recordamos que lo podréis comprar en nuestra tienda\, aprovechando además\, que ese día\, por haberos apuntado al curso\, tenéis un 5% de descuento. \n¡Os esperamos! \n  \n 
URL:https://apuntococina.com/cursodecocina/curso-de-cocina-andalucia-fritos-y-especias/
LOCATION:A Punto Madrid Centro\, Calle farmacia 6\, Madrid\, 28004\, España
CATEGORIES:Cursos de cocina tradicional
ATTACH;FMTTYPE=image/png:https://apuntococina.com/wp-content/uploads/2019/08/Curso-de-cocina-andaluza-rabo-de-toro.png
END:VEVENT
END:VCALENDAR