BEGIN:VCALENDAR
VERSION:2.0
PRODID:-//A Punto - ECPv6.15.18//NONSGML v1.0//EN
CALSCALE:GREGORIAN
METHOD:PUBLISH
X-ORIGINAL-URL:https://apuntococina.com
X-WR-CALDESC:Eventos para A Punto
REFRESH-INTERVAL;VALUE=DURATION:PT1H
X-Robots-Tag:noindex
X-PUBLISHED-TTL:PT1H
BEGIN:VTIMEZONE
TZID:Europe/Paris
BEGIN:DAYLIGHT
TZOFFSETFROM:+0100
TZOFFSETTO:+0200
TZNAME:CEST
DTSTART:20210328T010000
END:DAYLIGHT
BEGIN:STANDARD
TZOFFSETFROM:+0200
TZOFFSETTO:+0100
TZNAME:CET
DTSTART:20211031T010000
END:STANDARD
BEGIN:DAYLIGHT
TZOFFSETFROM:+0100
TZOFFSETTO:+0200
TZNAME:CEST
DTSTART:20220327T010000
END:DAYLIGHT
BEGIN:STANDARD
TZOFFSETFROM:+0200
TZOFFSETTO:+0100
TZNAME:CET
DTSTART:20221030T010000
END:STANDARD
BEGIN:DAYLIGHT
TZOFFSETFROM:+0100
TZOFFSETTO:+0200
TZNAME:CEST
DTSTART:20230326T010000
END:DAYLIGHT
BEGIN:STANDARD
TZOFFSETFROM:+0200
TZOFFSETTO:+0100
TZNAME:CET
DTSTART:20231029T010000
END:STANDARD
END:VTIMEZONE
BEGIN:VEVENT
DTSTART;TZID=Europe/Paris:20221124T193000
DTEND;TZID=Europe/Paris:20221124T220000
DTSTAMP:20260423T121314
CREATED:20190903T151045Z
LAST-MODIFIED:20221017T090436Z
UID:61830-1669318200-1669327200@apuntococina.com
SUMMARY:Curso de cocina: cena Thanksgiving Day 24/11/22
DESCRIPTION:Curso de cocina: cena Thanksgiving Day \n¿QUÉ PREPARAREMOS? \nPavo de acción de gracias con su relleno y su “gravy”\nEl puré de patatas perfecto\nSalsa de arándanos\nPumpkin pie\nEn A Punto Escuela de Cocina\, todos nuestros cursos son en grupos reducidos para que te podamos atender de la forma más personalizada posible. También son totalmente prácticos\, es decir\, nada de venir a escuchar. Aquí\, nada más llegar\, te daremos un delantal que después te puedes llevar a casa\, tendrás tu tabla\, tu cuchillo\, y los platos los prepararéis entre todos. Así que\, prepárate para ponerte manos a obra: cortar\, pelar\, freír\, saltear\, hervir… \nTodos nuestros chefs cuentan con una gran experiencia\, tanto en cocina como impartiendo clases. Así\, además de enseñaros a preparar increíbles platos\, os completará la clase con anécdotas\, curiosidades\, trucos de cocina y consejos para aprovechar hasta el último ingrediente\, ya que un buen cocinero no tira nada. \nRecuerda que ese día del curso tienes un 5% de descuento en nuestra tienda\, tanto en libros de gastronomía\, como en utensilios de cocina o vinos de nuestra bodega. En nuestra librería podrás encontrar la mejor selección de libros de gastronomía\, tanto nacional como internacional\, en idiomas\, recetarios\, ensayo\, novela gastronómica… \nTe esperamos en el curso de cocina: cena Thanksgiving Day \n 
URL:https://apuntococina.com/cursodecocina/curso-de-cocina-thanksgiving-day/
LOCATION:A Punto Madrid Centro\, Calle farmacia 6\, Madrid\, 28004\, España
CATEGORIES:Cursos cocina del mundo
ATTACH;FMTTYPE=image/png:https://apuntococina.com/wp-content/uploads/2019/09/Curso-de-cocina-cena-Thanksgiving-Day-en-A-Punto.png
END:VEVENT
END:VCALENDAR