BEGIN:VCALENDAR
VERSION:2.0
PRODID:-//A Punto - ECPv6.15.18//NONSGML v1.0//EN
CALSCALE:GREGORIAN
METHOD:PUBLISH
X-ORIGINAL-URL:https://apuntococina.com
X-WR-CALDESC:Eventos para A Punto
REFRESH-INTERVAL;VALUE=DURATION:PT1H
X-Robots-Tag:noindex
X-PUBLISHED-TTL:PT1H
BEGIN:VTIMEZONE
TZID:Europe/Paris
BEGIN:DAYLIGHT
TZOFFSETFROM:+0100
TZOFFSETTO:+0200
TZNAME:CEST
DTSTART:20210328T010000
END:DAYLIGHT
BEGIN:STANDARD
TZOFFSETFROM:+0200
TZOFFSETTO:+0100
TZNAME:CET
DTSTART:20211031T010000
END:STANDARD
BEGIN:DAYLIGHT
TZOFFSETFROM:+0100
TZOFFSETTO:+0200
TZNAME:CEST
DTSTART:20220327T010000
END:DAYLIGHT
BEGIN:STANDARD
TZOFFSETFROM:+0200
TZOFFSETTO:+0100
TZNAME:CET
DTSTART:20221030T010000
END:STANDARD
BEGIN:DAYLIGHT
TZOFFSETFROM:+0100
TZOFFSETTO:+0200
TZNAME:CEST
DTSTART:20230326T010000
END:DAYLIGHT
BEGIN:STANDARD
TZOFFSETFROM:+0200
TZOFFSETTO:+0100
TZNAME:CET
DTSTART:20231029T010000
END:STANDARD
END:VTIMEZONE
BEGIN:VEVENT
DTSTART;TZID=Europe/Paris:20220407T190000
DTEND;TZID=Europe/Paris:20220407T210000
DTSTAMP:20260422T205815
CREATED:20210608T140153Z
LAST-MODIFIED:20220405T071506Z
UID:85303-1649358000-1649365200@apuntococina.com
SUMMARY:Curso online de batch cooking 7/4/22
DESCRIPTION:Curso online de batch cooking para preparar tu menú para toda la semana \nAprender a comer de manera equilibrada y sana es mucho más fácil si consigues planificar tus actividades en la cocina. Con este curso de 1 hora y media de duración totalmente online podrás preparar 4 comidas y 4 cenas para poder olvidarte de cocinar en toda la semana \n1 semana antes del curso recibirás la lista de la compra y las recetas en cantidades para 2 personas ( podrás cocinar para más personas si aumentas la cantidad de ingredientes respetando las proporciones que te indicamos) \n  \nAquí todas las recetas que prepararemos en el curso online de batchcooking en menos de 2 horas  de 19 a 20.30\n  \nProteínas:  lubina\, lentejas\, solomillo de cerdo\, alitas de pollo\, huevo \nVegetales: Tomate\, remolacha\, maíz\, zanahoria\, brotes verdes \nSalsas: spicy mayo\, lactonesa cesar\, pesto de piquillos\, aliño ponzu\, yogur \nHidratos: Arroz integral\, Patata\, pasta corta \n  \nDia 1 \n\nPoke de lubina con arroz integral\, ensaladita fresca y aliño ponzu\nAlitas de pollo con ensaladilla de lentejas y salsa spicy mayo.\n\nDia 2 \n\nGazpacho de tomate y remolacha / Ensaladilla de lentejas\nCerdo glaseado con ensalada cesar\n\nDia 3  \n\nroll de huevo con tomates confitados y ensalada de zanahoria y remolacha\nLubina al horno con ensaladilla rusa y pesto de piquillos\n\nDia 4 \n\nEnsaladilla de lentejas con lubina aliño cesar.\nAlitas de pollo con arroz y con raita de remolachas\n\nIngredientes: \nTrabajaremos con un equilibrio entre todos los tipos de ingredientes que todo el mundo debería consumir a lo largo de una semana. El menú estará muy centrado en productos baratos\, fáciles de encontrar en cualquier superficie\, saludables y perfecto para la temporada del año en la que estamos  \nProteínas:  lubina\, lentejas\, solomillo de cerdo\, alitas de pollo\, huevo \nVegetales: Tomate\, remolacha\, maíz\, zanahoria\, brotes verdes \nSalsas: spicy mayo\, lactonesa cesar\, pesto de piquillos\, aliño ponzu. \nHidratos: Arroz integral\, Patata\, pasta corta \nSi estás en Madrid\, deberías echar un vistazo a nuestros cursos de cocina presenciales \nTe apetece aprender más sobre cocina\, además de este curso online de batch cooking\, desde la cocina de tu casa? Aquí nuestros cursos online
URL:https://apuntococina.com/cursodecocina/curso-online-de-batch-cooking-2/
LOCATION:CURSO ONLINE
CATEGORIES:Cursos de cocina online
ATTACH;FMTTYPE=image/jpeg:https://apuntococina.com/wp-content/uploads/2021/06/curso-online-batch-cooking-.jpg
END:VEVENT
END:VCALENDAR